{"text_format":"1","workbook":"xlsx","n_sheets":6,"sheets":["NCAA Eye Chart (All Teams)","NCAA Tournament Teams Eye Chart","P2010","P2012","Bracket","Select a Team PMEC"],"not_rendered":{"charts":0,"images":2,"macros":1,"external_links":1,"defined_names":9,"comments":0,"pivot_tables":0},"unopened":[],"bounds":{"document_bytes":16777216,"sheet_cells":100000,"rows_first":2000,"rows_last":500,"rows_between":2000,"halvings":0,"cell_chars":16384,"cell_head_chars":4096},"cells_cut":0,"cells_raw":0,"read":"whole","date_system":"1900"}

{"sheet":"NCAA Eye Chart (All Teams)","index":0,"n_rows":37,"n_cols":349,"rows_kept":37,"cut":false,"hidden":true,"merged":[]}
["2012 NCAA March Madness \"Eye Chart\""]
["Performance Management \"Eye Chart\"™                                                                                            NCAA March Madness 2012  338 Teams","Binghamton","South Carolina St.","Grambling","Alabama A&M","UC Davis","Northern Ill.","Longwood","Alcorn St.","UMBC","Northern Ariz.","Chicago St.","Kennesaw St.","Fairleigh Dickinson","Southeastern La.","Canisius","Navy","Radford","UT Martin","Florida A&M","Dartmouth","Citadel","Cal St. Northridge","Houston Baptist","A&M-Corpus Chris","Arkansas St.","La.-Monroe","Central Ark.","Sacramento St.","Jackson St.","Brown","Saint Francis (PA)","Hampton","NJIT","Md.-East. Shore","Hartford","Towson","Loyola Chicago","Alabama St.","Chattanooga","Prairie View","Colgate","Army","Ill.-Chicago","Saint Peter's","Morgan St.","New Hampshire","Southern U.","Tex.-Pan American","William & Mary","Gardner-Webb","Howard","Santa Clara","Mt. St. Mary's","Eastern Ill.","Central Mich.","Nicholls St.","Pacific","Liberty","Maine","VMI","IPFW","N.C. A&T","Idaho St.","Winthrop","Texas St.","San Jose St.","Sam Houston St.","Montana St.","High Point","UC Irvine","Utah","Stetson","Coppin St.","UMKC","Appalachian St.","Jacksonville","Pepperdine","Samford","Bethune-Cookman","Hofstra","Bradley","Northern Colo.","Southern California","Troy","Southern Ill.","Ave. Bottom Quartile Team","Southeast Mo. St.","Ball St.","James Madison","Rhode Island","Arizona St.","UC Riverside","N.C. Central","Arkansas","Furman","Southern Utah","Toledo","Texas Southern","Western Caro.","Elon","FIU","Fla. Gulf Coast","UNC Greensboro","Sacred Heart","Miami (OH)","Boston College","Texas Tech","Siena","Monmouth","Portland","Central Conn. St.","Eastern Mich.","Marist","Jacksonville St.","Stephen F. Austin","Lipscomb","Western Ky.","UNC Wilmington","SMU","Fordham","Albany (NY)","Northwestern St.","Wright St.","Eastern Ky.","CSU Bakersfield","Cal Poly","Utah Valley","IUPUI","Eastern Wash.","Lafayette","Houston","Fresno St.","Tulane","Delaware St.","Niagara","St. Francis (NY)","North Texas","UTSA","DePaul","Campbell","Rider","San Diego","Fla. Atlantic","Ga. Southern","Louisiana Tech","Hawaii","East Carolina","Savannah St.","McNeese St.","East Tenn. St.","Western Mich.","Western Ill.","Austin Peay","South Carolina","Boston U.","Washington St.","Columbia","La.-Lafayette","Portland St.","Northeastern","South Ala.","North Dakota St.","Morehead St.","Coastal Caro.","Georgia Tech","Youngstown St.","Cornell","George Washington","North Florida","Wofford","Ave. Lower-Middle Quartile Team","Charleston So.","Quinnipiac","UALR","Boise St.","Holy Cross","Air Force","Texas A&M","Charlotte","Wake Forest","Rice","Vermont","Providence","Cal St. Fullerton","Tennessee Tech","Idaho","Utah St.","Oregon St.","Penn St.","Detroit","Mississippi Val.","San Francisco","American","Stony Brook","Delaware","Auburn","Manhattan","Georgia St.","Bowling Green","Evansville","Clemson","Green Bay","Rutgers","Norfolk St.","Oakland","UTEP","Lamar","St. John's (NY)","Drake","UCLA","Indiana St.","Iowa","Nebraska","S.C. Upstate","Illinois St.","Fairfield","Richmond","Tennessee St.","Mercer","Robert Morris","Oklahoma","Butler","UNC Asheville","UC Santa Barbara","Villanova","Milwaukee","Loyola Marymount","Old Dominion","Missouri St.","Oklahoma St.","Col. of Charleston","UAB","Georgia","Kent St.","Stanford","Duquesne","Lehigh","Virginia Tech","Montana","Maryland","St. Bonaventure","Princeton","Tulsa","Pittsburgh","Yale","LIU Brooklyn","Penn","Buffalo","Tennessee","Denver","TCU","Valparaiso","La Salle","Loyola Maryland","Wagner","Ave. Upper-Middle Quartile Team","Minnesota","Texas-Arlington","George Mason","Ark.-Pine Bluff","Massachusetts","Bucknell","Wyoming","Cleveland St.","Cincinnati","Colorado","Weber St.","Illinois","Ohio","North Carolina St.","New Mexico St.","Ole Miss","Arizona","LSU","Drexel","UCF","Mississippi St.","Davidson","UNI","Marshall","Dayton","VCU","Belmont","Akron","South Dakota St.","Nevada","Texas","Xavier","Oregon","Washington","Saint Joseph's","West Virginia","BYU","Miami (FL)","Middle Tenn.","South Fla.","Kansas St.","Seton Hall","Northwestern","Oral Roberts","Notre Dame","Purdue","Iona","Virginia","Harvard","California","Saint Louis","New Mexico","Long Beach St.","St. Mary's (CA)","Iowa St.","Connecticut","Murray St.","San Diego St.","Colorado St.","Florida St.","Alabama","Creighton","Vanderbilt","Memphis","Louisville","Wisconsin","Florida","Gonzaga","Indiana","Missouri","Michigan","Temple","Southern Miss.","Georgetown","UNLV","Wichita St.","Ohio St.","Baylor","Marquette","Kansas","North Carolina","Michigan St.","Duke","Kentucky","Syracuse","Ave. Upper-Middle Quartile Team","Performance Management \"Eye Chart\"™                                                                                            NCAA March Madness 2012  338 Teams"]
["Games Played",29,27,25,24,28,27,29,28,29,28,28,31,29,27,29,28,31,31,28,28,29,27,28,28,31,29,27,28,27,29,29,28,28,27,29,31,29,27,31,28,29,29,29,30,26,28,29,29,31,31,29,29,29,29,28,27,27,31,28,29,29,29,28,30,28,28,29,27,29,28,28,29,27,31,29,29,28,29,29,31,31,27,29,27,30,{"$f":"SUM(B3:CH3)","v":2430},29,27,31,29,29,29,28,29,29,29,29,27,31,29,28,29,30,31,27,28,28,29,31,29,28,29,30,31,28,30,29,29,29,27,31,29,31,31,30,29,30,31,29,29,27,30,28,26,31,29,29,29,28,31,31,29,29,28,29,28,27,29,27,29,29,28,31,28,31,28,28,30,28,29,27,29,31,29,28,29,26,28,31,31,{"$f":"SUM(CJ3:FO3)","v":2438},29,29,30,27,28,26,28,27,28,29,31,29,27,30,28,29,28,29,31,28,30,29,28,29,28,31,30,28,29,28,29,29,29,31,28,29,29,30,29,30,29,27,31,30,30,30,30,31,31,28,31,30,25,28,31,30,31,31,29,30,27,28,28,29,28,30,29,28,28,26,27,28,29,26,30,28,26,29,29,28,31,29,29,29,{"$f":"SUM(FQ3:IV3)","v":2426},29,28,31,29,28,30,28,31,29,28,27,29,29,29,30,28,30,28,30,28,29,29,31,28,28,31,31,29,31,28,29,28,28,28,30,29,31,27,30,29,28,29,28,31,29,29,30,28,28,30,28,28,28,30,29,28,29,28,27,28,28,30,29,29,29,29,29,28,29,29,29,28,29,27,30,30,29,29,29,29,29,29,29,29,30,{"$f":"SUM(IX3:MD3)","v":2460},"Games Played"]
["Winning %",3.4,14.8,12,25,17.899999999999999,11.1,34.5,32.1,13.8,17.899999999999999,14.3,9.6999999999999993,10.3,37,17.2,10.7,19.399999999999999,12.9,28.6,17.899999999999999,20.7,25.9,32.1,17.899999999999999,38.700000000000003,10.3,29.6,35.700000000000003,25.9,27.6,20.7,35.700000000000003,42.9,25.9,27.6,3.2,24.1,37,35.5,42.9,27.6,41.4,27.6,16.7,26.9,46.4,51.7,37.9,19.399999999999999,38.700000000000003,31,27.6,27.6,41.4,32.1,37,40.700000000000003,45.2,42.9,48.3,37.9,41.4,32.1,36.700000000000003,46.4,32.1,41.4,40.700000000000003,41.4,39.299999999999997,21.4,31,48.1,32.299999999999997,41.4,27.6,35.700000000000003,37.9,44.8,32.299999999999997,22.6,33.299999999999997,20.7,37,26.7,{"$f":"AVERAGE(B4:CH4)","v":29.537647058823545},48.3,48.1,38.700000000000003,20.7,31,44.8,50,62.1,48.3,44.8,51.7,40.700000000000003,45.2,48.3,28.6,44.8,40,45.2,33.299999999999997,28.6,28.6,44.8,38.700000000000003,20.7,46.4,44.8,43.3,45.2,60.7,43.3,37.9,31,41.4,37,58.1,51.7,41.9,51.6,53.3,51.7,66.7,45.2,44.8,41.4,48.1,43.3,53.6,53.8,41.9,51.7,55.2,55.2,39.299999999999997,54.8,41.9,41.4,37.9,50,51.7,53.6,44.4,65.5,55.6,55.2,41.4,53.6,38.700000000000003,35.700000000000003,51.6,50,50,53.3,53.6,44.8,59.3,58.6,54.8,65.5,35.700000000000003,51.7,42.3,35.700000000000003,51.6,61.3,{"$f":"AVERAGE(CJ4:FO4)","v":46.389285714285712},62.1,58.6,50,48.1,53.6,50,46.4,48.1,46.4,55.2,64.5,48.3,70.400000000000006,60,57.1,51.7,53.6,41.4,58.1,60.7,60,65.5,71.400000000000006,58.6,50,64.5,66.7,53.6,51.7,53.6,51.7,44.8,69,54.8,50,62.1,44.8,53.3,55.2,56.7,51.7,44.4,64.5,60,56.7,50,63.3,67.7,71,50,58.1,70,64,39.299999999999997,61.3,63.3,61.3,51.6,48.3,63.3,48.1,46.4,67.900000000000006,65.5,53.6,76.7,51.7,78.599999999999994,57.1,61.5,59.3,60.7,51.7,73.099999999999994,73.3,60.7,65.400000000000006,55.2,72.400000000000006,60.7,67.7,62.1,72.400000000000006,82.8,{"$f":"AVERAGE(FQ4:IV4)","v":58.413095238095224},58.6,78.599999999999994,74.2,27.6,67.900000000000006,73.3,67.900000000000006,71,69,67.900000000000006,85.2,58.6,79.3,62.1,73.3,57.1,70,60.7,83.3,71.400000000000006,65.5,75.900000000000006,61.3,60.7,64.3,80.599999999999994,77.400000000000006,69,77.400000000000006,82.1,62.1,64.3,71.400000000000006,71.400000000000006,63.3,58.6,77.400000000000006,63,83.3,62.1,67.900000000000006,65.5,60.7,83.9,69,65.5,80,75,85.7,76.7,78.599999999999994,78.599999999999994,75,83.3,72.400000000000006,60.7,96.6,78.599999999999994,63,67.900000000000006,67.900000000000006,83.3,69,72.400000000000006,75.900000000000006,72.400000000000006,75.900000000000006,82.1,75.900000000000006,86.2,72.400000000000006,78.599999999999994,79.3,77.8,80,86.7,79.3,82.8,82.8,82.8,86.2,82.8,86.2,96.6,96.7,{"$f":"AVERAGE(IX4:MD4)","v":73.467058823529399},"Winning %",null,null,39.299999999999997,51.7,65.5]
["Scoring Margin",-14.8,-13.9,-19,-8.1,-10.3,-13.3,-9.4,-7.1,-14.1,-8.8000000000000007,-14.6,-13.2,-11.9,-2.7,-10.199999999999999,-7.8,-7.5,-12.4,-8.1,-5.6,-7.6,-6.7,-5.0999999999999996,-9.4,-1.8,-11.3,-11,-2.2000000000000002,-10,-7,-8.8000000000000007,-1.9,2,-10.5,-7.7,-18.600000000000001,-5.6,-5.7,2,-2.4,-10.4,-1.6,-6.7,-11.1,-3.3,-1,-3.6,-5.7,-9.1,-0.8,-9.8000000000000007,-5.4,-6.8,-3,-5,-9.6,-2.6,-2.2000000000000002,0.6,-1.8,-4.8,-2.4,-6.9,-2.4,2.4,-4.9000000000000004,-1.2,-2,1.4,-3.4,-13.3,-6.4,-1.4,-6.6,-1.9,-7.2,-6.1,-3.4,-2.7,-0.8,-9.1999999999999993,-3.1,-6.4,-4.4000000000000004,-6.2,{"$f":"AVERAGE(B5:CH5)","v":-6.4035294117647057},0.6,2,-3.5,-7.8,-5.2,-3.6,7.1,3.7,-0.2,-1.9,3.4,-2.9,0.2,-1.4,-4,0,-7.7,-1,-3.1,-8.9,-7.3,-2.7,-8.4,-11.1,0,-5.0999999999999996,-4.7,1.5,7,-1.8,-3.9,-6,0.1,-8.8000000000000007,3.1,0.2,-3,0.5,-0.9,3.3,4.3,0.4,1.1000000000000001,-2.8,-0.7,0.5,5.2,1.9,-4,1,5.8,5.3,-2.8,0.8,-3,-4,-1.9,-1.1000000000000001,0.9,-0.1,3.7,4.7,1.8,3,-1.9,1.5,-3.3,-3.3,0.5,3.2,3.3,1.4,3.1,-3,-0.3,5.4,1.5,7.8,-2.1,1.7,-2.8,-4,-3.1,2.1,{"$f":"AVERAGE(CJ5:FO5)","v":-0.64880952380952384},5.3,4.4000000000000004,-0.4,3.4,-1.6,1.7,0.2,-0.7,-4.0999999999999996,3.7,6.7,0.8,7.9,1.8,1.9,3,6.4,-2.8,4.2,-0.8,4.5999999999999996,3,8.3000000000000007,1.4,-1.3,6.3,7.9,3.4,1.8,4.5999999999999996,-1,0.4,2,1.2,1.1000000000000001,7.7,-3.5,0,5.3,-0.2,1,-3.8,3.5,4,4.2,1.8,1.8,5.5,5,1.2,2.1,8.6,5,-0.2,2.5,3.4,4.3,3.3,-0.2,2.9,-1,-1.3,5.6,7.7,1.2,11,3.6,8.4,-1.6,6.3,3.8,4,2.4,5.9,3.9,0.6,6.1,3.7,7.9,1.9,3.8,7.7,3.2,9.6,{"$f":"AVERAGE(FQ5:IV5)","v":3.0273809523809527},3.1,10.1,6.1,-10.4,5.2,7.1,8.5,6.8,8.1,6.1,10.9,2.4,9.3000000000000007,5,10.4,0.4,7.4,2.5,9.3000000000000007,4.9000000000000004,4.5999999999999996,10.4,3.9,3.1,4.5,8.6999999999999993,14.4,7.3,10.6,6.3,7.4,4.0999999999999996,3.8,5.2,4.3,5.4,12.8,4.8,10.8,2.5,7.9,5.7,2.1,7.6,6.5,6.6,10.9,10.5,11,11.2,12.4,14,9.3000000000000007,13.1,7.3,4.8,13.1,8.6,2,7.8,7.8,10.199999999999999,7.8,10.199999999999999,8.4,12,12.5,10.3,12.1,14.5,5.9,6.2,7.8,10.9,12,15.5,17.100000000000001,10.9,11.1,13.8,15.8,14.7,10.6,19,15.2,{"$f":"AVERAGE(IX5:MD5)","v":8.385882352941179},"Scoring Margin",null,null,-3.1,1.45,5.5749999999999993]
["Rebound Margin",-3.5,-1.6,-5.6,-2.4,-5,3.3,-4.9000000000000004,-6.1,-2.7,-1,-2.7,-6.8,-3.3,1.2,-2.1,-0.9,-4.0999999999999996,-2.5,-3.8,-0.4,-1.6,-1.6,-3.3,-3,1.9,-4.0999999999999996,-3.6,1.5,-2,-5.5,-6,-1.6,-1.4,0.7,-7,1.6,0.2,-2.5,2.6,2.1,-1.4,-4,1.1000000000000001,-6,-2.5,-1.8,-6.3,-4.9000000000000004,-3.5,2.4,0.1,-3.3,0.1,-1.7,-4,-6.4,-4,1.4,-2.1,-6.9,1.9,-3.2,-3.9,0.5,-2.2999999999999998,-4.8,1.6,-0.6,-0.9,-0.6,-5.0999999999999996,0.3,-4.3,-6,-0.5,0.3,3.1,-3.5,-2.7,0.1,-4.3,5.2,-8.6,-2.6,-1.4,{"$f":"AVERAGE(B6:CH6)","v":-2.158823529411765},2,1.5,-5.0999999999999996,2.7,1.8,-1.6,0.1,-3.1,1.9,2.7,-0.8,-1.6,-0.2,-2.5,-1.7,0.5,-1.1000000000000001,0,-1.7,-6.3,-2.1,2,-7.2,-0.5,-2.8,-3,-1,-0.5,7.1,-3,-1.4,0.3,-4.7,0.1,2.6,-3.8,-4.0999999999999996,-3.9,0.5,4.8,4.2,-0.7,-2.7,-5.6,1.5,-3.7,1.9,-6.3,-3.9,2.7,4.9000000000000004,-2.8,-6.8,1.3,-2.9,-3.9,-1.8,-1.1000000000000001,-0.6,3.3,-0.3,4.4000000000000004,1.3,0.6,5.0999999999999996,-0.9,-1.7,-1.9,0.2,1.6,2.2000000000000002,3.2,3.4,-0.9,7.5,1.6,2.6,6.3,3.8,-4.2,-5.7,-0.6,-0.5,2.5,{"$f":"AVERAGE(CJ6:FO6)","v":-0.31547619047619024},1.6,10.8,-2.2000000000000002,2.9,0.1,-5.2,1.5,-1,-3.7,1.1000000000000001,3.6,1.4,6,2.6,2.4,0,-0.4,2.8,2.1,0.5,1.2,-1.1000000000000001,7.6,-0.4,-0.4,3,0.9,1,-5.2,0.7,1.2,1.3,1.8,-0.4,-0.5,5.6,-3.6,-1.9,3,0,0.4,-0.6,4.5999999999999996,2.7,0.7,-6.1,2.6,1,4.5,4,3.4,1.3,3.9,4.4000000000000004,1.4,-0.2,6,1.2,-4.9000000000000004,-3.3,3.4,-1.4,-0.6,6,-7.4,2.1,0.1,-1,1.8,5,0.1,6.1,7.7,5,2.9,-3,7.5,3.4,-4.2,-0.6,1,-3.2,3.8,1.1000000000000001,{"$f":"AVERAGE(FQ6:IV6)","v":1.2297619047619046},3,4.3,1.7,-3,1,6.6,-0.8,0.2,0.9,4.5999999999999996,2,1.8,0.1,4.7,8.1,3.1,2.2000000000000002,0.9,5.8,4.4000000000000004,3.2,7.1,-0.8,7.4,3.8,-0.5,2.6,2.2000000000000002,2.2999999999999998,3.2,3.3,2.8,1.2,4.9000000000000004,2.4,6,4.7,-0.3,2.8,3.3,5.4,1.7,-5.0999999999999996,3.9,-0.2,-0.8,1.1000000000000001,3.6,4.5999999999999996,4.3,1.5,6.7,2.6,7.2,4.5,4,2.1,4.9000000000000004,1,4.3,2.2999999999999998,5.5,1.6,1.2,2.5,2.9,3.2,6.9,4.0999999999999996,1,-0.6,0.7,4.5999999999999996,5.6,4.2,6.5,6.9,5,-0.4,6.1,11.4,9.6,3.3,7.3,-0.8,{"$f":"AVERAGE(IX6:MD6)","v":3.1894117647058819},"Rebound Margin",null,null,-1.9750000000000001,0.55000000000000004,2.9]
["Strength of Schedule",317,336,341,338,318,252,339,343,313,272,279,221,257,330,299,193,234,208,319,212,226,308,286,260,175,194,295,322,291,237,218,333,329,276,310,91,245,335,231,331,248,321,210,157,258,342,344,247,148,311,264,165,265,315,262,287,282,300,326,324,217,307,228,241,292,197,229,306,255,211,69,177,314,188,242,160,209,205,323,144,82,166,83,203,117,{"$f":"AVERAGE(B7:CH7)","v":253.58823529411765},296,312,224,98,132,267,316,62,290,243,301,297,266,278,152,253,199,269,109,79,72,227,202,64,259,238,196,213,320,198,137,128,130,139,334,275,158,268,283,289,340,162,236,187,164,169,216,303,163,288,239,298,114,305,153,113,125,220,178,180,81,332,250,270,112,190,106,36,219,145,167,201,223,161,235,232,184,273,75,183,111,59,189,284,{"$f":"AVERAGE(CJ7:FO7)","v":202.9047619047619},277,254,137,89,206,70,65,138,80,134,274,92,328,195,147,103,127,33,172,304,155,302,325,192,71,251,240,140,88,118,110,51,293,131,76,215,26,97,87,136,73,39,230,135,142,84,186,256,281,46,122,214,171,5,159,116,124,68,22,151,56,16,168,143,61,309,35,222,55,129,126,107,30,225,271,95,133,34,185,77,149,121,207,263,{"$f":"AVERAGE(FQ7:IV7)","v":144.88095238095238},37,280,200,337,123,204,105,150,100,86,246,29,182,25,115,44,99,60,261,94,67,154,53,40,58,181,191,108,176,156,31,43,78,74,47,12,104,32,173,19,52,41,10,174,45,23,146,85,170,96,102,90,120,119,48,2,179,63,4,13,15,101,6,18,28,17,49,93,27,66,9,42,57,14,50,54,11,21,20,8,7,1,3,38,24,{"$f":"AVERAGE(IX7:MD7)","v":81.588235294117652},"Strength of Schedule",null,null,85.25,169.5,256.75]
["Ratings Percentage Index",344,343,342,341,340,339,337,336,335,334,333,332,331,330,329,328,327,326,325,324,323,322,321,320,319,318,317,316,315,314,313,312,311,310,309,308,307,306,305,303,302,301,300,299,298,297,296,295,294,293,292,291,289,288,287,286,285,284,283,281,280,279,278,276,275,274,273,272,271,270,269,268,267,266,265,264,263,262,261,260,259,258,257,256,255,{"$f":"AVERAGE(B8:CH8)","v":299.57647058823528},254,253,252,251,250,249,248,247,246,245,243,242,241,240,239,238,237,236,235,234,233,232,231,230,229,228,227,226,225,224,223,222,221,220,219,218,217,216,215,214,213,212,211,210,209,208,207,206,205,204,203,202,201,200,199,198,197,196,195,194,193,192,191,190,189,188,187,186,185,184,183,182,181,180,179,178,177,176,175,174,173,172,171,170,{"$f":"AVERAGE(CJ8:FO8)","v":211.61904761904762},169,168,167,166,165,163,163,162,161,160,159,158,157,156,155,154,153,152,151,150,149,148,147,146,145,144,143,142,141,140,139,138,137,136,135,134,133,132,131,130,129,128,127,126,125,124,123,122,121,120,119,118,117,116,115,114,113,112,111,110,109,108,107,106,105,104,103,102,101,100,99,98,97,96,95,94,93,92,91,90,89,88,87,86,{"$f":"AVERAGE(FQ8:IV8)","v":127.48809523809524},85,84,83,82,81,80,79,78,77,76,75,74,73,72,71,70,69,68,67,66,65,64,63,62,61,60,59,58,57,56,55,54,53,52,51,50,49,48,47,46,45,44,43,42,41,40,39,38,37,36,35,34,33,32,31,30,29,28,27,26,25,24,23,22,21,20,19,18,17,16,15,14,13,12,11,10,9,8,7,6,5,4,3,2,1,{"$f":"AVERAGE(IX8:MD8)","v":43},"Ratings Percentage Index",null,null,85.25,169.5,254.75]
["Team Quartile Performance","Bottom Quartile Performance",null,null,null,null,null,null,null,null,null,null,null,null,null,null,null,null,null,null,null,null,null,null,null,null,null,null,null,null,null,null,null,null,null,null,null,null,null,null,null,null,null,null,null,null,null,null,null,null,null,null,null,null,null,null,null,null,null,null,null,null,null,null,null,null,null,null,null,null,null,null,null,null,null,null,null,null,null,null,null,null,null,null,null,null,null,"Lower-Middle Quartile Performance",null,null,null,null,null,null,null,null,null,null,null,null,null,null,null,null,null,null,null,null,null,null,null,null,null,null,null,null,null,null,null,null,null,null,null,null,null,null,null,null,null,null,null,null,null,null,null,null,null,null,null,null,null,null,null,null,null,null,null,null,null,null,null,null,null,null,null,null,null,null,null,null,null,null,null,null,null,null,null,null,null,null,null,null,"Upper-Middle Quartile Performance",null,null,null,null,null,null,null,null,null,null,null,null,null,null,null,null,null,null,null,null,null,null,null,null,null,null,null,null,null,null,null,null,null,null,null,null,null,null,null,null,null,null,null,null,null,null,null,null,null,null,null,null,null,null,null,null,null,null,null,null,null,null,null,null,null,null,null,null,null,null,null,null,null,null,null,null,null,null,null,null,null,null,null,null,"Top Quartile Performance",null,null,null,null,null,null,null,null,null,null,null,null,null,null,null,null,null,null,null,null,null,null,null,null,null,null,null,null,null,null,null,null,null,null,null,null,null,null,null,null,null,null,null,null,null,null,null,null,null,null,null,null,null,null,null,null,null,null,null,null,null,null,null,null,null,null,null,null,null,null,null,null,null,null,null,null,null,null,null,null,null,null,null,null,null,"Player Quartile Performance",null,null,{"$error":"#NUM!"},{"$error":"#NUM!"},{"$error":"#NUM!"}]
["Points Per Game",55.9,64.900000000000006,53,62.4,63.5,55.2,73.900000000000006,61.9,63.1,62.3,63,61.9,60.8,59.5,65.3,57.7,61.5,62.7,66.099999999999994,57.7,64.400000000000006,67.900000000000006,74.3,58,64.3,60.3,71.599999999999994,67,55.9,62.7,60.8,65.2,70.2,60.3,59.8,51,56.8,59.7,70.599999999999994,62.4,63.3,68.5,61.1,58.1,66.2,61.8,60.7,62.6,60.7,66,61,69.5,60.3,65.400000000000006,61.6,67.5,64.3,68.599999999999994,69.599999999999994,81.099999999999994,70.099999999999994,71.400000000000006,65.7,63.6,77.400000000000006,68.900000000000006,59.3,70.3,71.5,69.2,55.9,72,74,64.5,68,65.099999999999994,59.5,66.099999999999994,63.5,65.8,61.5,72.3,53.3,70.900000000000006,63.1,{"$f":"AVERAGE(B10:CH10)","v":64.191764705882349},70.5,63.1,66.3,67.8,60,59.1,71.900000000000006,72.8,64.7,65.8,70.599999999999994,60.7,70.3,70.400000000000006,63.3,72.599999999999994,69.599999999999994,71.3,61.6,59.6,59.9,63.1,66.8,64.8,69.7,53.3,68.3,65,62.1,73,64.5,65.400000000000006,59.9,62.2,72.8,70.599999999999994,58.2,66.400000000000006,68.400000000000006,64.900000000000006,70.099999999999994,73,72.5,69.8,71.599999999999994,65.8,65.599999999999994,65.7,70,69.400000000000006,70.3,72.2,73.900000000000006,74.7,71.900000000000006,66.7,66.3,66.7,69.2,74.3,68.7,64,66.7,67.900000000000006,68.900000000000006,62.1,69.2,61.6,64.400000000000006,70,65.099999999999994,68.8,76.5,62.7,66.599999999999994,73.8,62.9,72.900000000000006,61,67,65.400000000000006,62.7,67.8,64.099999999999994,{"$f":"AVERAGE(CJ10:FO10)","v":67.045238095238076},76.900000000000006,70.8,63.7,69.400000000000006,64.599999999999994,61.6,60.6,66.900000000000006,65.599999999999994,69.599999999999994,68,69.5,78.3,72.900000000000006,69.099999999999994,67.2,79.599999999999994,62,72.3,68.7,75.2,64.7,67.400000000000006,69,63.3,70.7,67.400000000000006,67.3,73.2,64.599999999999994,64.7,66,68.7,79.5,64.2,74.3,67,67.2,68.900000000000006,64.900000000000006,72.7,60.9,72.099999999999994,68.599999999999994,65.3,68.400000000000006,69.3,68.5,67.900000000000006,70,63.4,80.8,72.5,71.599999999999994,64.3,70,65.3,66,67.099999999999994,70.3,59.9,61.5,71.099999999999994,69.8,72.2,75.900000000000006,65.8,70.2,68.3,69.599999999999994,65.900000000000006,66.5,68.599999999999994,70.400000000000006,81.8,65.900000000000006,72.8,68.8,68.599999999999994,71.7,69.599999999999994,73.599999999999994,67.599999999999994,73.2,{"$f":"AVERAGE(FQ10:IV10)","v":68.926190476190499},67.400000000000006,76.099999999999994,70.900000000000006,60.1,75.3,67.8,63.1,66.3,68.900000000000006,68.2,79.099999999999994,66.2,71.599999999999994,73.7,78.8,66,69.8,65.7,65,66.7,71.400000000000006,77.900000000000006,65.900000000000006,69.2,71.900000000000006,68.3,82.1,72.8,78.599999999999994,71.099999999999994,73.7,71.7,71.099999999999994,74.900000000000006,71.3,71.8,79,71.5,72.3,60.1,71,69,69.400000000000006,73.7,68,71.7,83.4,62.7,65,72,68.8,72.599999999999994,73.8,74.599999999999994,73.3,68.599999999999994,74.8,70.900000000000006,70.8,69.599999999999994,65.900000000000006,79.7,73.900000000000006,74.7,70.7,64,77.7,73.2,77.599999999999994,79.7,66.3,75.599999999999994,71.599999999999994,69.599999999999994,78.400000000000006,78.3,74.7,74.400000000000006,76.400000000000006,75,81.900000000000006,72.5,79,77.8,75.8,{"$f":"AVERAGE(IX10:MD10)","v":72.016470588235293},"Points Per Game",null,null,64.325000000000003,68.349999999999994,71.7]
[null,{"$f":"PERCENTRANK($B10:$MD10, B10)","v":1.4E-2},0.28199999999999997,2E-3,0.161,0.217,1.0999999999999999E-2,0.86399999999999999,0.14099999999999999,0.191,0.158,0.188,0.14099999999999999,0.1,4.7E-2,0.308,2.5999999999999999E-2,0.11700000000000001,0.17,0.376,2.5999999999999999E-2,0.252,0.47299999999999998,0.876,3.2000000000000001E-2,0.24399999999999999,7.9000000000000001E-2,0.73499999999999999,0.42599999999999999,1.4E-2,0.17,0.1,0.30499999999999999,{"$f":"PERCENTRANK($B10:$MD10, AH10)","v":0.65},7.9000000000000001E-2,5.8000000000000003E-2,0,2.3E-2,5.5E-2,0.67600000000000005,0.161,0.20499999999999999,0.50800000000000001,0.114,3.5000000000000003E-2,0.38200000000000001,0.13800000000000001,9.0999999999999998E-2,0.16700000000000001,9.0999999999999998E-2,0.36399999999999999,0.108,0.59399999999999997,7.9000000000000001E-2,0.317,0.126,0.45800000000000002,0.24399999999999999,0.51400000000000001,0.6,0.98799999999999999,0.64400000000000002,0.72299999999999998,0.33200000000000002,0.223,{"$f":"PERCENTRANK($B10:$MD10, BN10)","v":0.93500000000000005},0.54700000000000004,4.3999999999999997E-2,0.65500000000000003,0.72899999999999998,0.56999999999999995,1.4E-2,0.77,0.873,0.25800000000000001,0.48199999999999998,0.3,4.7E-2,0.376,0.217,0.34100000000000003,0.11700000000000001,0.78500000000000003,5.0000000000000001E-3,0.69699999999999995,0.191,0.30524705882352937,{"$f":"PERCENTRANK($B10:$MD10, CJ10)","v":0.67300000000000004},0.191,0.38800000000000001,0.46400000000000002,7.0000000000000007E-2,4.1000000000000002E-2,0.76100000000000001,0.81100000000000005,0.27,0.34100000000000003,0.67600000000000005,9.0999999999999998E-2,0.65500000000000003,0.66700000000000004,0.20499999999999999,0.80200000000000005,0.6,0.71699999999999997,0.126,5.1999999999999998E-2,6.0999999999999999E-2,0.191,0.42,0.27900000000000003,0.62,5.0000000000000001E-3,0.49399999999999999,0.29099999999999998,0.15,0.82899999999999996,0.25800000000000001,0.317,{"$f":"PERCENTRANK($B10:$MD10, DP10)","v":6.0999999999999999E-2},0.155,0.81100000000000005,0.67600000000000005,3.7999999999999999E-2,0.4,0.502,0.28199999999999997,0.64400000000000002,0.82899999999999996,0.79400000000000004,0.623,0.73499999999999999,0.34100000000000003,0.32600000000000001,0.33200000000000002,0.63200000000000001,0.58499999999999996,0.65500000000000003,0.77900000000000003,0.86399999999999999,0.89100000000000001,0.76100000000000001,0.40799999999999997,0.38800000000000001,0.40799999999999997,0.56999999999999995,0.876,0.52900000000000003,0.22900000000000001,0.40799999999999997,0.47299999999999998,{"$f":"PERCENTRANK($B10:$MD10, EV10)","v":0.54700000000000004},0.15,0.56999999999999995,0.126,0.252,0.63200000000000001,0.3,0.53800000000000003,0.92900000000000005,0.17,0.40500000000000003,0.85799999999999998,0.185,0.82299999999999995,0.108,0.42599999999999999,0.317,0.17,0.46400000000000002,0.23499999999999999,0.44911904761904775,{"$f":"PERCENTRANK($B10:$MD10, FQ10)","v":0.93200000000000005},0.69099999999999995,0.22600000000000001,0.58499999999999996,0.26400000000000001,0.126,8.7999999999999995E-2,0.42299999999999999,0.32600000000000001,0.6,0.48199999999999998,0.59399999999999997,0.95,0.82299999999999995,0.56699999999999995,0.441,0.97599999999999998,0.14699999999999999,0.78500000000000003,0.52900000000000003,0.90800000000000003,0.27,0.45,0.56100000000000005,0.20499999999999999,0.68500000000000005,0.45,0.44700000000000001,0.83499999999999996,0.26400000000000001,0.27,0.36399999999999999,{"$f":"PERCENTRANK($B10:$MD10, GW10)","v":0.52900000000000003},0.97299999999999998,0.24099999999999999,0.876,0.42599999999999999,0.441,0.54700000000000004,0.28199999999999997,0.80800000000000005,0.105,0.77600000000000002,0.51400000000000001,0.308,0.502,0.58199999999999996,0.50800000000000001,0.47299999999999998,0.63200000000000001,0.214,0.98499999999999999,0.79400000000000004,0.73499999999999999,0.24399999999999999,0.63200000000000001,0.308,0.36399999999999999,0.438,0.65500000000000003,6.0999999999999999E-2,0.11700000000000001,0.70799999999999996,0.623,{"$f":"PERCENTRANK($B10:$MD10, IC10)","v":0.77900000000000003},0.92,0.34100000000000003,0.65,0.49399999999999999,0.6,0.35199999999999998,0.40200000000000002,0.51400000000000001,0.66700000000000004,0.99099999999999999,0.35199999999999998,0.81100000000000005,0.53800000000000003,0.51400000000000001,0.75,0.6,0.84699999999999998,0.46100000000000002,0.83499999999999996,0.53670238095238099,{"$f":"PERCENTRANK($B10:$MD10, IX10)","v":0.45},0.92300000000000004,0.69699999999999995,7.2999999999999995E-2,0.91100000000000003,0.46400000000000002,0.191,0.38800000000000001,0.54700000000000004,0.49099999999999999,0.97,0.38200000000000001,0.73499999999999999,0.85,0.96099999999999997,0.36399999999999999,0.623,0.33200000000000002,0.29099999999999998,0.40799999999999997,0.72299999999999998,0.94699999999999995,0.35199999999999998,0.56999999999999995,0.76100000000000001,0.49399999999999999,0.997,0.81100000000000005,0.95799999999999996,0.70799999999999996,0.85,0.75,{"$f":"PERCENTRANK($B10:$MD10, KD10)","v":0.70799999999999996},0.90200000000000002,0.71699999999999997,0.75800000000000001,0.96399999999999997,0.72899999999999998,0.78500000000000003,7.2999999999999995E-2,0.70499999999999996,0.56100000000000005,0.58499999999999996,0.85,0.48199999999999998,0.75,1,0.17,0.29099999999999998,0.77,0.53800000000000003,0.80200000000000005,0.85799999999999998,0.88800000000000001,0.84399999999999997,0.51400000000000001,0.9,0.69699999999999995,0.69099999999999995,0.6,0.35199999999999998,0.97899999999999998,0.86399999999999999,0.89100000000000001,{"$f":"PERCENTRANK($B10:$MD10, LJ10)","v":0.68500000000000005},0.22900000000000001,0.94099999999999995,0.83499999999999996,0.93799999999999994,0.97899999999999998,0.38800000000000001,0.91400000000000003,0.73499999999999999,0.6,0.95499999999999996,0.95,0.89100000000000001,0.88500000000000001,0.92600000000000005,0.90500000000000003,0.99399999999999999,0.79400000000000004,0.96399999999999997,0.94399999999999995,0.91700000000000004,{"$f":"AVERAGE(IX11:MD11)","v":0.7006941176470588},null,null,null,0.24525,0.4965,0.747]
["Field Goal Percentage",39.200000000000003,39.299999999999997,35.4,40.1,41.4,36.5,43.9,41.1,39.299999999999997,40.799999999999997,39.799999999999997,41.5,41.2,40.5,40.299999999999997,40.200000000000003,38.6,41.3,40.799999999999997,39.5,43.5,38.200000000000003,42.1,38.9,43.1,41,42.2,45.1,37.700000000000003,41.1,45.9,40.200000000000003,42.8,38,41.4,36.799999999999997,41.9,37.9,41.5,39,43.1,42.7,39.700000000000003,40.4,42.5,40.5,40.799999999999997,41.8,40.6,41.8,38.299999999999997,41.1,42.4,43.6,39.6,44.2,40.700000000000003,45.3,44.6,44.3,45.1,42.7,42.2,42.3,43.7,39.799999999999997,41.7,42.4,44.2,42,40.6,44.1,43.5,43.1,44,41.9,39.6,44.3,42.2,40.6,40.200000000000003,47.9,39.1,41,41.6,41.37411764705881,47.5,41.9,42.2,39.9,45.3,41,47.2,43.8,41.4,47.2,45.7,41.5,41.7,41.8,41.7,46.1,40.200000000000003,45.9,43.5,40.9,43.8,42,41.8,42.5,42.6,37.799999999999997,41.4,42.4,45,43.7,39.4,41.8,42.4,38.200000000000003,45,41.9,39.9,43.5,45.6,42.5,42.8,44.3,40.5,43.7,46.4,41,42.9,43.3,40.4,43.4,43,44.6,44,48.6,45.1,44.7,41.5,46.7,41.6,46.3,43.2,42.5,42.6,43.9,43.1,45.7,44.2,40.299999999999997,42.5,46.8,42.7,43.1,48.4,42.8,42.3,49.2,43.4,48.7,43.2,42.6,40.9,42.4,46,44,43.320238095238089,44.7,42.4,40.6,43,42.8,44.5,43.2,41.1,42.7,44.3,44.6,43.6,48.6,47,47.6,47.1,46.8,39.200000000000003,45.2,40,46.8,43.2,43.3,42.5,42,43.2,43.3,46.3,45.8,43.3,42.2,43.3,44,45.1,47,43.3,42.3,44.4,46.4,42.1,45,43.1,44.7,44.1,44.6,42.6,43.7,46.7,41.9,43.4,40.700000000000003,48.2,45.3,40.9,42,42.8,40.4,43.6,41.9,42.6,42.2,39.700000000000003,45.2,44,44.7,44.6,42.5,46.4,42.6,45.8,45.1,45.3,44.7,44.2,47.4,44.5,46,44.5,49,43.7,47.2,46,42.2,44.1,44.030952380952357,46.4,44.7,46.5,40.9,43,46.1,45.2,45.3,42,44.3,46.6,44.4,43.1,46,47.7,43.1,44.4,40.799999999999997,43.9,43.5,45.6,44.5,43.8,43,43.6,40.799999999999997,48.7,46.5,46.8,45.2,44.2,45.6,45.7,44.6,46.9,44.7,46.8,43.8,49.8,44,43.7,43.7,45.6,49,43.7,43.5,50.2,46.1,46.3,48.1,45.3,46,47.4,47.4,45.2,45.2,47.8,45.4,47.5,45.1,45.7,50.8,46.4,49,43.2,42.6,46.5,46.9,49,49.7,45.6,47.4,41.6,46.2,46.8,49,48.3,47.2,46.4,48.3,46.2,47.6,46.5,48.8,47.1,{"$f":"AVERAGE(IX12:MD12)","v":45.735294117647051},"Field Goal Percentage",null,null,41.8,43.5,45.6]
[null,{"$f":"PERCENTRANK($B12:$MD12, B12)","v":4.1000000000000002E-2},4.7E-2,0,8.5000000000000006E-2,0.2,2E-3,0.55800000000000005,0.17899999999999999,4.7E-2,0.14099999999999999,7.0000000000000007E-2,0.21099999999999999,0.191,0.114,0.1,8.7999999999999995E-2,2.9000000000000001E-2,0.19400000000000001,0.14099999999999999,5.5E-2,0.49399999999999999,0.02,0.28799999999999998,3.2000000000000001E-2,0.42299999999999999,0.16700000000000001,0.29399999999999998,0.69399999999999995,8.0000000000000002E-3,0.17899999999999999,0.78200000000000003,8.7999999999999995E-2,{"$f":"PERCENTRANK($B12:$MD12, AH12)","v":0.39400000000000002},1.7000000000000001E-2,0.2,5.0000000000000001E-3,0.255,1.4E-2,0.21099999999999999,3.5000000000000003E-2,0.42299999999999999,0.38200000000000001,6.4000000000000001E-2,0.105,0.34100000000000003,0.114,0.14099999999999999,0.24099999999999999,0.123,0.24099999999999999,2.5999999999999999E-2,0.17899999999999999,0.32300000000000001,0.51100000000000001,5.8000000000000003E-2,0.59699999999999998,0.13500000000000001,0.72899999999999998,0.64700000000000002,0.61099999999999999,0.69399999999999995,0.38200000000000001,0.29399999999999998,0.314,{"$f":"PERCENTRANK($B12:$MD12, BN12)","v":0.52300000000000002},7.0000000000000007E-2,0.23200000000000001,0.32300000000000001,0.59699999999999998,0.27300000000000002,0.123,0.58799999999999997,0.49399999999999999,0.42299999999999999,0.56699999999999995,0.255,5.8000000000000003E-2,0.61099999999999999,0.29399999999999998,0.123,8.7999999999999995E-2,0.94099999999999995,3.7999999999999999E-2,0.16700000000000001,0.223,0.25622352941176468,{"$f":"PERCENTRANK($B12:$MD12, CJ12)","v":0.92300000000000004},0.255,0.29399999999999998,7.5999999999999998E-2,0.72899999999999998,0.16700000000000001,0.9,0.54700000000000004,0.2,0.9,0.76400000000000001,0.21099999999999999,0.23200000000000001,0.24099999999999999,0.23200000000000001,0.80200000000000005,8.7999999999999995E-2,0.78200000000000003,0.49399999999999999,0.155,0.54700000000000004,0.27300000000000002,0.24099999999999999,0.34100000000000003,0.36099999999999999,1.0999999999999999E-2,0.2,0.32300000000000001,0.68500000000000005,0.52300000000000002,5.1999999999999998E-2,0.24099999999999999,{"$f":"PERCENTRANK($B12:$MD12, DP12)","v":0.32300000000000001},0.02,0.68500000000000005,0.255,7.5999999999999998E-2,0.49399999999999999,0.75,0.34100000000000003,0.39400000000000002,0.61099999999999999,0.114,0.52300000000000002,0.82599999999999996,0.16700000000000001,0.40799999999999997,0.46400000000000002,0.105,0.48499999999999999,0.41099999999999998,0.64700000000000002,0.56699999999999995,0.95799999999999996,0.69399999999999995,0.66400000000000003,0.21099999999999999,0.85799999999999998,0.223,0.81699999999999995,0.44700000000000001,0.34100000000000003,0.36099999999999999,0.55800000000000005,{"$f":"PERCENTRANK($B12:$MD12, EV12)","v":0.42299999999999999},0.76400000000000001,0.59699999999999998,0.1,0.34100000000000003,0.86399999999999999,0.38200000000000001,0.42299999999999999,0.95499999999999996,0.39400000000000002,0.314,0.98799999999999999,0.48499999999999999,0.96399999999999997,0.44700000000000001,0.36099999999999999,0.155,0.32300000000000001,0.78800000000000003,0.56699999999999995,0.45503571428571421,{"$f":"PERCENTRANK($B12:$MD12, FQ12)","v":0.66400000000000003},0.32300000000000001,0.123,0.41099999999999998,0.39400000000000002,0.63500000000000001,0.44700000000000001,0.17899999999999999,0.38200000000000001,0.61099999999999999,0.64700000000000002,0.51100000000000001,0.95799999999999996,0.88800000000000001,0.92900000000000005,0.89400000000000002,0.86399999999999999,4.1000000000000002E-2,0.71099999999999997,8.2000000000000003E-2,0.86399999999999999,0.44700000000000001,0.46400000000000002,0.34100000000000003,0.27300000000000002,0.44700000000000001,0.46400000000000002,0.81699999999999995,0.77600000000000002,0.46400000000000002,0.29399999999999998,0.46400000000000002,{"$f":"PERCENTRANK($B12:$MD12, GW12)","v":0.56699999999999995},0.69399999999999995,0.88800000000000001,0.46400000000000002,0.314,0.626,0.82599999999999996,0.28799999999999998,0.68500000000000005,0.42299999999999999,0.66400000000000003,0.58799999999999997,0.64700000000000002,0.36099999999999999,0.52300000000000002,0.85799999999999998,0.255,0.48499999999999999,0.13500000000000001,0.94699999999999995,0.72899999999999998,0.155,0.27300000000000002,0.39400000000000002,0.105,0.51100000000000001,0.255,0.36099999999999999,0.29399999999999998,6.4000000000000001E-2,0.71099999999999997,0.56699999999999995,{"$f":"PERCENTRANK($B12:$MD12, IC12)","v":0.66400000000000003},0.64700000000000002,0.34100000000000003,0.82599999999999996,0.36099999999999999,0.77600000000000002,0.69399999999999995,0.72899999999999998,0.66400000000000003,0.59699999999999998,0.91100000000000003,0.63500000000000001,0.78800000000000003,0.63500000000000001,0.97299999999999998,0.52300000000000002,0.9,0.78800000000000003,0.29399999999999998,0.58799999999999997,0.54523809523809508,{"$f":"PERCENTRANK($B12:$MD12, IX12)","v":0.82599999999999996},0.66400000000000003,0.84399999999999997,0.155,0.41099999999999998,0.80200000000000005,0.71099999999999997,0.72899999999999998,0.27300000000000002,0.61099999999999999,0.85499999999999998,0.626,0.42299999999999999,0.78800000000000003,0.93500000000000005,0.42299999999999999,0.626,0.14099999999999999,0.55800000000000005,0.49399999999999999,0.75,0.63500000000000001,0.54700000000000004,0.41099999999999998,0.51100000000000001,0.14099999999999999,0.96399999999999997,0.84399999999999997,0.86399999999999999,0.71099999999999997,0.59699999999999998,0.75,{"$f":"PERCENTRANK($B12:$MD12, KD12)","v":0.76400000000000001},0.64700000000000002,0.88200000000000001,0.66400000000000003,0.86399999999999999,0.54700000000000004,0.99399999999999999,0.56699999999999995,0.52300000000000002,0.52300000000000002,0.75,0.97299999999999998,0.52300000000000002,0.49399999999999999,0.997,0.80200000000000005,0.81699999999999995,0.94399999999999995,0.72899999999999998,0.78800000000000003,0.91100000000000003,0.91100000000000003,0.71099999999999997,0.71099999999999997,0.93799999999999994,0.747,0.92300000000000004,0.69399999999999995,0.76400000000000001,1,0.82599999999999996,0.97299999999999998,{"$f":"PERCENTRANK($B12:$MD12, LJ12)","v":0.44700000000000001},0.36099999999999999,0.84399999999999997,0.88200000000000001,0.97299999999999998,0.99099999999999999,0.75,0.91100000000000003,0.223,0.81100000000000005,0.86399999999999999,0.97299999999999998,0.95,0.9,0.82599999999999996,0.95,0.81100000000000005,0.92900000000000005,0.84399999999999997,0.97,0.89400000000000002,{"$f":"AVERAGE(IX13:MD13)","v":0.72500000000000009},null,null,null,0.24,0.49199999999999999,0.747]
["3 Point Percentage",30.2,28.9,27.5,31.7,38,30.5,35.299999999999997,29.8,30,32.700000000000003,30.4,34.1,27.7,30.1,32.700000000000003,27.4,30.3,28.6,31,34.299999999999997,33.299999999999997,30.7,31.6,30.6,36.4,36.4,31.5,33.9,32.1,36.9,35.6,28.9,35.6,28,30.8,27,31,30.1,33.5,30.5,38.700000000000003,36.299999999999997,32.700000000000003,31.8,30.7,34.6,31.4,36.4,32.299999999999997,32,31.1,36.4,31.7,34.200000000000003,32.6,33.299999999999997,32.299999999999997,31.6,33.700000000000003,31.1,33.1,33.9,33.700000000000003,31,36.799999999999997,33.700000000000003,29.7,34.9,40.9,35.700000000000003,30.9,34.299999999999997,37.5,37.700000000000003,34.5,31.9,31.7,34.1,33.299999999999997,33.299999999999997,30,45,27.5,34.4,28.2,32.684705882352937,36.799999999999997,32.4,36.799999999999997,27.5,35.799999999999997,31.1,34.9,35.5,33.799999999999997,28.6,36.4,33,33.799999999999997,35.700000000000003,33.700000000000003,37.6,33.5,36.9,36.799999999999997,33.799999999999997,36.200000000000003,30.7,33.9,32,34.5,35.700000000000003,35.700000000000003,27,28.4,37.5,29.9,32.6,33.9,27.5,35.1,30.2,34.6,33.799999999999997,36.700000000000003,35,32,35.6,36,38,35.6,31.6,35.4,35.1,32,35.4,31.1,39.200000000000003,33.1,37.299999999999997,37.6,36.299999999999997,34.1,35.700000000000003,32.200000000000003,32.4,34.200000000000003,33.700000000000003,31.8,31.1,34.200000000000003,38.6,32.1,32.299999999999997,32.4,36.700000000000003,36.9,33.4,33.299999999999997,34.9,34.5,37.200000000000003,36,33.4,31.3,38.200000000000003,33.4,33,36.299999999999997,33.799999999999997,34.091666666666661,37.700000000000003,33.1,32.9,34.700000000000003,33.5,32.4,32.9,32.5,33.200000000000003,34.299999999999997,34.700000000000003,34.200000000000003,41.4,36.200000000000003,38.799999999999997,36.9,35.299999999999997,30.6,30.3,33.1,34.4,40.6,34.299999999999997,31.6,31.2,36.5,31.5,35.200000000000003,39.299999999999997,33,35.9,33.799999999999997,30.6,36.5,34.299999999999997,34,28.6,36.6,37.200000000000003,34.700000000000003,36.6,32.700000000000003,34.700000000000003,36.799999999999997,35.799999999999997,35.9,35,35.6,34.5,35.6,28.1,36.1,36.5,31,34.799999999999997,34.9,31.1,34.1,32.200000000000003,34.1,34.700000000000003,32,35.700000000000003,36.299999999999997,33,35.299999999999997,36.5,36.9,33.9,33.700000000000003,36.9,38.4,33.799999999999997,35.5,37.299999999999997,37.700000000000003,35.1,36.200000000000003,39.9,37,35.299999999999997,40.799999999999997,33,36.200000000000003,34.829761904761902,35.5,35.9,33.299999999999997,29.6,33.6,38.799999999999997,33.700000000000003,36.6,35.799999999999997,35.1,40.799999999999997,30.9,33.799999999999997,35.5,33,30.8,37.799999999999997,31.4,38.299999999999997,30.4,36.4,34.1,39.5,31.2,33.799999999999997,33.200000000000003,37.700000000000003,37.1,39.5,36.6,33.799999999999997,35.9,36.799999999999997,33.4,35.799999999999997,30.7,34.4,35.9,36.9,31.3,33,36.4,38.299999999999997,36.4,33.200000000000003,36.6,39.4,33.799999999999997,34.700000000000003,37.1,36.299999999999997,38.4,35.799999999999997,34.700000000000003,38.299999999999997,32.700000000000003,41.5,33.200000000000003,41,33,28.5,42.8,39.799999999999997,36.799999999999997,32.200000000000003,35.799999999999997,39.4,37.5,42.6,38.4,34.700000000000003,40.5,36.299999999999997,35.299999999999997,37.200000000000003,37.200000000000003,33.1,39,34.6,35.200000000000003,34.799999999999997,35.200000000000003,38.700000000000003,37.6,34.200000000000003,36.081578947368421,"3 Point Percentage",null,null,33.150000000000006,34.799999999999997,36.6]
[null,null,null,null,0.11899999999999999,0.88400000000000001,4.2000000000000003E-2,0.55400000000000005,null,2.1000000000000001E-2,0.192,3.5000000000000003E-2,0.38500000000000001,null,null,0.192,0,3.1E-2,null,7.2999999999999995E-2,0.42099999999999999,0.26300000000000001,5.6000000000000001E-2,0.108,null,0.70499999999999996,0.70499999999999996,0.10100000000000001,0.36799999999999999,null,0.79600000000000004,null,1.4E-2,0.59199999999999997,7.0000000000000001E-3,6.3E-2,null,null,2.4E-2,0.28699999999999998,4.2000000000000003E-2,0.91900000000000004,0.68400000000000005,0.192,0.126,null,0.45600000000000002,null,0.70499999999999996,0.157,0.13300000000000001,null,0.70499999999999996,0.11899999999999999,0.40699999999999997,0.185,0.26300000000000001,0.157,null,0.30499999999999999,0.08,0.23799999999999999,0.36799999999999999,0.30499999999999999,null,0.77100000000000002,0.30499999999999999,null,0.505,0.97799999999999998,0.60699999999999998,6.6000000000000003E-2,0.42099999999999999,0.84499999999999997,0.86599999999999999,0.44500000000000001,0.129,null,0.38500000000000001,0.26300000000000001,null,null,1,null,0.435,null,0.34846774193548385,0.77100000000000002,0.16800000000000001,0.77100000000000002,3.0000000000000001E-3,0.624,null,0.505,0.57799999999999996,0.32900000000000001,null,0.70499999999999996,0.217,0.32900000000000001,0.60699999999999998,0.30499999999999999,0.85599999999999998,0.28699999999999998,0.79600000000000004,0.77100000000000002,0.32900000000000001,null,null,0.36799999999999999,null,0.44500000000000001,null,0.60699999999999998,null,null,0.84499999999999997,1.7000000000000001E-2,0.185,0.36799999999999999,null,0.52900000000000003,2.8000000000000001E-2,0.45600000000000002,0.32900000000000001,0.76400000000000001,0.51900000000000002,0.13300000000000001,0.59199999999999997,0.66300000000000003,0.88400000000000001,0.59199999999999997,0.108,0.57099999999999995,0.52900000000000003,0.13300000000000001,0.57099999999999995,null,0.93600000000000005,0.23799999999999999,0.83799999999999997,0.85599999999999998,0.68400000000000005,0.38500000000000001,0.60699999999999998,0.14699999999999999,0.16800000000000001,0.40699999999999997,0.30499999999999999,null,null,0.40699999999999997,0.91500000000000004,null,0.157,0.16800000000000001,0.76400000000000001,0.79600000000000004,0.27700000000000002,0.26300000000000001,0.505,null,0.82399999999999995,0.66300000000000003,null,9.4E-2,0.89100000000000001,0.27700000000000002,null,0.68400000000000005,0.32900000000000001,0.48194117647058832,0.86599999999999999,null,0.21,0.47,0.28699999999999998,0.16800000000000001,0.21,0.182,0.249,0.42099999999999999,0.47,null,0.98499999999999999,0.67300000000000004,0.92600000000000005,0.79600000000000004,0.55400000000000005,4.9000000000000002E-2,null,0.23799999999999999,0.435,0.96799999999999997,0.42099999999999999,0.108,8.6999999999999994E-2,0.73299999999999998,0.10100000000000001,0.54300000000000004,0.94,0.217,0.64500000000000002,0.32900000000000001,4.9000000000000002E-2,0.73299999999999998,null,null,null,0.747,0.82399999999999995,0.47,0.747,0.192,0.47,0.77100000000000002,0.624,0.64500000000000002,0.51900000000000002,0.59199999999999997,0.44500000000000001,null,0.01,0.67,0.73299999999999998,7.2999999999999995E-2,0.498,0.505,0.08,0.38500000000000001,0.14699999999999999,0.38500000000000001,0.47,0.13300000000000001,0.60699999999999998,0.68400000000000005,0.217,0.55400000000000005,0.73299999999999998,0.79600000000000004,0.36799999999999999,0.30499999999999999,0.79600000000000004,0.90500000000000003,0.32900000000000001,0.57799999999999996,0.83799999999999997,0.86599999999999999,0.52900000000000003,0.67300000000000004,0.96099999999999997,0.81699999999999995,0.55400000000000005,0.97099999999999997,0.217,0.67300000000000004,0.50868831168831175,0.57799999999999996,0.64500000000000002,null,null,0.30099999999999999,0.92600000000000005,0.30499999999999999,0.747,0.624,0.52900000000000003,0.97099999999999997,6.6000000000000003E-2,0.32900000000000001,0.57799999999999996,null,null,0.88,9.8000000000000004E-2,0.89400000000000002,3.5000000000000003E-2,0.70499999999999996,0.38500000000000001,0.95,8.6999999999999994E-2,0.32900000000000001,0.249,0.86599999999999999,0.82099999999999995,0.95,0.747,0.32900000000000001,0.64500000000000002,0.77100000000000002,0.27700000000000002,0.624,5.6000000000000001E-2,0.435,0.64500000000000002,null,null,0.217,0.70499999999999996,0.89400000000000002,0.70499999999999996,0.249,0.747,0.94299999999999995,0.32900000000000001,0.47,null,0.68400000000000005,0.90500000000000003,0.624,0.47,0.89400000000000002,0.192,0.98899999999999999,0.249,0.98199999999999998,0.217,null,0.996,0.95699999999999996,0.77100000000000002,0.14699999999999999,0.624,0.94299999999999995,0.84499999999999997,0.99199999999999999,0.90500000000000003,0.47,0.96399999999999997,0.68400000000000005,0.55400000000000005,0.82399999999999995,0.82399999999999995,null,0.93300000000000005,0.45600000000000002,0.54300000000000004,0.498,0.54300000000000004,0.91900000000000004,0.85599999999999998,0.40699999999999997,null,null,null,null,0.24349999999999999,0.498,0.747]
["Free Throw Percentage",69.599999999999994,64.2,68.099999999999994,64,68.3,66.099999999999994,67.5,69.900000000000006,66.400000000000006,68.900000000000006,65.2,62.5,66,58.4,73.400000000000006,68.400000000000006,64,70.3,59.6,70.5,66.5,75.5,68.8,60.2,66.099999999999994,65.3,55,69.900000000000006,70,63.3,65.3,62.6,70.3,64.7,67.099999999999994,58.2,69.400000000000006,58.7,68,54.9,68.5,72.900000000000006,66.5,65,66.599999999999994,60.9,69,70.400000000000006,71.5,66.7,67.7,70.3,64.400000000000006,75.7,64.400000000000006,67.2,69.8,70.8,73,71.599999999999994,68.599999999999994,66.099999999999994,67.900000000000006,65.3,70.599999999999994,74.5,60.2,69.400000000000006,68.599999999999994,65.2,67.5,69.5,69,69.5,64.3,65.599999999999994,66.3,65.7,65.5,72,68.099999999999994,70.400000000000006,61.2,67.7,63.5,66.896470588235289,63.4,68.099999999999994,67,68.900000000000006,66.900000000000006,69.099999999999994,71.400000000000006,69.099999999999994,72.400000000000006,73.2,72.3,61.5,68.599999999999994,67.2,72.2,67.7,68.400000000000006,74.5,69.7,68.099999999999994,70.5,68.3,64.5,71.2,75.3,69,73,67.599999999999994,63.3,63.4,70.099999999999994,66.900000000000006,67.5,61.2,75,60.6,71,73.2,68.099999999999994,68.5,68.900000000000006,77.400000000000006,70.099999999999994,76.099999999999994,71.5,73.3,65.8,69.7,70,66.400000000000006,70.3,75.3,68.400000000000006,66.7,71.900000000000006,65.7,65.900000000000006,67,64.2,66.900000000000006,68.400000000000006,59.1,67.900000000000006,63.5,70.8,68.3,67.400000000000006,70.3,67.8,71.5,74.900000000000006,63.5,73.8,70.900000000000006,70.2,72.8,74.5,67.3,66.099999999999994,65.099999999999994,67.599999999999994,66.900000000000006,60.5,66.7,68.752380952380946,69,64.5,69.7,69.2,71.900000000000006,68.400000000000006,64.8,65.5,73.099999999999994,67.5,74.099999999999994,70.2,68.900000000000006,71.599999999999994,66.8,71,68.599999999999994,67.599999999999994,72.8,65.400000000000006,69.099999999999994,71.3,69.3,72.5,64.8,73.099999999999994,65.3,67.400000000000006,76.400000000000006,67.7,70.400000000000006,69.2,65,73.099999999999994,69.400000000000006,71.7,68.3,64.2,66.400000000000006,72.7,71.8,75.400000000000006,63.9,74.3,65.2,75.7,69,70.3,71.3,72.599999999999994,64.400000000000006,76,69.400000000000006,76.2,61.6,73.5,62.1,72.5,74.400000000000006,64.400000000000006,68.599999999999994,69.2,69.099999999999994,65.3,65.900000000000006,78.400000000000006,72.7,71.3,66.900000000000006,76.900000000000006,66.400000000000006,67.900000000000006,70.099999999999994,70.7,73,72.900000000000006,65.5,69.2,76.5,69.599999999999994,71.3,72.099999999999994,71.099999999999994,74.5,69.845238095238074,68.8,69.7,69.599999999999994,62,67.099999999999994,76,75.400000000000006,71,64.099999999999994,69.599999999999994,81.2,71.5,68.2,72.5,66.3,60,69.5,70,74.599999999999994,63,69.400000000000006,76.599999999999994,72.8,60.2,76.7,70.099999999999994,73.900000000000006,68.900000000000006,72.599999999999994,64.3,73.099999999999994,69,70.3,62.2,69.3,66.099999999999994,71.099999999999994,72.8,63.4,70.5,65.7,66.5,68.8,75.3,71.7,64.8,71.8,72.400000000000006,74.2,75.099999999999994,70.5,69.5,66.3,72.599999999999994,67.400000000000006,67.099999999999994,73.3,69.400000000000006,76.7,69.2,71,72.900000000000006,70.599999999999994,71.099999999999994,68.099999999999994,73.599999999999994,70.3,71.7,75.5,77,70.8,71.2,74.900000000000006,70.7,67.599999999999994,75.2,69.7,74.599999999999994,72.2,69.3,66.8,70.099999999999994,69.5,72.400000000000006,69.7,70.331764705882378,"Free Throw Percentage",null,null,66.400000000000006,69.150000000000006,71.599999999999994]
[null,{"$f":"PERCENTRANK($B16:$MD16, B16)","v":0.55800000000000005},0.105,0.379,9.7000000000000003E-2,0.4,0.217,0.32900000000000001,0.59399999999999997,0.24099999999999999,0.45800000000000002,0.158,6.0999999999999999E-2,0.214,8.0000000000000002E-3,0.876,0.41099999999999998,9.7000000000000003E-2,0.629,1.7000000000000001E-2,0.66100000000000003,0.252,0.95,0.45,2.3E-2,0.217,0.16700000000000001,2E-3,0.59399999999999997,0.6,7.0000000000000007E-2,0.16700000000000001,6.4000000000000001E-2,{"$f":"PERCENTRANK($B16:$MD16, AH16)","v":0.629},0.13800000000000001,0.30199999999999999,5.0000000000000001E-3,0.52600000000000002,1.0999999999999999E-2,0.376,0,0.42599999999999999,0.83499999999999996,0.252,0.15,0.26100000000000001,3.7999999999999999E-2,0.47299999999999998,0.65200000000000002,0.73799999999999999,0.26400000000000001,0.35199999999999998,0.629,0.12,0.95499999999999996,0.12,0.311,0.58799999999999997,0.68500000000000005,0.84399999999999997,0.75,0.432,0.217,0.36699999999999999,0.16700000000000001,{"$f":"PERCENTRANK($B16:$MD16, BN16)","v":0.67300000000000004},0.90200000000000002,2.3E-2,0.52600000000000002,0.432,0.158,0.32900000000000001,0.54400000000000004,0.47299999999999998,0.54400000000000004,0.114,0.19400000000000001,0.23200000000000001,0.19700000000000001,0.185,0.77600000000000002,0.379,0.65200000000000002,4.1000000000000002E-2,0.35199999999999998,8.5000000000000006E-2,0.35870588235294126,{"$f":"PERCENTRANK($B16:$MD16, CJ16)","v":7.5999999999999998E-2},0.379,0.29699999999999999,0.45800000000000002,0.28199999999999997,0.49099999999999999,0.73499999999999999,0.49099999999999999,0.79100000000000004,0.86399999999999999,0.78800000000000003,4.7E-2,0.432,0.311,0.78200000000000003,0.35199999999999998,0.41099999999999998,0.90200000000000002,0.56999999999999995,0.379,0.66100000000000003,0.4,0.13200000000000001,0.71699999999999997,0.93500000000000005,0.47299999999999998,0.84399999999999997,0.34100000000000003,7.0000000000000007E-2,7.5999999999999998E-2,0.60799999999999998,0.28199999999999997,{"$f":"PERCENTRANK($B16:$MD16, DP16)","v":0.32900000000000001},4.1000000000000002E-2,0.92600000000000005,3.5000000000000003E-2,0.69699999999999995,0.86399999999999999,0.379,0.42599999999999999,0.45800000000000002,0.99399999999999999,0.60799999999999998,0.96699999999999997,0.73799999999999999,0.87,0.20499999999999999,0.56999999999999995,0.6,0.24099999999999999,0.629,0.93500000000000005,0.41099999999999998,0.26400000000000001,0.77,0.19700000000000001,0.20799999999999999,0.29699999999999999,0.105,0.28199999999999997,0.41099999999999998,1.4E-2,0.36699999999999999,8.5000000000000006E-2,{"$f":"PERCENTRANK($B16:$MD16, EV16)","v":0.68500000000000005},0.4,0.32,0.629,0.36399999999999999,0.73799999999999999,0.92,8.5000000000000006E-2,0.88500000000000001,0.69399999999999995,0.623,0.82299999999999995,0.90200000000000002,0.317,0.217,0.155,0.34100000000000003,0.28199999999999997,3.2000000000000001E-2,0.26400000000000001,0.47590476190476183,{"$f":"PERCENTRANK($B16:$MD16, FQ16)","v":0.47299999999999998},0.13200000000000001,0.56999999999999995,0.502,0.77,0.41099999999999998,0.14099999999999999,0.185,0.85199999999999998,0.32900000000000001,0.89100000000000001,0.623,0.45800000000000002,0.75,0.27300000000000002,0.69699999999999995,0.432,0.34100000000000003,0.82299999999999995,0.182,0.49099999999999999,0.72299999999999998,0.51700000000000002,0.8,0.14099999999999999,0.85199999999999998,0.16700000000000001,0.32,0.97299999999999998,0.35199999999999998,0.65200000000000002,0.502,{"$f":"PERCENTRANK($B16:$MD16, GW16)","v":0.15},0.85199999999999998,0.52600000000000002,0.755,0.4,0.105,0.24099999999999999,0.81699999999999995,0.76400000000000001,0.94399999999999995,9.4E-2,0.89700000000000002,0.158,0.95499999999999996,0.47299999999999998,0.629,0.72299999999999998,0.80800000000000005,0.12,0.96099999999999997,0.52600000000000002,0.97,0.05,0.879,5.5E-2,0.8,0.9,0.12,0.432,0.502,0.49099999999999999,0.16700000000000001,{"$f":"PERCENTRANK($B16:$MD16, IC16)","v":0.20799999999999999},0.997,0.81699999999999995,0.72299999999999998,0.28199999999999997,0.98799999999999999,0.24099999999999999,0.36699999999999999,0.60799999999999998,0.67900000000000005,0.84399999999999997,0.83499999999999996,0.185,0.502,0.97599999999999998,0.55800000000000005,0.72299999999999998,0.77900000000000003,0.70799999999999996,0.90200000000000002,0.55370238095238089,{"$f":"PERCENTRANK($B16:$MD16, IX16)","v":0.45},0.56999999999999995,0.55800000000000005,5.1999999999999998E-2,0.30199999999999999,0.96099999999999997,0.94399999999999995,0.69699999999999995,0.10199999999999999,0.55800000000000005,1,0.73799999999999999,0.39700000000000002,0.8,0.23200000000000001,0.02,0.54400000000000004,0.6,0.91400000000000003,6.7000000000000004E-2,0.52600000000000002,0.97899999999999998,0.82299999999999995,2.3E-2,0.98199999999999998,0.60799999999999998,0.88800000000000001,0.45800000000000002,0.80800000000000005,0.114,0.85199999999999998,0.47299999999999998,{"$f":"PERCENTRANK($B16:$MD16, KD16)","v":0.629},5.8000000000000003E-2,0.51700000000000002,0.217,0.70799999999999996,0.82299999999999995,7.5999999999999998E-2,0.66100000000000003,0.19700000000000001,0.252,0.45,0.93500000000000005,0.755,0.14099999999999999,0.76400000000000001,0.79100000000000004,0.89400000000000002,0.92900000000000005,0.66100000000000003,0.54400000000000004,0.23200000000000001,0.80800000000000005,0.32,0.30199999999999999,0.87,0.52600000000000002,0.98199999999999998,0.502,0.69699999999999995,0.83499999999999996,0.67300000000000004,0.70799999999999996,{"$f":"PERCENTRANK($B16:$MD16, LJ16)","v":0.379},0.88200000000000001,0.629,0.755,0.95,0.99099999999999999,0.68500000000000005,0.71699999999999997,0.92,0.67900000000000005,0.34100000000000003,0.93200000000000005,0.56999999999999995,0.91400000000000003,0.78200000000000003,0.51700000000000002,0.27300000000000002,0.60799999999999998,0.54400000000000004,0.79100000000000004,0.56999999999999995,{"$f":"AVERAGE(IX17:MD17)","v":0.59912941176470591},null,null,null,0.24299999999999999,0.495,0.747]
["Assists Per Game",10.9,10.6,8.4,10.8,12.1,9.3000000000000007,15.5,8.6,10.3,14.1,10.9,12.1,11.1,10.9,10.9,11.4,10.8,13,10.8,9.9,13.4,13.5,12.6,11.3,9.6999999999999993,11.4,14.9,13.8,8.3000000000000007,13.8,12.5,11.3,13.1,10.7,13.1,8.1999999999999993,12.3,11.5,14.5,10.8,12.1,13.5,11.6,12.5,11.7,10,11,13.6,10.6,11.9,9.1,13,11.4,13.2,10.1,12.4,12.5,13.7,14.3,13.2,13.8,13.1,12,10.9,14.1,13.4,13,13,12.8,16,10.6,15,15,12.3,12.4,12.1,12.5,14.1,11.7,12.3,10.8,12.4,9.5,12.8,11.8,12.022352941176472,14.8,13.3,13.4,10.9,12,10.1,14.6,14,11.1,14.6,13.2,10.4,10.8,13.3,9.3000000000000007,13.7,11.7,14,11.4,11.4,11.2,12.2,13.9,11.6,13.6,9.6999999999999993,12,12.1,14,14.5,11.2,12.2,12,12,12.3,12.7,9.9,11.9,14.2,12.6,13.6,11.7,12.4,12.6,12.8,11.3,12.5,12.1,11.6,13.1,12.1,13.3,15.2,15.6,13.9,13.4,13,12.3,13.2,15,14.4,12.8,10.199999999999999,10.5,13.2,12.6,12.2,10,11.6,14.3,12.6,11.7,11.4,12.1,11.2,13.8,12,12.9,10.9,12.8,13.5,12.4,12.4,14.3,12.503571428571428,12.8,12.3,10.5,11.8,12.7,13.8,11.9,13.1,11.7,14.2,13.4,13.5,15,13.7,14.5,12.7,16.100000000000001,11,13,13.5,13.7,12.6,11.3,9.6,12.8,14.4,12.7,14,16,12.8,12.2,13,11.9,13.3,14.5,13.3,10.9,10.5,14.2,12.3,14.4,12.4,13.2,13.3,14.6,12.6,12.4,13.6,13.1,14.2,12.3,16.5,14.8,12.4,12.6,11.9,12.7,13.6,11,12,11.6,11.1,14.9,12.4,15.3,13.3,11.9,14,10.5,13.7,14.4,11.4,15.1,13.9,14.9,13.7,16.399999999999999,13.1,16,13.9,14.1,14.7,11.8,12.9,13.164285714285715,15.4,13.5,13.1,10.9,15.8,13.5,11.4,13.8,13.1,12.3,13.7,12.7,13.3,16.3,13.8,11.4,14,12.4,12.7,11.5,12.8,13.6,11.3,12.8,14.6,12.4,17.8,13.8,14.4,12.8,12.5,14.1,13.5,12.9,14.3,14.9,17.3,12.1,15.6,12.2,14.2,14.4,15.4,13.8,14.7,13.4,19.5,12.4,12.7,16.100000000000001,13.6,16.3,14,16,14.4,13.4,13,12.5,12.4,11.8,12.7,18,13,14.1,14.1,11.7,15.2,13.3,13.8,16.100000000000001,13.2,15.4,11.3,13.8,18.3,15,15,15.1,17.3,15.8,17.600000000000001,15.7,12.8,13.4,16.100000000000001,14.02470588235294,"Assists Per Game",null,null,11.825000000000001,12.8,13.975]
[null,{"$f":"PERCENTRANK($B18:$MD18, B18)","v":0.1},7.0000000000000007E-2,5.0000000000000001E-3,8.2000000000000003E-2,0.29099999999999998,1.4E-2,0.92900000000000005,8.0000000000000002E-3,5.1999999999999998E-2,0.77300000000000002,0.1,0.29099999999999998,0.13500000000000001,0.1,0.1,0.17,8.2000000000000003E-2,0.51700000000000002,8.2000000000000003E-2,3.2000000000000001E-2,0.62,0.64400000000000002,0.42299999999999999,0.152,2.5999999999999999E-2,0.17,0.876,0.70799999999999996,2E-3,0.70799999999999996,0.4,0.152,{"$f":"PERCENTRANK($B18:$MD18, AH18)","v":0.54400000000000004},7.9000000000000001E-2,0.54400000000000004,0,0.33200000000000002,0.19700000000000001,0.84099999999999997,8.2000000000000003E-2,0.29099999999999998,0.64400000000000002,0.20200000000000001,0.4,0.217,3.7999999999999999E-2,0.126,0.66700000000000004,7.0000000000000007E-2,0.25,1.0999999999999999E-2,0.51700000000000002,0.17,0.57299999999999995,4.3999999999999997E-2,0.35799999999999998,0.4,0.68799999999999994,0.80800000000000005,0.57299999999999995,0.70799999999999996,0.54400000000000004,0.26700000000000002,0.1,{"$f":"PERCENTRANK($B18:$MD18, BN18)","v":0.77300000000000002},0.62,0.51700000000000002,0.51700000000000002,0.47299999999999998,0.94699999999999995,7.0000000000000007E-2,0.88800000000000001,0.88800000000000001,0.33200000000000002,0.35799999999999998,0.29099999999999998,0.4,0.77300000000000002,0.217,0.33200000000000002,8.2000000000000003E-2,0.35799999999999998,0.02,0.47299999999999998,0.23799999999999999,0.34901176470588235,{"$f":"PERCENTRANK($B18:$MD18, CJ18)","v":0.87},0.59399999999999997,0.62,0.1,0.26700000000000002,4.3999999999999997E-2,0.85199999999999998,0.752,0.13500000000000001,0.85199999999999998,0.57299999999999995,5.5E-2,8.2000000000000003E-2,0.59399999999999997,1.4E-2,0.68799999999999994,0.217,0.752,0.17,0.17,0.14399999999999999,0.317,0.74099999999999999,0.20200000000000001,0.66700000000000004,2.5999999999999999E-2,0.26700000000000002,0.29099999999999998,0.752,0.84099999999999997,0.14399999999999999,0.317,{"$f":"PERCENTRANK($B18:$MD18, DP18)","v":0.26700000000000002},0.26700000000000002,0.33200000000000002,0.44700000000000001,3.2000000000000001E-2,0.25,0.79400000000000004,0.42299999999999999,0.66700000000000004,0.217,0.35799999999999998,0.42299999999999999,0.47299999999999998,0.152,0.4,0.29099999999999998,0.20200000000000001,0.54400000000000004,0.29099999999999998,0.59399999999999997,0.91100000000000003,0.93200000000000005,0.74099999999999999,0.62,0.51700000000000002,0.33200000000000002,0.57299999999999995,0.88800000000000001,0.82,0.47299999999999998,0.05,5.8000000000000003E-2,{"$f":"PERCENTRANK($B18:$MD18, EV18)","v":0.57299999999999995},0.42299999999999999,0.317,3.7999999999999999E-2,0.20200000000000001,0.80800000000000005,0.42299999999999999,0.217,0.17,0.29099999999999998,0.14399999999999999,0.70799999999999996,0.26700000000000002,0.50800000000000001,0.1,0.47299999999999998,0.64400000000000002,0.35799999999999998,0.35799999999999998,0.80800000000000005,0.41998809523809522,{"$f":"PERCENTRANK($B18:$MD18, FQ18)","v":0.47299999999999998},0.33200000000000002,5.8000000000000003E-2,0.23799999999999999,0.44700000000000001,0.70799999999999996,0.25,0.54400000000000004,0.217,0.79400000000000004,0.62,0.64400000000000002,0.88800000000000001,0.68799999999999994,0.84099999999999997,0.44700000000000001,0.95799999999999996,0.126,0.51700000000000002,0.64400000000000002,0.68799999999999994,0.42299999999999999,0.152,2.3E-2,0.47299999999999998,0.82,0.44700000000000001,0.752,0.94699999999999995,0.47299999999999998,0.317,0.51700000000000002,{"$f":"PERCENTRANK($B18:$MD18, GW18)","v":0.25},0.59399999999999997,0.84099999999999997,0.59399999999999997,0.1,5.8000000000000003E-2,0.79400000000000004,0.33200000000000002,0.82,0.35799999999999998,0.57299999999999995,0.59399999999999997,0.85199999999999998,0.42299999999999999,0.35799999999999998,0.66700000000000004,0.54400000000000004,0.79400000000000004,0.33200000000000002,0.97899999999999998,0.87,0.35799999999999998,0.42299999999999999,0.25,0.44700000000000001,0.66700000000000004,0.126,0.26700000000000002,0.20200000000000001,0.13500000000000001,0.876,0.35799999999999998,{"$f":"PERCENTRANK($B18:$MD18, IC18)","v":0.91700000000000004},0.59399999999999997,0.25,0.752,5.8000000000000003E-2,0.68799999999999994,0.82,0.17,0.90500000000000003,0.74099999999999999,0.876,0.68799999999999994,0.97599999999999998,0.54400000000000004,0.94699999999999995,0.74099999999999999,0.77300000000000002,0.86399999999999999,0.23799999999999999,0.50800000000000001,0.53990476190476222,{"$f":"PERCENTRANK($B18:$MD18, IX18)","v":0.92},0.64400000000000002,0.54400000000000004,0.1,0.94099999999999995,0.64400000000000002,0.17,0.70799999999999996,0.54400000000000004,0.33200000000000002,0.68799999999999994,0.44700000000000001,0.59399999999999997,0.97,0.70799999999999996,0.17,0.752,0.35799999999999998,0.44700000000000001,0.19700000000000001,0.47299999999999998,0.66700000000000004,0.152,0.47299999999999998,0.85199999999999998,0.35799999999999998,0.99099999999999999,0.70799999999999996,0.82,0.47299999999999998,0.4,0.77300000000000002,{"$f":"PERCENTRANK($B18:$MD18, KD18)","v":0.64400000000000002},0.50800000000000001,0.80800000000000005,0.876,0.98199999999999998,0.29099999999999998,0.93200000000000005,0.317,0.79400000000000004,0.82,0.92,0.70799999999999996,0.86399999999999999,0.62,1,0.35799999999999998,0.44700000000000001,0.95799999999999996,0.66700000000000004,0.97,0.752,0.94699999999999995,0.82,0.62,0.51700000000000002,0.4,0.35799999999999998,0.23799999999999999,0.44700000000000001,0.99399999999999999,0.51700000000000002,0.77300000000000002,{"$f":"PERCENTRANK($B18:$MD18, LJ18)","v":0.77300000000000002},0.217,0.91100000000000003,0.59399999999999997,0.70799999999999996,0.95799999999999996,0.57299999999999995,0.92,0.152,0.70799999999999996,0.997,0.88800000000000001,0.88800000000000001,0.90500000000000003,0.98199999999999998,0.94099999999999995,0.98799999999999999,0.93799999999999994,0.47299999999999998,0.62,0.95799999999999996,0.65855294117647067,null,null,null,0.24299999999999999,0.47099999999999997,0.747]
["Turn Overs Per Game",14.9,16,17,16.3,15.3,16.5,12.8,14.7,14.8,14.9,17,13.8,15.2,15.6,14.7,14.3,13.8,15.4,16.100000000000001,14,14.8,13.9,15.5,14.9,13.8,13,15.6,13.7,15.5,12.5,15.8,14,12.8,17.2,15.6,18.3,14.1,15,13.8,15.9,14.4,15.7,14.6,15.7,15.3,13.3,14.1,15.4,12.9,14.2,17.100000000000001,12,16.600000000000001,13.1,12.7,14.9,12.1,12,13.1,13.3,14.4,16,14,12.3,15.1,11.1,15.4,14,12.6,15.2,13.9,17.7,13.1,13.3,14.2,15.1,13.4,13.1,13.9,13.8,13.7,16.5,10.9,12.7,14,14.478823529411768,13.1,12.9,13,14.7,16.600000000000001,13.6,15.3,13.2,13.9,14.1,13.9,17.2,13.6,14,14.7,15.4,15.5,15.3,13.6,14.6,17.100000000000001,14.3,14.1,15.6,14.5,14,15.3,13.4,13.7,15.3,15.3,14,12.8,14,12.7,14.9,13.8,11,14.8,10.8,12.6,11.7,11.7,12.3,14.9,10.6,13,10.3,13,16.3,14.8,13.8,13.7,14.1,15,13.7,12.3,15.5,13.4,16,13.9,15,12.5,13.6,15,11.1,14.5,12.8,13.5,13.7,12.4,16.3,13.5,15.4,16.2,12.6,15,13.8,14.8,11.2,13.7,13,15.5,11.9,13.919047619047619,13.4,12.9,12.6,12.2,13.6,13,13.6,14.1,13,13.6,12.3,12.7,15.7,15,13.5,12,14,12.2,12.5,15.2,13.4,11.2,12.6,13,13.8,16.100000000000001,11.8,13.9,13,12.1,14,15,15.7,12.5,13.4,12.7,13.2,13.4,12,12.4,12.7,13.6,15.1,12.3,15,11.5,14.7,15.1,13.9,12.8,13.3,13.8,12.6,14,13.5,13.2,14,10.6,12,13.5,14.8,10.5,13.6,14.2,12,11.4,12,12.9,13.3,14.5,12.4,14.7,13.5,14.3,16.7,12.8,15.3,14,12,13.9,14.2,12.9,13.6,13.2,13.359523809523811,14.3,16.399999999999999,15.2,15,15.4,11.7,11.7,13.6,10.8,13.2,10.8,13.8,13.3,12.9,14.9,14.9,12.4,12.8,11.7,12.5,12,12,11.1,12.9,13.4,11.6,12.6,14.1,10.5,13.6,12.8,13.4,13.7,13.4,13.3,13.2,13.1,12.1,14.1,13.6,14.7,12.4,10.3,12.9,10,8.6,12.5,11.3,12.2,11.8,11.1,14.1,13.3,11.7,12.5,13.1,14.1,12.8,12.9,16.5,13.1,12.5,13.7,12.9,14.8,9,11.4,13.7,13.1,10.5,10.6,12.2,11.6,12.6,13.7,12.1,11.8,14.2,12.7,13.5,12,13.3,12.4,11.7,10.5,12.731764705882359,"Turn Overs Per Game",null,null,12.6,13.6,14.775]
[null,{"$f":"PERCENTRANK($B20:$MD20, B20)","v":0.77300000000000002},0.93200000000000005,0.97899999999999998,0.95,0.84699999999999998,0.96099999999999997,0.27300000000000002,0.73199999999999998,0.752,0.77300000000000002,0.97899999999999998,0.55000000000000004,0.83499999999999996,0.90200000000000002,0.73199999999999998,0.69699999999999995,0.55000000000000004,0.87,0.94099999999999995,0.61099999999999999,0.752,0.58199999999999996,0.88800000000000001,0.77300000000000002,0.55000000000000004,0.32900000000000001,0.90200000000000002,0.51700000000000002,0.88800000000000001,0.20499999999999999,0.92600000000000005,0.61099999999999999,{"$f":"PERCENTRANK($B20:$MD20, AH20)","v":0.27300000000000002},0.99099999999999999,0.90200000000000002,1,0.65200000000000002,0.79700000000000004,0.55000000000000004,0.92900000000000005,0.70799999999999996,0.91400000000000003,0.72599999999999998,0.91400000000000003,0.84699999999999998,0.4,0.65200000000000002,0.87,0.3,0.68200000000000005,0.98499999999999999,0.11700000000000001,0.97,0.35499999999999998,0.252,0.77300000000000002,0.15,0.11700000000000001,0.35499999999999998,0.4,0.70799999999999996,0.93200000000000005,0.61099999999999999,0.17299999999999999,{"$f":"PERCENTRANK($B20:$MD20, BN20)","v":0.82299999999999995},0.05,0.87,0.61099999999999999,0.22900000000000001,0.83499999999999996,0.58199999999999996,0.997,0.35499999999999998,0.4,0.68200000000000005,0.82299999999999995,0.42899999999999999,0.35499999999999998,0.58199999999999996,0.55000000000000004,0.51700000000000002,0.96099999999999997,4.3999999999999997E-2,0.252,0.61099999999999999,0.64852941176470558,{"$f":"PERCENTRANK($B20:$MD20, CJ20)","v":0.35499999999999998},0.3,0.32900000000000001,0.73199999999999998,0.97,0.47899999999999998,0.84699999999999998,0.38200000000000001,0.58199999999999996,0.65200000000000002,0.58199999999999996,0.99099999999999999,0.47899999999999998,0.61099999999999999,0.73199999999999998,0.87,0.88800000000000001,0.84699999999999998,0.47899999999999998,0.72599999999999998,0.98499999999999999,0.69699999999999995,0.65200000000000002,0.90200000000000002,0.71699999999999997,0.61099999999999999,0.84699999999999998,0.42899999999999999,0.51700000000000002,0.84699999999999998,0.84699999999999998,0.61099999999999999,{"$f":"PERCENTRANK($B20:$MD20, DP20)","v":0.27300000000000002},0.61099999999999999,0.252,0.77300000000000002,0.55000000000000004,4.7E-2,0.752,3.5000000000000003E-2,0.22900000000000001,8.5000000000000006E-2,8.5000000000000006E-2,0.17299999999999999,0.77300000000000002,2.5999999999999999E-2,0.32900000000000001,8.0000000000000002E-3,0.32900000000000001,0.95,0.752,0.55000000000000004,0.51700000000000002,0.65200000000000002,0.79700000000000004,0.51700000000000002,0.17299999999999999,0.88800000000000001,0.42899999999999999,0.93200000000000005,0.58199999999999996,0.79700000000000004,0.20499999999999999,0.47899999999999998,{"$f":"PERCENTRANK($B20:$MD20, EV20)","v":0.79700000000000004},0.05,0.71699999999999997,0.27300000000000002,0.45800000000000002,0.51700000000000002,0.188,0.95,0.45800000000000002,0.87,0.94699999999999995,0.22900000000000001,0.79700000000000004,0.55000000000000004,0.752,6.0999999999999999E-2,0.51700000000000002,0.32900000000000001,0.88800000000000001,0.114,0.55365476190476182,{"$f":"PERCENTRANK($B20:$MD20, FQ20)","v":0.42899999999999999},0.3,0.22900000000000001,0.161,0.47899999999999998,0.32900000000000001,0.47899999999999998,0.65200000000000002,0.32900000000000001,0.47899999999999998,0.17299999999999999,0.252,0.91400000000000003,0.79700000000000004,0.45800000000000002,0.11700000000000001,0.61099999999999999,0.161,0.20499999999999999,0.83499999999999996,0.42899999999999999,6.0999999999999999E-2,0.22900000000000001,0.32900000000000001,0.55000000000000004,0.94099999999999995,0.105,0.58199999999999996,0.32900000000000001,0.15,0.61099999999999999,0.79700000000000004,{"$f":"PERCENTRANK($B20:$MD20, GW20)","v":0.91400000000000003},0.20499999999999999,0.42899999999999999,0.252,0.38200000000000001,0.42899999999999999,0.11700000000000001,0.188,0.252,0.47899999999999998,0.82299999999999995,0.17299999999999999,0.79700000000000004,7.5999999999999998E-2,0.73199999999999998,0.82299999999999995,0.58199999999999996,0.27300000000000002,0.4,0.55000000000000004,0.22900000000000001,0.61099999999999999,0.45800000000000002,0.38200000000000001,0.61099999999999999,2.5999999999999999E-2,0.11700000000000001,0.45800000000000002,0.752,1.4E-2,0.47899999999999998,0.68200000000000005,{"$f":"PERCENTRANK($B20:$MD20, IC20)","v":0.11700000000000001},7.0000000000000007E-2,0.11700000000000001,0.3,0.4,0.71699999999999997,0.188,0.73199999999999998,0.45800000000000002,0.69699999999999995,0.97599999999999998,0.27300000000000002,0.84699999999999998,0.61099999999999999,0.11700000000000001,0.58199999999999996,0.68200000000000005,0.3,0.47899999999999998,0.38200000000000001,0.43145238095238075,{"$f":"PERCENTRANK($B20:$MD20, IX20)","v":0.69699999999999995},0.95799999999999996,0.83499999999999996,0.79700000000000004,0.87,8.5000000000000006E-2,8.5000000000000006E-2,0.47899999999999998,3.5000000000000003E-2,0.38200000000000001,3.5000000000000003E-2,0.55000000000000004,0.4,0.3,0.77300000000000002,0.77300000000000002,0.188,0.27300000000000002,8.5000000000000006E-2,0.20499999999999999,0.11700000000000001,0.11700000000000001,0.05,0.3,0.42899999999999999,7.9000000000000001E-2,0.22900000000000001,0.65200000000000002,1.4E-2,0.47899999999999998,0.27300000000000002,0.42899999999999999,{"$f":"PERCENTRANK($B20:$MD20, KD20)","v":0.51700000000000002},0.42899999999999999,0.4,0.38200000000000001,0.35499999999999998,0.15,0.65200000000000002,0.47899999999999998,0.73199999999999998,0.188,8.0000000000000002E-3,0.3,5.0000000000000001E-3,0,0.20499999999999999,6.7000000000000004E-2,0.161,0.105,0.05,0.65200000000000002,0.4,8.5000000000000006E-2,0.20499999999999999,0.35499999999999998,0.65200000000000002,0.27300000000000002,0.3,0.96099999999999997,0.35499999999999998,0.20499999999999999,0.51700000000000002,0.3,{"$f":"PERCENTRANK($B20:$MD20, LJ20)","v":0.752},2E-3,7.0000000000000007E-2,0.51700000000000002,0.35499999999999998,1.4E-2,2.5999999999999999E-2,0.161,7.9000000000000001E-2,0.22900000000000001,0.51700000000000002,0.15,0.105,0.68200000000000005,0.252,0.45800000000000002,0.11700000000000001,0.4,0.188,8.5000000000000006E-2,1.4E-2,0.32459999999999989,null,null,null,0.23100000000000001,0.48,0.74475000000000002]
[null,{"$f":"AVERAGE(B21,B19,B17,B15,B13,B11)","v":0.29720000000000002},0.28720000000000001,0.27300000000000002,0.249,0.47316666666666668,0.20783333333333331,0.58449999999999991,0.33080000000000004,0.2173333333333333,0.41583333333333333,0.25499999999999995,0.27316666666666667,0.29500000000000004,0.23420000000000002,0.38466666666666666,0.23200000000000001,0.151,0.47599999999999998,0.27166666666666667,0.30099999999999999,0.43883333333333335,0.45416666666666666,0.50549999999999995,0.2024,0.36083333333333334,0.26950000000000002,0.48499999999999993,0.55116666666666669,0.3024,0.35466666666666669,0.47500000000000009,0.20566666666666666,{"$f":"AVERAGE(AH21,AH19,AH17,AH15,AH13,AH11)","v":0.51366666666666672},0.2185,0.34483333333333333,0.20199999999999996,0.35760000000000003,0.18299999999999997,0.49016666666666664,0.20816666666666669,0.49533333333333335,0.66116666666666668,0.25833333333333336,0.28833333333333327,0.40960000000000002,0.19733333333333336,0.29659999999999997,0.55033333333333334,0.24650000000000002,0.32233333333333336,0.2964,0.45683333333333326,0.29683333333333328,0.51966666666666672,0.13083333333333333,0.46,0.27899999999999997,0.54659999999999997,0.59316666666666673,0.56699999999999995,0.57066666666666666,0.52766666666666662,0.36266666666666669,0.19539999999999999,{"$f":"AVERAGE(BN21,BN19,BN17,BN15,BN13,BN11)","v":0.7496666666666667},0.41566666666666668,0.3372,0.52283333333333337,0.57300000000000006,0.56499999999999995,0.19733333333333333,0.70133333333333336,0.65466666666666662,0.47049999999999997,0.44133333333333341,0.33199999999999996,0.23319999999999999,0.44950000000000001,0.29299999999999998,0.42440000000000005,0.2366,0.78283333333333338,2.9600000000000005E-2,0.39599999999999996,0.26960000000000001,0.37572352941176462,{"$f":"AVERAGE(CJ21,CJ19,CJ17,CJ15,CJ13,CJ11)","v":0.6113333333333334},0.31449999999999995,0.44983333333333331,0.30549999999999999,0.49033333333333334,0.24440000000000001,0.76666666666666661,0.59350000000000003,0.38450000000000001,0.7218,0.68133333333333335,0.26866666666666666,0.36816666666666659,0.50516666666666676,0.37833333333333335,0.72833333333333317,0.41516666666666668,0.79933333333333323,0.435,0.30183333333333334,0.47960000000000003,0.37560000000000004,0.42566666666666664,0.48820000000000008,0.62416666666666665,0.22519999999999993,0.54316666666666658,0.33499999999999996,0.43479999999999996,0.66016666666666668,0.32100000000000001,0.32550000000000001,{"$f":"AVERAGE(DP21,DP19,DP17,DP15,DP13,DP11)","v":0.27016666666666667},0.21880000000000002,0.58916666666666673,0.36899999999999999,0.30816666666666664,0.39733333333333332,0.65683333333333327,0.33766666666666662,0.42083333333333339,0.55466666666666653,0.437,0.59883333333333333,0.68950000000000011,0.27733333333333338,0.37316666666666665,0.36566666666666664,0.33349999999999996,0.56266666666666665,0.54759999999999986,0.74016666666666664,0.58466666666666667,0.75583333333333336,0.76983333333333326,0.51500000000000001,0.3136666666666667,0.56499999999999995,0.34116666666666667,0.66049999999999998,0.53266666666666662,0.35983333333333328,0.2782,0.3306,{"$f":"AVERAGE(EV21,EV19,EV17,EV15,EV13,EV11)","v":0.57200000000000006},0.45033333333333331,0.50419999999999998,0.2205,0.29749999999999999,0.72049999999999992,0.50149999999999995,0.41500000000000004,0.61,0.48733333333333334,0.48659999999999998,0.73833333333333329,0.5498333333333334,0.63239999999999996,0.28633333333333338,0.39450000000000002,0.37516666666666665,0.29239999999999999,0.53566666666666662,0.3861666666666666,0.47039365079365081,{"$f":"AVERAGE(FQ21,FQ19,FQ17,FQ15,FQ13,FQ11)","v":0.63950000000000007},0.35560000000000003,0.23599999999999999,0.39450000000000002,0.44016666666666665,0.39616666666666661,0.26916666666666672,0.36083333333333334,0.39250000000000007,0.53900000000000003,0.54716666666666669,0.52480000000000004,0.85883333333333345,0.76983333333333326,0.66566666666666674,0.56533333333333335,0.73249999999999993,0.14416666666666669,0.60819999999999996,0.41833333333333339,0.63583333333333336,0.48199999999999998,0.3721666666666667,0.36033333333333339,0.28816666666666668,0.74633333333333329,0.28899999999999998,0.57683333333333342,0.79999999999999993,0.32,0.46483333333333338,0.4955,{"$f":"AVERAGE(GW21,GW19,GW17,GW15,GW13,GW11)","v":0.40983333333333333},0.67516666666666669,0.58500000000000008,0.58819999999999995,0.32439999999999997,0.40099999999999997,0.5581666666666667,0.39616666666666661,0.67933333333333346,0.41683333333333333,0.56666666666666676,0.58950000000000002,0.56433333333333335,0.49366666666666664,0.53116666666666668,0.67949999999999999,0.5036666666666666,0.59840000000000004,0.20183333333333334,0.84866666666666657,0.64683333333333337,0.48366666666666663,0.32433333333333331,0.50700000000000001,0.26766666666666666,0.45883333333333337,0.33049999999999996,0.37433333333333335,0.36849999999999999,0.16083333333333336,0.64533333333333331,0.51350000000000007,{"$f":"AVERAGE(IC21,IC19,IC17,IC15,IC13,IC11)","v":0.48366666666666669},0.6303333333333333,0.4331666666666667,0.67449999999999999,0.32716666666666666,0.67899999999999994,0.51516666666666666,0.5508333333333334,0.57966666666666677,0.65983333333333327,0.90600000000000003,0.60816666666666663,0.68933333333333335,0.58383333333333332,0.74799999999999989,0.66183333333333338,0.70533333333333337,0.75816666666666654,0.39949999999999997,0.64800000000000002,0.51932857142857158,{"$f":"AVERAGE(IX21,IX19,IX17,IX15,IX13,IX11)","v":0.65350000000000008},0.73399999999999999,0.6956,0.2354,0.6226666666666667,0.64700000000000002,0.40099999999999997,0.62466666666666659,0.35416666666666674,0.48383333333333334,0.75316666666666665,0.46816666666666668,0.47966666666666663,0.71433333333333326,0.72179999999999989,0.35,0.60216666666666663,0.30033333333333334,0.53150000000000008,0.23433333333333331,0.54900000000000004,0.62166666666666659,0.47899999999999993,0.31066666666666665,0.64400000000000002,0.32150000000000001,0.82250000000000012,0.71566666666666656,0.73566666666666658,0.53866666666666674,0.55016666666666658,0.6366666666666666,{"$f":"AVERAGE(KD21,KD19,KD17,KD15,KD13,KD11)","v":0.67216666666666669},0.47016666666666668,0.65800000000000003,0.4921666666666667,0.71799999999999997,0.53083333333333338,0.68779999999999997,0.4194,0.52800000000000002,0.50816666666666666,0.60116666666666674,0.74516666666666664,0.47966666666666669,0.45866666666666661,0.8181666666666666,0.41949999999999998,0.51333333333333331,0.74119999999999997,0.5548333333333334,0.77683333333333326,0.62950000000000006,0.68483333333333329,0.6323333333333333,0.44900000000000001,0.81100000000000005,0.48199999999999998,0.70599999999999996,0.53533333333333333,0.52299999999999991,0.83483333333333321,0.72566666666666668,0.7360000000000001,{"$f":"AVERAGE(LJ21,LJ19,LJ17,LJ15,LJ13,LJ11)","v":0.53049999999999997},0.38583333333333342,0.72299999999999998,0.7380000000000001,0.81933333333333325,0.80633333333333335,0.48199999999999998,0.76449999999999996,0.46549999999999997,0.59683333333333333,0.74966666666666659,0.78616666666666657,0.68079999999999996,0.86983333333333335,0.70400000000000007,0.71899999999999997,0.61350000000000005,0.70199999999999996,0.65533333333333332,0.71099999999999997,0.62666666666666659,0.6024117647058822,null,null,null,0.35106666666666664,0.48866666666666669,0.63116666666666665]
["Overall Offensive Skill Set % Tile Ranking",{"$f":"PERCENTRANK($B22:$MD22,B22)","v":0.161},0.13200000000000001,0.114,8.5000000000000006E-2,0.45200000000000001,3.7999999999999999E-2,0.67900000000000005,0.223,4.3999999999999997E-2,0.36399999999999999,8.7999999999999995E-2,0.11700000000000001,0.15,6.4000000000000001E-2,0.311,5.8000000000000003E-2,8.0000000000000002E-3,0.45800000000000002,0.111,0.17,0.4,0.42,0.53200000000000003,3.2000000000000001E-2,0.26700000000000002,0.10199999999999999,0.49099999999999999,0.629,0.17599999999999999,0.252,0.45500000000000002,3.5000000000000003E-2,{"$f":"PERCENTRANK($B22:$MD22,AH22)","v":0.54700000000000004},4.7E-2,0.24399999999999999,2.9000000000000001E-2,0.25800000000000001,1.4E-2,0.502,4.1000000000000002E-2,0.51400000000000001,0.80500000000000005,9.0999999999999998E-2,0.13800000000000001,0.35,2.3E-2,0.155,0.623,8.2000000000000003E-2,0.20200000000000001,0.152,0.42299999999999999,0.158,0.55800000000000005,2E-3,0.432,0.126,0.60499999999999998,0.69699999999999995,0.65800000000000003,0.66100000000000003,0.56999999999999995,0.27300000000000002,1.7000000000000001E-2,{"$f":"PERCENTRANK($B22:$MD22,BN22)","v":0.93500000000000005},0.36099999999999999,0.23499999999999999,0.56100000000000005,0.66700000000000004,0.64700000000000002,0.02,0.85199999999999998,0.78500000000000003,0.45,0.40500000000000003,0.22600000000000001,6.0999999999999999E-2,0.41099999999999998,0.14699999999999999,0.38200000000000001,7.5999999999999998E-2,0.96099999999999997,0,0.32900000000000001,0.105,0.30859999999999999,{"$f":"PERCENTRANK($B22:$MD22,CJ22)","v":0.72599999999999998},0.191,0.41399999999999998,0.17899999999999999,0.505,7.9000000000000001E-2,0.95,0.7,0.308,0.88800000000000001,0.83499999999999996,9.7000000000000003E-2,0.27900000000000003,0.52900000000000003,0.30499999999999999,0.89700000000000002,0.35799999999999998,0.96699999999999997,0.39400000000000002,0.17299999999999999,0.46400000000000002,0.3,0.38500000000000001,0.5,0.73799999999999999,5.5E-2,0.60199999999999998,0.23200000000000001,0.39100000000000001,0.8,0.19700000000000001,0.21099999999999999,{"$f":"PERCENTRANK($B22:$MD22,DP22)","v":0.108},0.05,0.69099999999999995,0.28499999999999998,0.182,0.33800000000000002,0.79100000000000004,0.23799999999999999,0.379,0.63200000000000001,0.39700000000000002,0.70799999999999996,0.84699999999999998,0.12,0.29099999999999998,0.27600000000000002,0.22900000000000001,0.64100000000000001,0.61099999999999999,0.91700000000000004,0.68200000000000005,0.94099999999999995,0.95199999999999996,0.55000000000000004,0.188,0.64700000000000002,0.24099999999999999,0.80200000000000005,0.58799999999999997,0.26100000000000001,0.123,0.22,{"$f":"PERCENTRANK($B22:$MD22,EV22)","v":0.66400000000000003},0.41699999999999998,0.52600000000000002,5.1999999999999998E-2,0.16400000000000001,0.88200000000000001,0.52,0.35499999999999998,0.72299999999999998,0.497,0.49399999999999999,0.91400000000000003,0.61699999999999999,0.755,0.129,0.32300000000000001,0.29699999999999999,0.14399999999999999,0.59399999999999997,0.317,0.46379761904761907,{"$f":"PERCENTRANK($B22:$MD22,FQ22)","v":0.76400000000000001},0.255,7.2999999999999995E-2,0.32300000000000001,0.40200000000000002,0.33200000000000002,0.1,0.26700000000000002,0.32,0.6,0.60799999999999998,0.56699999999999995,0.99399999999999999,0.95199999999999996,0.81100000000000005,0.65200000000000002,0.9,5.0000000000000001E-3,0.72,0.37,0.75800000000000001,0.47299999999999998,0.28799999999999998,0.26400000000000001,0.13500000000000001,0.92600000000000005,0.14099999999999999,0.67,0.97,0.19400000000000001,0.435,0.51700000000000002,{"$f":"PERCENTRANK($B22:$MD22,GW22)","v":0.35199999999999998},0.82,0.68500000000000005,0.68799999999999994,0.20799999999999999,0.34399999999999997,0.63800000000000001,0.33200000000000002,0.82599999999999996,0.36699999999999999,0.65500000000000003,0.69399999999999995,0.64400000000000002,0.51100000000000001,0.58199999999999996,0.82899999999999996,0.52300000000000002,0.70499999999999996,2.5999999999999999E-2,0.99099999999999999,0.77300000000000002,0.48199999999999998,0.20499999999999999,0.53500000000000003,9.4E-2,0.42899999999999999,0.217,0.29399999999999998,0.28199999999999997,1.0999999999999999E-2,0.77,0.54400000000000004,{"$f":"PERCENTRANK($B22:$MD22,IC22)","v":0.48499999999999999},0.75,0.38800000000000001,0.81699999999999995,0.214,0.82299999999999995,0.55200000000000005,0.626,0.67300000000000004,0.79700000000000004,1,0.71699999999999997,0.84399999999999997,0.67600000000000005,0.92900000000000005,0.80800000000000005,0.86099999999999999,0.94399999999999995,0.34100000000000003,0.77900000000000003,0.54602380952380947,{"$f":"PERCENTRANK($B22:$MD22,IX22)","v":0.78200000000000003},0.90200000000000002,0.85,7.0000000000000007E-2,0.73499999999999999,0.77600000000000002,0.34399999999999997,0.74099999999999999,0.25,0.48799999999999999,0.93799999999999994,0.441,0.46700000000000003,0.87,0.88500000000000001,0.247,0.71399999999999997,0.16700000000000001,0.58499999999999996,6.7000000000000004E-2,0.61399999999999999,0.73199999999999998,0.46100000000000002,0.185,0.76700000000000002,0.2,0.98499999999999999,0.873,0.90500000000000003,0.59699999999999998,0.62,0.76100000000000001,{"$f":"PERCENTRANK($B22:$MD22,KD22)","v":0.81399999999999995},0.44400000000000001,0.79400000000000004,0.50800000000000001,0.876,0.57899999999999996,0.84099999999999997,0.373,0.57299999999999995,0.53800000000000003,0.71099999999999997,0.92300000000000004,0.47,0.42599999999999999,0.97899999999999998,0.376,0.54100000000000004,0.92,0.63500000000000001,0.95799999999999996,0.747,0.83799999999999997,0.752,0.40799999999999997,0.97599999999999998,0.47299999999999998,0.86399999999999999,0.59099999999999997,0.56399999999999995,0.98799999999999999,0.89400000000000002,0.90800000000000003,{"$f":"PERCENTRANK($B22:$MD22,LJ22)","v":0.57599999999999996},0.314,0.89100000000000001,0.91100000000000003,0.98199999999999998,0.97299999999999998,0.47299999999999998,0.94699999999999995,0.438,0.70199999999999996,0.93200000000000005,0.96399999999999997,0.83199999999999996,0.997,0.85799999999999998,0.879,0.72899999999999998,0.85499999999999998,0.78800000000000003,0.86699999999999999,0.74399999999999999,0.68179999999999985,"Overall Offensive Skill Set % Tile Ranking",null,null,0.24975,0.4995,0.74924999999999997]
["Defensive Rebounds Per Game",30.3,37.700000000000003,32.9,34.4,31.4,35.6,34.200000000000003,30.3,34.6,32.700000000000003,35.299999999999997,29.4,33.4,36.299999999999997,35,30.5,32.700000000000003,31.8,36.5,32.299999999999997,32.9,34.9,36,34,33.6,31.1,37.9,33.299999999999997,33.1,32.1,28.1,37,34.5,36.6,28.7,35.4,30.9,35,39.1,39.6,32.4,31.8,34.700000000000003,30.2,34.6,33.4,33.200000000000003,30.4,31.1,36.4,35,33.4,32.799999999999997,32,32.799999999999997,30.8,32.4,34.5,35.299999999999997,33.200000000000003,34.4,36.799999999999997,30.4,33.6,36.200000000000003,33.700000000000003,35.299999999999997,34.299999999999997,34.1,37.299999999999997,29,36.5,34.5,28.2,34.700000000000003,34.299999999999997,36.5,32.299999999999997,31.3,33.700000000000003,32.9,34.299999999999997,27.1,35.6,32.6,33.542352941176475,34.9,33.9,31.7,37.4,31.7,33.9,32.299999999999997,34.200000000000003,34.200000000000003,32.299999999999997,33.700000000000003,34.6,35.5,37.200000000000003,32.4,35.1,35.700000000000003,33.9,29.8,29.6,30.6,36.4,31.3,33.299999999999997,33.6,31.1,34.4,33.200000000000003,35.200000000000003,35.799999999999997,35.4,36.799999999999997,28.4,38.299999999999997,34.700000000000003,36.9,28.5,29.3,31.3,34.4,39.299999999999997,33.200000000000003,34.200000000000003,29.6,35.9,31.5,34.700000000000003,30.8,32.9,36.200000000000003,39.799999999999997,32.5,33.1,35.5,33.6,31,33.5,31.7,36,37.799999999999997,34.6,35.6,35.9,34.6,38.200000000000003,29.6,33.700000000000003,31.2,34.6,33,34.5,38.5,35,31.9,39.700000000000003,33.200000000000003,31.1,38.299999999999997,35.4,32.4,32.700000000000003,33.4,34.299999999999997,33.700000000000003,33.938095238095229,35.9,43.4,33.200000000000003,34.1,34.799999999999997,29.1,34.299999999999997,36,32.6,36.1,35.1,37.1,37.1,33.9,34.299999999999997,33,34.700000000000003,34.700000000000003,34.4,37.700000000000003,33.299999999999997,32.299999999999997,37.200000000000003,37.799999999999997,34.5,35.9,36.1,33.6,29.3,32.700000000000003,35.4,34.4,36.4,33.799999999999997,31.1,39.6,34.4,32.5,34.4,33,34.799999999999997,30.3,36.4,34.700000000000003,33.5,30.1,34.5,34,35.1,37.5,35.5,34.799999999999997,38.4,39.700000000000003,34.799999999999997,35.1,40,34.799999999999997,33,36,34.9,33.299999999999997,34.4,37.299999999999997,31.2,36,34,32.700000000000003,36.4,35,33.200000000000003,36.200000000000003,37.200000000000003,37.799999999999997,38.9,30.2,40.799999999999997,36.299999999999997,26.4,32.9,32.799999999999997,33.700000000000003,35.6,34.700000000000003,34.810714285714283,34.5,39.299999999999997,36.200000000000003,33.299999999999997,39.4,35.9,29.1,31.9,36.6,37,35.200000000000003,32.799999999999997,35,37.299999999999997,39.9,38.1,35.9,37.200000000000003,35.200000000000003,37.299999999999997,36.4,38.9,31.4,39.799999999999997,36.1,34.4,36,35.799999999999997,34.700000000000003,36.700000000000003,36.200000000000003,37.1,34,40.1,36.799999999999997,37.9,39,34.9,35.1,34,38.1,35.6,29.8,31.9,34.4,33.299999999999997,35.200000000000003,32.700000000000003,32.799999999999997,34.799999999999997,32.9,38.4,35.1,36.700000000000003,36.4,38,33.6,37.299999999999997,31.3,37.6,35.1,35.700000000000003,34.799999999999997,34.5,38.799999999999997,34.4,36.200000000000003,37.1,34.799999999999997,32.4,31.1,34.6,36.799999999999997,36.1,38.700000000000003,37.700000000000003,36.4,36.5,35.200000000000003,37.299999999999997,45.9,39.1,37,39.200000000000003,35.5,35.872941176470583,"Defensive Rebounds Per Game",null,null,32.9,34.6,36.200000000000003]
[null,{"$f":"PERCENTRANK($B24:$MD24,B24)","v":6.0999999999999999E-2},0.88500000000000001,0.24099999999999999,0.438,0.129,0.66700000000000004,0.40799999999999997,6.0999999999999999E-2,0.497,0.20799999999999999,0.63500000000000001,3.5000000000000003E-2,0.314,0.75800000000000001,0.58199999999999996,7.5999999999999998E-2,0.20799999999999999,0.14699999999999999,0.78800000000000003,0.16700000000000001,0.24099999999999999,0.56999999999999995,0.71099999999999997,0.38800000000000001,0.33500000000000002,9.4E-2,0.90200000000000002,0.29699999999999999,0.27,0.16400000000000001,5.0000000000000001E-3,0.82599999999999996,{"$f":"PERCENTRANK($B24:$MD24,AH24)","v":0.47299999999999998},0.8,1.7000000000000001E-2,0.64400000000000002,8.7999999999999995E-2,0.58199999999999996,0.95,0.96699999999999997,0.182,0.14699999999999999,0.51700000000000002,5.5E-2,0.497,0.314,0.27600000000000002,7.0000000000000007E-2,9.4E-2,0.76400000000000001,0.58199999999999996,0.314,0.22600000000000001,0.161,0.22600000000000001,8.2000000000000003E-2,0.182,0.47299999999999998,0.63500000000000001,0.27600000000000002,0.438,0.81100000000000005,7.0000000000000007E-2,0.33500000000000002,{"$f":"PERCENTRANK($B24:$MD24,BN24)","v":0.74099999999999999},0.35199999999999998,0.63500000000000001,0.42,0.40200000000000002,0.85799999999999998,0.02,0.78800000000000003,0.47299999999999998,8.0000000000000002E-3,0.51700000000000002,0.42,0.78800000000000003,0.16700000000000001,0.11700000000000001,0.35199999999999998,0.24099999999999999,0.42,2E-3,0.66700000000000004,0.20200000000000001,0.38760000000000006,{"$f":"PERCENTRANK($B24:$MD24,CJ24)","v":0.56999999999999995},0.373,0.13800000000000001,0.876,0.13800000000000001,0.373,0.16700000000000001,0.40799999999999997,0.40799999999999997,0.16700000000000001,0.35199999999999998,0.497,0.65500000000000003,0.84699999999999998,0.182,0.6,0.68200000000000005,0.373,4.7E-2,3.7999999999999999E-2,7.9000000000000001E-2,0.76400000000000001,0.11700000000000001,0.29699999999999999,0.33500000000000002,9.4E-2,0.438,0.27600000000000002,0.62,0.68799999999999994,0.64400000000000002,0.81100000000000005,{"$f":"PERCENTRANK($B24:$MD24,DP24)","v":1.0999999999999999E-2},0.92,0.51700000000000002,0.82299999999999995,1.4E-2,2.9000000000000001E-2,0.11700000000000001,0.438,0.95799999999999996,0.27600000000000002,0.40799999999999997,3.7999999999999999E-2,0.69399999999999995,0.13500000000000001,0.51700000000000002,8.2000000000000003E-2,0.24099999999999999,0.74099999999999999,0.97899999999999998,0.19700000000000001,0.27,0.65500000000000003,0.33500000000000002,9.0999999999999998E-2,0.32600000000000001,0.13800000000000001,0.71099999999999997,0.89400000000000002,0.497,0.66700000000000004,0.69399999999999995,0.497,{"$f":"PERCENTRANK($B24:$MD24,EV24)","v":0.91700000000000004},3.7999999999999999E-2,0.35199999999999998,0.111,0.497,0.25800000000000001,0.47299999999999998,0.93200000000000005,0.58199999999999996,0.152,0.97299999999999998,0.27600000000000002,9.4E-2,0.92,0.64400000000000002,0.182,0.20799999999999999,0.314,0.42,0.35199999999999998,0.42451190476190481,{"$f":"PERCENTRANK($B24:$MD24,FQ24)","v":0.69399999999999995},0.997,0.27600000000000002,0.40200000000000002,0.54400000000000004,2.3E-2,0.42,0.71099999999999997,0.20200000000000001,0.72899999999999998,0.6,0.83499999999999996,0.83499999999999996,0.373,0.42,0.25800000000000001,0.51700000000000002,0.51700000000000002,0.438,0.88500000000000001,0.29699999999999999,0.16700000000000001,0.84699999999999998,0.89400000000000002,0.47299999999999998,0.69399999999999995,0.72899999999999998,0.33500000000000002,2.9000000000000001E-2,0.20799999999999999,0.64400000000000002,0.438,{"$f":"PERCENTRANK($B24:$MD24,GW24)","v":0.76400000000000001},0.37,9.4E-2,0.96699999999999997,0.438,0.19700000000000001,0.438,0.25800000000000001,0.54400000000000004,6.0999999999999999E-2,0.76400000000000001,0.51700000000000002,0.32600000000000001,5.1999999999999998E-2,0.47299999999999998,0.38800000000000001,0.6,0.879,0.65500000000000003,0.54400000000000004,0.92600000000000005,0.97299999999999998,0.54400000000000004,0.6,0.98799999999999999,0.54400000000000004,0.25800000000000001,0.71099999999999997,0.56999999999999995,0.29699999999999999,0.438,0.85799999999999998,{"$f":"PERCENTRANK($B24:$MD24,IC24)","v":0.111},0.71099999999999997,0.38800000000000001,0.20799999999999999,0.76400000000000001,0.58199999999999996,0.27600000000000002,0.74099999999999999,0.84699999999999998,0.89400000000000002,0.94099999999999995,5.5E-2,0.99399999999999999,0.75800000000000001,0,0.24099999999999999,0.22600000000000001,0.35199999999999998,0.66700000000000004,0.51700000000000002,0.52071428571428569,{"$f":"PERCENTRANK($B24:$MD24,IX24)","v":0.47299999999999998},0.95799999999999996,0.74099999999999999,0.29699999999999999,0.96399999999999997,0.69399999999999995,2.3E-2,0.152,0.8,0.82599999999999996,0.62,0.22600000000000001,0.58199999999999996,0.85799999999999998,0.98499999999999999,0.91100000000000003,0.69399999999999995,0.84699999999999998,0.62,0.85799999999999998,0.76400000000000001,0.94099999999999995,0.129,0.97899999999999998,0.72899999999999998,0.438,0.71099999999999997,0.68799999999999994,0.51700000000000002,0.80500000000000005,0.74099999999999999,0.83499999999999996,{"$f":"PERCENTRANK($B24:$MD24,KD24)","v":0.38800000000000001},0.99099999999999999,0.81100000000000005,0.90200000000000002,0.94699999999999995,0.56999999999999995,0.6,0.38800000000000001,0.91100000000000003,0.66700000000000004,4.7E-2,0.152,0.438,0.29699999999999999,0.62,0.20799999999999999,0.22600000000000001,0.54400000000000004,0.24099999999999999,0.92600000000000005,0.6,0.80500000000000005,0.76400000000000001,0.90800000000000003,0.33500000000000002,0.85799999999999998,0.11700000000000001,0.88200000000000001,0.6,0.68200000000000005,0.54400000000000004,0.47299999999999998,{"$f":"PERCENTRANK($B24:$MD24,LJ24)","v":0.93799999999999994},0.438,0.74099999999999999,0.83499999999999996,0.54400000000000004,0.182,9.4E-2,0.497,0.81100000000000005,0.72899999999999998,0.93500000000000005,0.88500000000000001,0.76400000000000001,0.78800000000000003,0.62,0.85799999999999998,1,0.95,0.82599999999999996,0.95499999999999996,0.65500000000000003,0.64580000000000004,null,null,null,0.24299999999999999,0.495,0.73799999999999999]
["Steals Per Game",6.2,5.9,4.7,6.4,5.0999999999999996,5.0999999999999996,5,6.1,5.8,6.5,7.3,6.2,5.8,6.3,6.4,7.4,7.4,6,8.6,5.5,6.1,6.5,7.7,5.7,6.6,5.4,8,4.5999999999999996,7.4,5.3,6.5,6.9,6.9,6.1,6.5,5.5,4.5,7.7,6.5,7.6,3.7,6.2,4.8,7.7,6.9,5.4,5.9,4.9000000000000004,4.8,6.9,6.1,5,6.1,5.7,6.9,5.0999999999999996,5.4,5.2,6.2,8.1999999999999993,6.2,7.6,6.9,6.9,8.3000000000000007,4.9000000000000004,5.7,6.8,5.8,5,5.2,6.5,5.7,6.1,6.1,7.5,4.7,5.2,6.9,7.8,6.4,5.4,5.9,6.9,7.5,6.1964705882352904,5.0999999999999996,6.2,6.5,6.6,5.3,4.8,8.3000000000000007,8.6,5.2,5.4,7.1,8.6,8.3000000000000007,5,7.6,8.1999999999999993,7.5,6.7,5.3,4.9000000000000004,5.0999999999999996,5.8,7.9,4.8,8.1999999999999993,7.1,5.8,7.5,7.4,7.2,6,5.7,6.9,6.5,5.6,9,6.5,7.5,7.9,6.1,6.6,6.8,7.1,5.4,5.0999999999999996,7.1,7.4,7.9,8.3000000000000007,6.9,6.7,8.4,7.9,6.2,5.9,6.6,6.8,7.5,6.9,5.6,8,7,7,10.4,4.4000000000000004,6,7.3,7,5.8,5.0999999999999996,6.1,5.6,5.4,8.1,5.2,6.1,8.5,6.5,5.3,6.3,7.8,6.8,5.8,5.4,6.6630952380952344,8.1999999999999993,5.6,6.4,6.3,5.5,7,5.6,8.4,5.4,7.6,6.3,5.4,6,6.8,4.8,3.9,9.3000000000000007,6.7,7.3,8.6,8.5,4.5,5.5,4.5999999999999996,6.5,8.1,9.4,8.1,7.9,7.3,6.1,8.3000000000000007,7.4,6.5,4.8,8.6,7.9,7,7.7,5.8,7.8,6.5,8.3000000000000007,5,8.3000000000000007,6.2,7.4,7,8.5,6.4,6.5,8.4,5.5,5.5,5.9,7.5,9.1,4.5999999999999996,6.4,7.4,4.3,6.4,8.5,6,7.8,7.6,5.8,7.4,4.0999999999999996,6.1,6.1,4.8,4.9000000000000004,5.4,6.2,7.5,5.7,5.6,7.2,7.1,6.2,8.1,8.1,7.8,6.7202380952380967,7.4,7.9,7,6.9,8.9,4.0999999999999996,7,8.5,7.8,5.5,5.5,5.3,9.3000000000000007,7,6.9,6.6,5.5,7.2,4.8,6.8,6.1,5.6,6.1,6.3,5.4,10.6,7.7,7.4,6.6,6,6.9,6.4,5.8,6.8,5,6.4,8.5,6.4,7.1,5.7,6.1,8.6999999999999993,6.2,6.5,5.0999999999999996,6.8,7.2,6.5,6,4.9000000000000004,7.3,7.4,7.3,7.2,5.9,6.1,8.4,5.8,5.3,8,7.7,5,6,7.9,9.3000000000000007,5.3,6.7,6.7,6.6,8.5,4.9000000000000004,6.8,5.7,6.4,8.6,6.3,7.4,8,8.9,7.4,7,7.6,6.2,6.5,9.9,6.8082352941176474,"Steals Per Game",null,null,5.7,6.5,7.4]
[null,{"$f":"PERCENTRANK($B26:$MD26,B26)","v":0.39100000000000001},0.29699999999999999,3.2000000000000001E-2,0.44400000000000001,0.1,0.1,7.9000000000000001E-2,0.33800000000000002,0.26400000000000001,0.47599999999999998,0.7,0.39100000000000001,0.26400000000000001,0.42599999999999999,0.44400000000000001,0.71699999999999997,0.71699999999999997,0.314,0.95,0.19400000000000001,0.33800000000000002,0.47599999999999998,0.8,0.24099999999999999,0.52600000000000002,0.158,0.85799999999999998,2.3E-2,0.71699999999999997,0.13800000000000001,0.47599999999999998,0.59399999999999997,{"$f":"PERCENTRANK($B26:$MD26,AH26)","v":0.59399999999999997},0.33800000000000002,0.47599999999999998,0.19400000000000001,1.7000000000000001E-2,0.8,0.47599999999999998,0.78200000000000003,0,0.39100000000000001,3.7999999999999999E-2,0.8,0.59399999999999997,0.158,0.29699999999999999,6.0999999999999999E-2,3.7999999999999999E-2,0.59399999999999997,0.33800000000000002,7.9000000000000001E-2,0.33800000000000002,0.24099999999999999,0.59399999999999997,0.1,0.158,0.123,0.39100000000000001,0.88500000000000001,0.39100000000000001,0.78200000000000003,0.59399999999999997,0.59399999999999997,{"$f":"PERCENTRANK($B26:$MD26,BN26)","v":0.89700000000000002},6.0999999999999999E-2,0.24099999999999999,0.56699999999999995,0.26400000000000001,7.9000000000000001E-2,0.123,0.47599999999999998,0.24099999999999999,0.33800000000000002,0.33800000000000002,0.75800000000000001,3.2000000000000001E-2,0.123,0.59399999999999997,0.81699999999999995,0.44400000000000001,0.158,0.29699999999999999,0.59399999999999997,0.75800000000000001,0.39340000000000036,{"$f":"PERCENTRANK($B26:$MD26,CJ26)","v":0.1},0.39100000000000001,0.47599999999999998,0.52600000000000002,0.13800000000000001,3.7999999999999999E-2,0.89700000000000002,0.95,0.123,0.158,0.66700000000000004,0.95,0.89700000000000002,7.9000000000000001E-2,0.78200000000000003,0.88500000000000001,0.75800000000000001,0.55000000000000004,0.13800000000000001,6.0999999999999999E-2,0.1,0.26400000000000001,0.83499999999999996,3.7999999999999999E-2,0.88500000000000001,0.66700000000000004,0.26400000000000001,0.75800000000000001,0.71699999999999997,0.68500000000000005,0.314,0.24099999999999999,{"$f":"PERCENTRANK($B26:$MD26,DP26)","v":0.59399999999999997},0.47599999999999998,0.22,0.97599999999999998,0.47599999999999998,0.75800000000000001,0.83499999999999996,0.33800000000000002,0.52600000000000002,0.56699999999999995,0.66700000000000004,0.158,0.1,0.66700000000000004,0.71699999999999997,0.83499999999999996,0.89700000000000002,0.59399999999999997,0.55000000000000004,0.91700000000000004,0.83499999999999996,0.39100000000000001,0.29699999999999999,0.52600000000000002,0.56699999999999995,0.75800000000000001,0.59399999999999997,0.22,0.85799999999999998,0.63800000000000001,0.63800000000000001,0.997,{"$f":"PERCENTRANK($B26:$MD26,EV26)","v":1.4E-2},0.314,0.7,0.63800000000000001,0.26400000000000001,0.1,0.33800000000000002,0.22,0.158,0.87,0.123,0.33800000000000002,0.92900000000000005,0.47599999999999998,0.13800000000000001,0.42599999999999999,0.81699999999999995,0.56699999999999995,0.26400000000000001,0.158,0.50441666666666685,{"$f":"PERCENTRANK($B26:$MD26,FQ26)","v":0.88500000000000001},0.22,0.44400000000000001,0.42599999999999999,0.19400000000000001,0.63800000000000001,0.22,0.91700000000000004,0.158,0.78200000000000003,0.42599999999999999,0.158,0.314,0.56699999999999995,3.7999999999999999E-2,2E-3,0.98199999999999998,0.55000000000000004,0.7,0.95,0.92900000000000005,1.7000000000000001E-2,0.19400000000000001,2.3E-2,0.47599999999999998,0.87,0.99099999999999999,0.87,0.83499999999999996,0.7,0.33800000000000002,0.89700000000000002,{"$f":"PERCENTRANK($B26:$MD26,GW26)","v":0.71699999999999997},0.47599999999999998,3.7999999999999999E-2,0.95,0.83499999999999996,0.63800000000000001,0.8,0.26400000000000001,0.81699999999999995,0.47599999999999998,0.89700000000000002,7.9000000000000001E-2,0.89700000000000002,0.39100000000000001,0.71699999999999997,0.63800000000000001,0.92900000000000005,0.44400000000000001,0.47599999999999998,0.91700000000000004,0.19400000000000001,0.19400000000000001,0.29699999999999999,0.75800000000000001,0.97899999999999998,2.3E-2,0.44400000000000001,0.71699999999999997,1.0999999999999999E-2,0.44400000000000001,0.92900000000000005,0.314,{"$f":"PERCENTRANK($B26:$MD26,IC26)","v":0.81699999999999995},0.78200000000000003,0.26400000000000001,0.71699999999999997,5.0000000000000001E-3,0.33800000000000002,0.33800000000000002,3.7999999999999999E-2,6.0999999999999999E-2,0.158,0.39100000000000001,0.75800000000000001,0.24099999999999999,0.22,0.68500000000000005,0.66700000000000004,0.39100000000000001,0.87,0.87,0.81699999999999995,0.52189285714285716,{"$f":"PERCENTRANK($B26:$MD26,IX26)","v":0.71699999999999997},0.83499999999999996,0.63800000000000001,0.59399999999999997,0.97,5.0000000000000001E-3,0.63800000000000001,0.92900000000000005,0.81699999999999995,0.19400000000000001,0.19400000000000001,0.13800000000000001,0.98199999999999998,0.63800000000000001,0.59399999999999997,0.52600000000000002,0.19400000000000001,0.68500000000000005,3.7999999999999999E-2,0.56699999999999995,0.33800000000000002,0.22,0.33800000000000002,0.42599999999999999,0.158,1,0.8,0.71699999999999997,0.52600000000000002,0.314,0.59399999999999997,0.44400000000000001,{"$f":"PERCENTRANK($B26:$MD26,KD26)","v":0.26400000000000001},0.56699999999999995,7.9000000000000001E-2,0.44400000000000001,0.92900000000000005,0.44400000000000001,0.66700000000000004,0.24099999999999999,0.33800000000000002,0.96699999999999997,0.39100000000000001,0.47599999999999998,0.1,0.56699999999999995,0.68500000000000005,0.47599999999999998,0.314,6.0999999999999999E-2,0.7,0.71699999999999997,0.7,0.68500000000000005,0.29699999999999999,0.33800000000000002,0.91700000000000004,0.26400000000000001,0.13800000000000001,0.85799999999999998,0.8,7.9000000000000001E-2,0.314,0.83499999999999996,{"$f":"PERCENTRANK($B26:$MD26,LJ26)","v":0.98199999999999998},0.13800000000000001,0.55000000000000004,0.55000000000000004,0.52600000000000002,0.92900000000000005,6.0999999999999999E-2,0.56699999999999995,0.24099999999999999,0.44400000000000001,0.95,0.42599999999999999,0.71699999999999997,0.85799999999999998,0.97,0.71699999999999997,0.63800000000000001,0.78200000000000003,0.39100000000000001,0.47599999999999998,0.99399999999999999,0.53325882352941167,null,null,null,0.24299999999999999,0.47699999999999998,0.71499999999999997]
["Blocks Per Game",2,4.4000000000000004,3.8,4.3,2,2.4,2.2999999999999998,3.3,1.8,2.1,3.2,1.8,3.8,3.5,2.6,1.9,2.5,2.4,4.5,2.4,1.7,2.4,1.8,3.8,2.4,2.2999999999999998,3.3,2.2999999999999998,3.5,2.6,2.8,4.7,2.9,2.7,2,4.3,1.4,2.9,1.2,3.4,2.2000000000000002,1.8,2.9,3.5,4.5999999999999996,2.5,3.5,1.9,2.1,2.6,3,3.3,3.4,2.2999999999999998,3.3,1.9,1.9,2.4,4.3,3.8,2.4,3.3,2.2000000000000002,3.3,3.3,1.3,2.4,3.9,2.8,4.3,2.4,2.9,1.7,2.4,4.0999999999999996,3.4,3,2.2000000000000002,3,2.7,3.1,2.2999999999999998,2.1,3.7,3.4,2.8258823529411781,3.5,2.8,2.6,3.9,3.8,4,3.9,5.0999999999999996,3.3,2.2999999999999998,2.2000000000000002,4.3,3.2,2.6,3.8,3.8,2.6,3.2,2.4,3,3.1,3.4,1.6,2.7,3.5,3.2,4.5,3.7,2.8,2.7,3.9,4.0999999999999996,2.2000000000000002,5.6,2.7,6.7,1.6,1.8,3.4,1.6,3.6,3.1,3.5,2.7,5,3,3.6,6.8,2.8,2.4,3.9,2.9,4.0999999999999996,5.3,4,3.3,4.2,2.2999999999999998,3.8,3.5,4.0999999999999996,3.6,3.9,3.1,3,2.8,3.6,5,3.1,2.6,2.2999999999999998,4.8,2.9,3.9,4.9000000000000004,3.7,1.3,3.9,5.0999999999999996,5.4,3,3.8,3.2,2.4,3.4559523809523811,2.6,3.2,3,2,4.5,3.2,2.2999999999999998,2.9,4.8,4.4000000000000004,2.5,5.4,2.9,2.4,4.3,3.2,4.4000000000000004,2.2999999999999998,4.7,2.4,1.8,2.8,1.5,4.9000000000000004,4.9000000000000004,4.9000000000000004,5.4,3.3,1.6,4,4.9000000000000004,4,4.9000000000000004,2.2000000000000002,2.8,4.0999999999999996,3.8,3.1,4.4000000000000004,3.1,3.5,2.7,4.2,3.1,4.0999999999999996,5.0999999999999996,3.3,4.9000000000000004,2.5,3.2,3.4,2.7,5.4,3.1,2.6,3,4.5,2,4.5999999999999996,3.8,3.9,3.6,4,3.2,3.8,3,3.5,3.6,4.3,4.3,3.7,5.0999999999999996,3,4.2,3.3,2.4,5.5,4.3,4.5999999999999996,2.6,3,3.4,4.3,4,3.5964285714285715,5,3.8,4.8,3.9,5,3.2,3.1,3.5,4.5999999999999996,3.3,2.2000000000000002,4.2,3,4.3,4.0999999999999996,5.0999999999999996,3.4,3.8,3.3,4.5,3.6,3.3,1.8,3.9,3,3.7,2.1,4.2,1.9,4.7,3.9,3.7,3.5,4.0999999999999996,7.2,2.5,4.3,3.9,4.5999999999999996,3.8,4.8,3.1,3.9,2.5,3.6,3.6,2.2000000000000002,2.9,4.8,3.1,3,3.4,2.6,3.3,2.8,6.5,4.2,2.5,1.9,6.1,4.5,2.2999999999999998,4.4000000000000004,5.8,4.9000000000000004,3.7,3.4,3.4,3.5,2.8,2.1,4.2,3.2,4.9000000000000004,4.8,3.9,2.8,5,3.6,5.8,6.1,4.2,4,9.1,7.2,3.9082352941176484,"Blocks Per Game",null,null,2.6,3.3,4.0999999999999996]
[null,{"$f":"PERCENTRANK($B28:$MD28,B28)","v":7.0000000000000007E-2},0.82299999999999995,0.63200000000000001,0.78800000000000003,7.0000000000000007E-2,0.155,0.123,0.45500000000000002,3.2000000000000001E-2,8.5000000000000006E-2,0.42,3.2000000000000001E-2,0.63200000000000001,0.54100000000000004,0.223,5.1999999999999998E-2,0.20200000000000001,0.155,0.83799999999999997,0.155,2.5999999999999999E-2,0.155,3.2000000000000001E-2,0.63200000000000001,0.155,0.123,0.45500000000000002,0.123,0.54100000000000004,0.223,0.27900000000000003,0.87,{"$f":"PERCENTRANK($B28:$MD28,AH28)","v":0.314},0.255,7.0000000000000007E-2,0.78800000000000003,8.0000000000000002E-3,0.314,0,0.502,0.1,3.2000000000000001E-2,0.314,0.54100000000000004,0.85499999999999998,0.20200000000000001,0.54100000000000004,5.1999999999999998E-2,8.5000000000000006E-2,0.223,0.34100000000000003,0.45500000000000002,0.502,0.123,0.45500000000000002,5.1999999999999998E-2,5.1999999999999998E-2,0.155,0.78800000000000003,0.63200000000000001,0.155,0.45500000000000002,0.1,0.45500000000000002,{"$f":"PERCENTRANK($B28:$MD28,BN28)","v":0.45500000000000002},2E-3,0.155,0.67600000000000005,0.27900000000000003,0.78800000000000003,0.155,0.314,2.5999999999999999E-2,0.155,0.74099999999999999,0.502,0.34100000000000003,0.1,0.34100000000000003,0.255,0.38500000000000001,0.123,8.5000000000000006E-2,0.61099999999999999,0.502,0.3176941176470589,{"$f":"PERCENTRANK($B28:$MD28,CJ28)","v":0.54100000000000004},0.27900000000000003,0.223,0.67600000000000005,0.63200000000000001,0.72,0.67600000000000005,0.93799999999999994,0.45500000000000002,0.123,0.1,0.78800000000000003,0.42,0.223,0.63200000000000001,0.63200000000000001,0.223,0.42,0.155,0.34100000000000003,0.38500000000000001,0.502,1.4E-2,0.255,0.54100000000000004,0.42,0.83799999999999997,0.61099999999999999,0.27900000000000003,0.255,0.67600000000000005,0.74099999999999999,{"$f":"PERCENTRANK($B28:$MD28,DP28)","v":0.1},0.97,0.255,0.98799999999999999,1.4E-2,3.2000000000000001E-2,0.502,1.4E-2,0.58199999999999996,0.38500000000000001,0.54100000000000004,0.255,0.92300000000000004,0.34100000000000003,0.58199999999999996,0.99099999999999999,0.27900000000000003,0.155,0.67600000000000005,0.314,0.74099999999999999,0.95199999999999996,0.72,0.45500000000000002,0.76400000000000001,0.123,0.63200000000000001,0.54100000000000004,0.74099999999999999,0.58199999999999996,0.67600000000000005,0.38500000000000001,{"$f":"PERCENTRANK($B28:$MD28,EV28)","v":0.34100000000000003},0.27900000000000003,0.58199999999999996,0.92300000000000004,0.38500000000000001,0.223,0.123,0.879,0.314,0.67600000000000005,0.89700000000000002,0.61099999999999999,2E-3,0.67600000000000005,0.93799999999999994,0.95499999999999996,0.34100000000000003,0.63200000000000001,0.42,0.155,0.49139285714285708,{"$f":"PERCENTRANK($B28:$MD28,FQ28)","v":0.223},0.42,0.34100000000000003,7.0000000000000007E-2,0.83799999999999997,0.42,0.123,0.314,0.879,0.82299999999999995,0.20200000000000001,0.95499999999999996,0.314,0.155,0.78800000000000003,0.42,0.82299999999999995,0.123,0.87,0.155,3.2000000000000001E-2,0.27900000000000003,1.0999999999999999E-2,0.89700000000000002,0.89700000000000002,0.89700000000000002,0.95499999999999996,0.45500000000000002,1.4E-2,0.72,0.89700000000000002,0.72,{"$f":"PERCENTRANK($B28:$MD28,GW28)","v":0.89700000000000002},0.1,0.27900000000000003,0.74099999999999999,0.63200000000000001,0.38500000000000001,0.82299999999999995,0.38500000000000001,0.54100000000000004,0.255,0.76400000000000001,0.38500000000000001,0.74099999999999999,0.93799999999999994,0.45500000000000002,0.89700000000000002,0.20200000000000001,0.42,0.502,0.255,0.95499999999999996,0.38500000000000001,0.223,0.34100000000000003,0.83799999999999997,7.0000000000000007E-2,0.85499999999999998,0.63200000000000001,0.67600000000000005,0.58199999999999996,0.72,0.42,{"$f":"PERCENTRANK($B28:$MD28,IC28)","v":0.63200000000000001},0.34100000000000003,0.54100000000000004,0.58199999999999996,0.78800000000000003,0.78800000000000003,0.61099999999999999,0.93799999999999994,0.34100000000000003,0.76400000000000001,0.45500000000000002,0.155,0.96699999999999997,0.78800000000000003,0.85499999999999998,0.223,0.34100000000000003,0.502,0.78800000000000003,0.72,0.54099999999999981,{"$f":"PERCENTRANK($B28:$MD28,IX28)","v":0.92300000000000004},0.63200000000000001,0.879,0.67600000000000005,0.92300000000000004,0.42,0.38500000000000001,0.54100000000000004,0.85499999999999998,0.45500000000000002,0.1,0.76400000000000001,0.34100000000000003,0.78800000000000003,0.74099999999999999,0.93799999999999994,0.502,0.63200000000000001,0.45500000000000002,0.83799999999999997,0.58199999999999996,0.45500000000000002,3.2000000000000001E-2,0.67600000000000005,0.34100000000000003,0.61099999999999999,8.5000000000000006E-2,0.76400000000000001,5.1999999999999998E-2,0.87,0.67600000000000005,0.61099999999999999,{"$f":"PERCENTRANK($B28:$MD28,KD28)","v":0.54100000000000004},0.74099999999999999,0.99399999999999999,0.20200000000000001,0.78800000000000003,0.67600000000000005,0.85499999999999998,0.63200000000000001,0.879,0.38500000000000001,0.67600000000000005,0.20200000000000001,0.58199999999999996,0.58199999999999996,0.1,0.314,0.879,0.38500000000000001,0.34100000000000003,0.502,0.223,0.45500000000000002,0.27900000000000003,0.98499999999999999,0.76400000000000001,0.20200000000000001,5.1999999999999998E-2,0.97899999999999998,0.83799999999999997,0.123,0.82299999999999995,0.97299999999999998,{"$f":"PERCENTRANK($B28:$MD28,LJ28)","v":0.89700000000000002},0.61099999999999999,0.502,0.502,0.54100000000000004,0.27900000000000003,8.5000000000000006E-2,0.76400000000000001,0.42,0.89700000000000002,0.879,0.67600000000000005,0.27900000000000003,0.92300000000000004,0.58199999999999996,0.97299999999999998,0.97899999999999998,0.76400000000000001,0.72,1,0.99399999999999999,0.59720000000000018,null,null,null,0.22500000000000001,0.45600000000000002,0.73799999999999999]
["Opponents Points Per Game",70.599999999999994,78.7,71.900000000000006,70.5,73.900000000000006,68.5,83.2,68.900000000000006,77.2,71,77.599999999999994,75.2,72.7,62.2,75.599999999999994,65.5,69,75.099999999999994,74.2,63.3,72.099999999999994,74.599999999999994,79.3,67.400000000000006,66,71.7,82.6,69.099999999999994,65.900000000000006,69.599999999999994,69.599999999999994,67.099999999999994,68.099999999999994,70.8,67.5,69.599999999999994,62.3,65.400000000000006,68.599999999999994,64.8,73.8,70.099999999999994,67.8,69.099999999999994,69.5,62.8,64.3,68.3,69.8,66.8,70.8,74.900000000000006,67.099999999999994,68.400000000000006,66.599999999999994,77.099999999999994,66.900000000000006,70.8,69,82.9,74.900000000000006,73.8,72.599999999999994,66.099999999999994,75,73.8,60.5,72.3,70.099999999999994,72.599999999999994,69.2,78.400000000000006,75.400000000000006,71.099999999999994,70,72.3,65.5,69.599999999999994,66.099999999999994,66.599999999999994,70.7,75.400000000000006,59.7,75.400000000000006,69.3,70.589411764705915,69.900000000000006,61.1,69.8,75.599999999999994,65.2,62.7,64.8,69.099999999999994,64.900000000000006,67.599999999999994,67.099999999999994,63.7,70.099999999999994,71.900000000000006,67.3,72.599999999999994,77.3,72.2,64.7,68.5,67.099999999999994,65.8,75.3,75.900000000000006,69.7,58.4,73,63.5,55,74.7,68.400000000000006,71.400000000000006,59.8,71,69.7,70.3,61.2,65.900000000000006,69.3,61.6,65.8,72.599999999999994,71.400000000000006,72.599999999999994,72.3,65.3,60.4,63.8,73.900000000000006,68.3,64.599999999999994,67,76.7,73.900000000000006,74.900000000000006,70.8,68.099999999999994,67.8,68.3,74.400000000000006,65,59.3,64.900000000000006,64.900000000000006,70.8,60.6,72.5,64.900000000000006,63.9,66.8,61.8,67.400000000000006,73.400000000000006,65.7,66.900000000000006,68.400000000000006,61.5,65.099999999999994,63.1,65.3,68.2,66.7,70.900000000000006,62.1,67.691666666666677,71.599999999999994,66.400000000000006,64.099999999999994,66,66.2,59.9,60.4,67.599999999999994,69.7,65.8,61.3,68.7,70.400000000000006,71.099999999999994,67.2,64.2,73.2,64.8,68.099999999999994,69.5,70.599999999999994,61.7,59.1,67.599999999999994,64.599999999999994,64.5,59.5,63.8,71.3,60,65.7,65.599999999999994,66.8,78.3,63.1,66.599999999999994,70.5,67.2,63.5,65,71.7,64.7,68.599999999999994,64.5,61.2,66.599999999999994,67.5,63.1,62.8,68.8,61.3,72.2,67.5,71.8,61.8,66.7,61,62.7,67.3,67.5,60.9,62.8,65.5,62.1,71,64.900000000000006,62.3,61.8,69.8,63.3,62,62.5,66.099999999999994,64.5,77.900000000000006,65.3,66.7,65.099999999999994,60.7,69.8,65.8,65.900000000000006,64.3,63.6,65.894047619047626,64.3,66,64.8,70.5,70.099999999999994,60.7,54.6,59.5,60.8,62.1,68.3,63.8,62.3,68.7,68.3,65.599999999999994,62.4,63.1,55.7,61.8,66.8,67.5,62,66.099999999999994,67.400000000000006,59.6,67.599999999999994,65.400000000000006,68,64.8,66.3,67.599999999999994,67.400000000000006,69.8,67,66.400000000000006,66.2,66.7,61.5,57.7,63,63.4,67.400000000000006,66.099999999999994,61.5,65.099999999999994,72.5,52.2,54,60.8,56.4,58.6,64.5,61.5,66,63.8,61.7,62.3,68.7,61.9,58.1,69.5,66.099999999999994,64.5,62.2,52,65.2,63,65.400000000000006,65.2,60.4,69.400000000000006,63.9,58.7,66.3,62.8,57.6,63.6,65.3,61.2,66.099999999999994,57.8,68.3,58.8,60.6,63.630588235294113,"Opponents Points Per Game",null,null,63.6,66.7,70.074999999999989]
[null,{"$f":"1-(PERCENTRANK($B30:$MD30,B30))","v":0.22099999999999997},1.2000000000000011E-2,0.15900000000000003,0.23299999999999998,9.4999999999999973E-2,0.35299999999999998,0,0.32999999999999996,3.0000000000000027E-2,0.19499999999999995,2.4000000000000021E-2,5.9000000000000052E-2,0.11499999999999999,0.82699999999999996,4.500000000000004E-2,0.61199999999999999,0.32699999999999996,6.2000000000000055E-2,8.5999999999999965E-2,0.76800000000000002,0.15300000000000002,7.999999999999996E-2,9.000000000000008E-3,0.44799999999999995,0.56800000000000006,0.16800000000000004,6.0000000000000053E-3,0.32099999999999995,0.57699999999999996,0.29200000000000004,0.29200000000000004,0.47099999999999997,{"$f":"1-(PERCENTRANK($B30:$MD30,AH30))","v":0.39200000000000002},0.21199999999999997,0.43300000000000005,0.29200000000000004,0.82099999999999995,0.621,0.34799999999999998,0.68599999999999994,0.10299999999999998,0.25,0.4,0.32099999999999995,0.30000000000000004,0.79800000000000004,0.72099999999999997,0.38,0.27100000000000002,0.495,0.21199999999999997,7.3999999999999955E-2,0.47099999999999997,0.36199999999999999,0.51800000000000002,3.3000000000000029E-2,0.48299999999999998,0.21199999999999997,0.32699999999999996,3.0000000000000027E-3,7.3999999999999955E-2,0.10299999999999998,0.13,0.55600000000000005,{"$f":"1-(PERCENTRANK($B30:$MD30,BN30))","v":6.4999999999999947E-2},0.10299999999999998,0.92100000000000004,0.14500000000000002,0.25,0.13,0.31200000000000006,1.5000000000000013E-2,5.3000000000000047E-2,0.18600000000000005,0.253,0.14500000000000002,0.61199999999999999,0.29200000000000004,0.55600000000000005,0.51800000000000002,0.21499999999999997,5.3000000000000047E-2,0.94199999999999995,5.3000000000000047E-2,0.30900000000000005,0.2996235294117649,{"$f":"1-(PERCENTRANK($B30:$MD30,CJ30))","v":0.25600000000000001},0.89500000000000002,0.27100000000000002,4.500000000000004E-2,0.64200000000000002,0.80299999999999994,0.68599999999999994,0.32099999999999995,0.67100000000000004,0.41800000000000004,0.47099999999999997,0.748,0.25,0.15900000000000003,0.45299999999999996,0.13,2.7000000000000024E-2,0.15000000000000002,0.69199999999999995,0.35299999999999998,0.47099999999999997,0.59200000000000008,5.600000000000005E-2,3.9000000000000035E-2,0.28000000000000003,0.96799999999999997,0.11199999999999999,0.75900000000000001,0.98899999999999999,7.6999999999999957E-2,0.36199999999999999,0.17700000000000005,{"$f":"1-(PERCENTRANK($B30:$MD30,DP30))","v":0.93900000000000006},0.19499999999999995,0.28000000000000003,0.23899999999999999,0.89200000000000002,0.57699999999999996,0.30900000000000005,0.86499999999999999,0.59200000000000008,0.13,0.17700000000000005,0.13,0.14500000000000002,0.63300000000000001,0.92999999999999994,0.745,9.4999999999999973E-2,0.38,0.69799999999999995,0.47699999999999998,3.6000000000000032E-2,9.4999999999999973E-2,7.3999999999999955E-2,0.21199999999999997,0.39200000000000002,0.4,0.38,8.2999999999999963E-2,0.65600000000000003,0.95299999999999996,0.67100000000000004,0.67100000000000004,{"$f":"1-(PERCENTRANK($B30:$MD30,EV30))","v":0.21199999999999997},0.91800000000000004,0.13600000000000001,0.67100000000000004,0.73299999999999998,0.495,0.85599999999999998,0.44799999999999995,0.10599999999999998,0.59799999999999998,0.48299999999999998,0.36199999999999999,0.877,0.65,0.78,0.63300000000000001,0.38300000000000001,0.50600000000000001,0.19799999999999995,0.83599999999999997,0.45541666666666664,{"$f":"1-(PERCENTRANK($B30:$MD30,FQ30))","v":0.17100000000000004},0.52400000000000002,0.72699999999999998,0.56800000000000006,0.53600000000000003,0.93599999999999994,0.92999999999999994,0.41800000000000004,0.28000000000000003,0.59200000000000008,0.88300000000000001,0.34199999999999997,0.23599999999999999,0.18600000000000005,0.45899999999999996,0.72399999999999998,0.10899999999999999,0.68599999999999994,0.39200000000000002,0.30000000000000004,0.22099999999999997,0.86199999999999999,0.95599999999999996,0.41800000000000004,0.69799999999999995,0.71199999999999997,0.95,0.745,0.18000000000000005,0.93300000000000005,0.59799999999999998,0.60299999999999998,{"$f":"1-(PERCENTRANK($B30:$MD30,GW30))","v":0.495},1.8000000000000016E-2,0.78,0.51800000000000002,0.23299999999999998,0.45899999999999996,0.75900000000000001,0.65600000000000003,0.16800000000000004,0.69199999999999995,0.34799999999999998,0.71199999999999997,0.89200000000000002,0.51800000000000002,0.43300000000000005,0.78,0.79800000000000004,0.33299999999999996,0.88300000000000001,0.15000000000000002,0.43300000000000005,0.16200000000000003,0.85599999999999998,0.50600000000000001,0.89800000000000002,0.80299999999999994,0.45299999999999996,0.43300000000000005,0.9,0.79800000000000004,0.61199999999999999,0.83599999999999997,{"$f":"1-(PERCENTRANK($B30:$MD30,IC30))","v":0.19499999999999995},0.67100000000000004,0.82099999999999995,0.85599999999999998,0.27100000000000002,0.76800000000000002,0.84199999999999997,0.80600000000000005,0.55600000000000005,0.71199999999999997,2.1000000000000019E-2,0.63300000000000001,0.50600000000000001,0.65,0.91200000000000003,0.27100000000000002,0.59200000000000008,0.57699999999999996,0.72099999999999997,0.753,0.57528571428571418,{"$f":"1-(PERCENTRANK($B30:$MD30,IX30))","v":0.72099999999999997},0.56800000000000006,0.68599999999999994,0.23299999999999998,0.25,0.91200000000000003,0.99199999999999999,0.95,0.90600000000000003,0.83599999999999997,0.38,0.745,0.82099999999999995,0.34199999999999997,0.38,0.60299999999999998,0.80899999999999994,0.78,0.98599999999999999,0.85599999999999998,0.495,0.43300000000000005,0.84199999999999997,0.55600000000000005,0.44799999999999995,0.94499999999999995,0.41800000000000004,0.621,0.39500000000000002,0.68599999999999994,0.53,0.41800000000000004,{"$f":"1-(PERCENTRANK($B30:$MD30,KD30))","v":0.44799999999999995},0.27100000000000002,0.47699999999999998,0.52400000000000002,0.53600000000000003,0.50600000000000001,0.877,0.97699999999999998,0.78600000000000003,0.76200000000000001,0.44799999999999995,0.55600000000000005,0.877,0.65,0.13600000000000001,0.998,0.995,0.90600000000000003,0.98299999999999998,0.96499999999999997,0.71199999999999997,0.877,0.56800000000000006,0.745,0.86199999999999999,0.82099999999999995,0.34199999999999997,0.84499999999999997,0.97099999999999997,0.30000000000000004,0.55600000000000005,0.71199999999999997,{"$f":"1-(PERCENTRANK($B30:$MD30,LJ30))","v":0.82699999999999996},1,0.64200000000000002,0.78600000000000003,0.621,0.64200000000000002,0.92999999999999994,0.30300000000000005,0.73299999999999998,0.96199999999999997,0.53,0.79800000000000004,0.98,0.753,0.63300000000000001,0.89200000000000002,0.55600000000000005,0.97399999999999998,0.38,0.95899999999999996,0.91800000000000004,0.68648235294117654,null,null,null,0.25075000000000003,0.505,0.751]
["Opponent Field Goal Percentage",47.7,47.5,45.1,44.7,46.2,44.4,48.2,43.8,47.1,49.3,45.6,50,43.4,41.6,45.5,46.6,45.1,50.5,44.9,42.3,47.2,46.2,47.6,43.6,45.4,45.7,49.5,44.9,44.2,45.1,46.3,39.5,41.9,44.3,45.3,44.3,44.6,44.4,40.6,40.799999999999997,45.7,44.6,45.4,44.4,42.6,42,38.700000000000003,44.2,45.6,43.9,43.7,46,44.2,45.4,42.9,46.7,42.7,45.5,41.7,49,46.7,41.6,47.7,44.3,44.8,44.6,40.4,45.6,43.8,41.6,46.8,46.3,45.3,47.8,43.8,47,42.3,43.1,46.5,45.3,45.4,45.4,43.7,46.7,46.7,44.929411764705875,43.5,41.1,43.8,48.5,42.8,39.299999999999997,42.3,43,43.1,45.2,43.2,40.4,45.2,42.3,44,43.6,46.5,44.1,45.4,43.6,41.2,40.200000000000003,47.8,46.4,45.2,40.700000000000003,45.8,42.7,40.799999999999997,45.2,43.2,43.9,42.4,42.2,46.3,43,45.1,45.7,46.5,44.1,40.9,47,45,46.8,43.9,44.9,41.3,42.3,45,44,40.299999999999997,42.1,48,43.1,43.7,45.1,44.4,45.6,43.9,42.2,43.2,43,42.3,43.7,42.6,44.2,46.5,44.8,41.6,42.8,41.2,40.1,45.3,44.2,41.4,43.1,44.3,39.799999999999997,40.4,42.4,41.9,44.4,45,42.8,43.56904761904763,46.6,40.799999999999997,42.1,44.8,41.6,40,39.9,41.6,43.7,41,41.4,41.7,43.8,44.7,42.6,41.6,45.3,42.7,43.9,43.3,46.1,40.700000000000003,41.5,39.1,41.3,40.1,38.200000000000003,44.1,47.9,43,42.5,41.8,40.799999999999997,48.3,42.6,42.8,43.6,42.8,42.5,42.9,45.5,44.7,45.6,41.2,41,43.8,44.7,38.799999999999997,42.7,43,41.2,44.8,40.1,41.9,41.7,41.9,39.799999999999997,40.5,41.5,41.6,41,41.9,42.4,41.6,45.4,41.5,41.4,40.200000000000003,42.6,41,42.2,40.9,44.2,40.9,44.6,43.3,38.700000000000003,41.4,43.6,46.9,42.4,41,43.3,41.2,42.444047619047616,41.5,40.1,39.200000000000003,45.6,40.299999999999997,39,40.5,41.2,41.3,39.9,41.9,42.8,40.9,42.2,42.6,40.6,40.299999999999997,41.2,38.700000000000003,41.7,43.4,43.1,44,45.2,44.6,42.3,42.5,41.3,45.2,41.1,40.6,39.9,43.4,41.7,39.4,44.6,40.6,41.6,39.1,39.4,39.6,41.4,44.8,47,40.6,43.8,44.6,38.700000000000003,40.200000000000003,40.799999999999997,40.5,37.799999999999997,42.4,42.3,43.5,38.5,42.1,39.700000000000003,43.6,37.6,38.4,44.1,42.2,38.700000000000003,37.6,38,42.4,41.4,42.2,44.2,42.4,43.4,43.6,38.6,40.799999999999997,39.700000000000003,40.299999999999997,40.700000000000003,40.799999999999997,38.1,38.6,37.1,43.3,36.5,38.6,41.243529411764698,"Opponent Field Goal Percentage",null,null,41.2,43,44.8]
[null,{"$f":"1-(PERCENTRANK($B32:$MD32,B32))","v":3.9000000000000035E-2},4.500000000000004E-2,0.22699999999999998,0.27400000000000002,0.11499999999999999,0.30900000000000005,2.1000000000000019E-2,0.39800000000000002,5.0000000000000044E-2,9.000000000000008E-3,0.15000000000000002,3.0000000000000027E-3,0.45299999999999996,0.70599999999999996,0.15900000000000003,8.5999999999999965E-2,0.22699999999999998,0,0.248,0.61199999999999999,4.8000000000000043E-2,0.11499999999999999,4.2000000000000037E-2,0.43300000000000005,0.18000000000000005,0.13300000000000001,6.0000000000000053E-3,0.248,0.34199999999999997,0.22699999999999998,0.10899999999999999,0.92400000000000004,{"$f":"1-(PERCENTRANK($B32:$MD32,AH32))","v":0.65900000000000003},0.32099999999999995,0.19499999999999995,0.32099999999999995,0.29500000000000004,0.30900000000000005,0.84499999999999997,0.82099999999999995,0.13300000000000001,0.29500000000000004,0.18000000000000005,0.30900000000000005,0.55600000000000005,0.64200000000000002,0.96199999999999997,0.34199999999999997,0.15000000000000002,0.377,0.41200000000000003,0.121,0.34199999999999997,0.18000000000000005,0.50900000000000001,7.999999999999996E-2,0.53899999999999992,0.15900000000000003,0.67700000000000005,1.2000000000000011E-2,7.999999999999996E-2,0.70599999999999996,3.9000000000000035E-2,0.32099999999999995,{"$f":"1-(PERCENTRANK($B32:$MD32,BN32))","v":0.26200000000000001},0.29500000000000004,0.86199999999999999,0.15000000000000002,0.39800000000000002,0.70599999999999996,6.7999999999999949E-2,0.10899999999999999,0.19499999999999995,3.3000000000000029E-2,0.39800000000000002,5.9000000000000052E-2,0.61199999999999999,0.48899999999999999,9.7999999999999976E-2,0.19499999999999995,0.18000000000000005,0.18000000000000005,0.41200000000000003,7.999999999999996E-2,7.999999999999996E-2,0.29044705882352934,{"$f":"1-(PERCENTRANK($B32:$MD32,CJ32))","v":0.44199999999999995},0.77400000000000002,0.39800000000000002,1.5000000000000013E-2,0.52700000000000002,0.93300000000000005,0.61199999999999999,0.503,0.48899999999999999,0.21199999999999997,0.47399999999999998,0.86199999999999999,0.21199999999999997,0.61199999999999999,0.36199999999999999,0.43300000000000005,9.7999999999999976E-2,0.35299999999999998,0.18000000000000005,0.43300000000000005,0.76800000000000002,0.88300000000000001,3.3000000000000029E-2,9.9999999999999978E-2,0.21199999999999997,0.83,0.124,0.53899999999999992,0.82099999999999995,0.21199999999999997,0.47399999999999998,0.377,{"$f":"1-(PERCENTRANK($B32:$MD32,DP32))","v":0.58899999999999997},0.63,0.10899999999999999,0.503,0.22699999999999998,0.13300000000000001,9.7999999999999976E-2,0.35299999999999998,0.8,5.9000000000000052E-2,0.23599999999999999,6.7999999999999949E-2,0.377,0.248,0.748,0.61199999999999999,0.23599999999999999,0.36199999999999999,0.874,0.63900000000000001,2.4000000000000021E-2,0.48899999999999999,0.41200000000000003,0.22699999999999998,0.30900000000000005,0.15000000000000002,0.377,0.63,0.47399999999999998,0.503,0.61199999999999999,0.41200000000000003,{"$f":"1-(PERCENTRANK($B32:$MD32,EV32))","v":0.55600000000000005},0.34199999999999997,9.7999999999999976E-2,0.26200000000000001,0.70599999999999996,0.52700000000000002,0.76800000000000002,0.89500000000000002,0.19499999999999995,0.34199999999999997,0.73599999999999999,0.48899999999999999,0.32099999999999995,0.91200000000000003,0.86199999999999999,0.58899999999999997,0.65900000000000003,0.30900000000000005,0.23599999999999999,0.52700000000000002,0.44223809523809504,{"$f":"1-(PERCENTRANK($B32:$MD32,FQ32))","v":8.5999999999999965E-2},0.82099999999999995,0.63900000000000001,0.26200000000000001,0.70599999999999996,0.89800000000000002,0.90600000000000003,0.70599999999999996,0.41200000000000003,0.78900000000000003,0.73599999999999999,0.67700000000000005,0.39800000000000002,0.27400000000000002,0.55600000000000005,0.70599999999999996,0.19499999999999995,0.53899999999999992,0.377,0.46499999999999997,0.11799999999999999,0.83,0.71799999999999997,0.94199999999999995,0.748,0.89500000000000002,0.98,0.35299999999999998,2.7000000000000024E-2,0.503,0.56499999999999995,0.66199999999999992,{"$f":"1-(PERCENTRANK($B32:$MD32,GW32))","v":0.82099999999999995},1.8000000000000016E-2,0.55600000000000005,0.52700000000000002,0.43300000000000005,0.52700000000000002,0.56499999999999995,0.50900000000000001,0.15900000000000003,0.27400000000000002,0.15000000000000002,0.76800000000000002,0.78900000000000003,0.39800000000000002,0.27400000000000002,0.94799999999999995,0.53899999999999992,0.503,0.76800000000000002,0.26200000000000001,0.89500000000000002,0.65900000000000003,0.67700000000000005,0.65900000000000003,0.91200000000000003,0.85299999999999998,0.71799999999999997,0.70599999999999996,0.78900000000000003,0.65900000000000003,0.58899999999999997,0.70599999999999996,{"$f":"1-(PERCENTRANK($B32:$MD32,IC32))","v":0.18000000000000005},0.71799999999999997,0.73599999999999999,0.88300000000000001,0.55600000000000005,0.78900000000000003,0.63,0.8,0.34199999999999997,0.8,0.29500000000000004,0.46499999999999997,0.96199999999999997,0.73599999999999999,0.43300000000000005,6.2000000000000055E-2,0.58899999999999997,0.78900000000000003,0.46499999999999997,0.76800000000000002,0.58448809523809542,{"$f":"1-(PERCENTRANK($B32:$MD32,IX32))","v":0.71799999999999997},0.89500000000000002,0.93599999999999994,0.15000000000000002,0.874,0.94499999999999995,0.85299999999999998,0.76800000000000002,0.748,0.90600000000000003,0.65900000000000003,0.52700000000000002,0.8,0.63,0.55600000000000005,0.84499999999999997,0.874,0.76800000000000002,0.96199999999999997,0.67700000000000005,0.45299999999999996,0.48899999999999999,0.36199999999999999,0.21199999999999997,0.29500000000000004,0.61199999999999999,0.56499999999999995,0.748,0.21199999999999997,0.77400000000000002,0.84499999999999997,0.90600000000000003,{"$f":"1-(PERCENTRANK($B32:$MD32,KD32))","v":0.45299999999999996},0.67700000000000005,0.92999999999999994,0.29500000000000004,0.84499999999999997,0.70599999999999996,0.94199999999999995,0.92999999999999994,0.92100000000000004,0.73599999999999999,0.26200000000000001,5.9000000000000052E-2,0.84499999999999997,0.39800000000000002,0.29500000000000004,0.96199999999999997,0.88300000000000001,0.82099999999999995,0.85299999999999998,0.98899999999999999,0.58899999999999997,0.61199999999999999,0.44199999999999995,0.97399999999999998,0.63900000000000001,0.91800000000000004,0.43300000000000005,0.995,0.97699999999999998,0.35299999999999998,0.63,0.96199999999999997,{"$f":"1-(PERCENTRANK($B32:$MD32,LJ32))","v":0.995},0.98599999999999999,0.58899999999999997,0.73599999999999999,0.63,0.34199999999999997,0.58899999999999997,0.45299999999999996,0.43300000000000005,0.97099999999999997,0.82099999999999995,0.91800000000000004,0.874,0.83,0.82099999999999995,0.98299999999999998,0.97099999999999997,0.998,0.46499999999999997,1,0.97099999999999997,0.70901176470588212,null,null,null,0.26200000000000001,0.502,0.76600000000000001]
["Opponent 3 Point Percentage",37.700000000000003,38.9,31.4,35.9,34.6,39.1,39.299999999999997,33.799999999999997,35.6,39.299999999999997,35.799999999999997,36.9,37,29.1,34.4,37,36.5,36.299999999999997,34.9,35.9,33.299999999999997,36.700000000000003,37.1,36,38.700000000000003,38.5,35.5,35.9,33.6,39.1,36.6,35.6,32.299999999999997,32.4,37.4,37.299999999999997,35.200000000000003,29,32.299999999999997,30.8,38.1,33.9,36.1,36.299999999999997,34.200000000000003,29.1,32.5,33.5,35,32,32.5,36.200000000000003,32.799999999999997,37.200000000000003,37.299999999999997,37.200000000000003,34.9,34.799999999999997,35.4,34.9,38.200000000000003,32.6,39.299999999999997,37.700000000000003,35,35,32.299999999999997,37.5,34.6,38.5,39.299999999999997,36.1,33.799999999999997,35.799999999999997,31.5,35.6,33.799999999999997,36.200000000000003,36.4,35,36.200000000000003,39.4,34.4,38.799999999999997,39.799999999999997,35.522352941176479,38.200000000000003,35.5,36.700000000000003,35.6,35.799999999999997,31.9,30.5,31.8,31.1,33.6,33.4,33.799999999999997,37.200000000000003,33.5,32.5,36.5,37.5,35.6,34.5,34.799999999999997,31.9,36.200000000000003,36.799999999999997,35.9,35.299999999999997,30.8,37.5,31.9,33.6,33.200000000000003,33.299999999999997,31.4,31.2,36,38.200000000000003,33.299999999999997,33.799999999999997,31.8,34.5,34.9,29,35.200000000000003,36.6,38.200000000000003,36.299999999999997,33.200000000000003,32.9,32,35.700000000000003,29.7,31.4,33.299999999999997,34.4,32.1,36,36.5,36.5,31.4,31.6,33.9,32,29.9,31.1,35.4,33.1,35.6,37.700000000000003,38.9,33.1,35.5,36.4,33.6,34.200000000000003,32.799999999999997,34.5,37.5,35,34.4,34.9,35.700000000000003,30.2,37.4,34.799999999999997,33.299999999999997,34.219047619047629,36.299999999999997,34.4,33.4,37.299999999999997,29.2,30.7,29.3,33.200000000000003,34.700000000000003,35.299999999999997,33,33.299999999999997,37.5,36.9,34.5,32.700000000000003,38.5,37.4,37.9,38.1,36.9,30.8,33.4,31.6,34.4,32.200000000000003,32.6,33.4,37.799999999999997,34.799999999999997,37,33.5,28.7,39.299999999999997,34.4,35.4,33.5,31.2,37.6,36.799999999999997,35.299999999999997,35.299999999999997,34.5,35.200000000000003,34.5,31.4,35.9,30.7,36.5,34.4,31.4,35.799999999999997,33.6,34.4,28.6,29.9,31.9,35.1,31.4,31.5,35.4,32.5,34.4,33.200000000000003,35.4,32.5,28.7,34,33.1,31.9,33.200000000000003,35.5,33.6,33,33,35.200000000000003,32.700000000000003,34.4,36.299999999999997,38,32.6,32,36.299999999999997,30.6,33.972619047619048,34.200000000000003,32.4,31.6,38.9,30.3,33.9,30.3,32,30.7,32.4,34.200000000000003,37.799999999999997,28.8,35.299999999999997,32.5,34.4,27.1,31.5,28.2,30.4,34.6,34.1,36.299999999999997,30.5,33.200000000000003,31.3,34.200000000000003,29,31.9,32.799999999999997,34.799999999999997,31.1,34.200000000000003,33.1,35.700000000000003,31.7,30.9,32.4,31.1,30,31.2,30.7,35.700000000000003,36.1,30.7,36,35.299999999999997,28.2,32.799999999999997,32.4,30.4,30.3,33.1,36.6,30.2,34.799999999999997,29.7,33.4,35.299999999999997,30.4,28.4,36.200000000000003,31.9,32.6,32.1,28.1,34.9,31.5,33.5,36,34.1,32.200000000000003,33.6,28.5,33.799999999999997,31.2,30.9,33.200000000000003,33.1,34.6,31.6,28.2,31.1,32.4,31.1,32.445882352941169,"Opponent 3 Point Percentage",null,null,32.024999999999999,34.200000000000003,36]
[null,{"$f":"1-(PERCENTRANK($B34:$MD34,B34))","v":8.5999999999999965E-2},3.3000000000000029E-2,0.83899999999999997,0.26500000000000001,0.43600000000000005,2.4000000000000021E-2,1.8000000000000016E-2,0.54800000000000004,0.30600000000000005,1.8000000000000016E-2,0.27700000000000002,0.15000000000000002,0.14200000000000002,0.95899999999999996,0.48899999999999999,0.14200000000000002,0.18600000000000005,0.21199999999999997,0.40300000000000002,0.26500000000000001,0.61499999999999999,0.16200000000000003,0.13300000000000001,0.25,3.9000000000000035E-2,4.8000000000000043E-2,0.32099999999999995,0.26500000000000001,0.56800000000000006,2.4000000000000021E-2,0.17100000000000004,0.30600000000000005,{"$f":"1-(PERCENTRANK($B34:$MD34,AH34))","v":0.73899999999999999},0.73,0.11199999999999999,0.121,0.36799999999999999,0.96799999999999997,0.73899999999999999,0.88600000000000001,6.4999999999999947E-2,0.53,0.23599999999999999,0.21199999999999997,0.50900000000000001,0.95899999999999996,0.71199999999999997,0.58299999999999996,0.38600000000000001,0.76500000000000001,0.71199999999999997,0.22699999999999998,0.67700000000000005,0.13,0.121,0.13,0.40300000000000002,0.42100000000000004,0.33599999999999997,0.40300000000000002,5.9000000000000052E-2,0.69500000000000006,1.8000000000000016E-2,8.5999999999999965E-2,{"$f":"1-(PERCENTRANK($B34:$MD34,BN34))","v":0.38600000000000001},0.38600000000000001,0.73899999999999999,0.10299999999999998,0.43600000000000005,4.8000000000000043E-2,1.8000000000000016E-2,0.23599999999999999,0.54800000000000004,0.27700000000000002,0.81800000000000006,0.30600000000000005,0.54800000000000004,0.22699999999999998,0.19199999999999995,0.38600000000000001,0.22699999999999998,3.0000000000000027E-3,0.48899999999999999,3.6000000000000032E-2,0,0.34290588235294117,{"$f":"1-(PERCENTRANK($B34:$MD34,CJ34))","v":5.9000000000000052E-2},0.32099999999999995,0.16200000000000003,0.30600000000000005,0.27700000000000002,0.78600000000000003,0.90900000000000003,0.79200000000000004,0.871,0.56800000000000006,0.59799999999999998,0.54800000000000004,0.13,0.58299999999999996,0.71199999999999997,0.18600000000000005,0.10299999999999998,0.30600000000000005,0.45299999999999996,0.42100000000000004,0.78600000000000003,0.22699999999999998,0.15600000000000003,0.26500000000000001,0.35599999999999998,0.88600000000000001,0.10299999999999998,0.78600000000000003,0.56800000000000006,0.63600000000000001,0.61499999999999999,0.83899999999999997,{"$f":"1-(PERCENTRANK($B34:$MD34,DP34))","v":0.85299999999999998},0.25,5.9000000000000052E-2,0.61499999999999999,0.54800000000000004,0.79200000000000004,0.45299999999999996,0.40300000000000002,0.96799999999999997,0.36799999999999999,0.17100000000000004,5.9000000000000052E-2,0.21199999999999997,0.63600000000000001,0.66500000000000004,0.76500000000000001,0.28900000000000003,0.94799999999999995,0.83899999999999997,0.61499999999999999,0.48899999999999999,0.75,0.25,0.18600000000000005,0.18600000000000005,0.83899999999999997,0.80600000000000005,0.53,0.76500000000000001,0.94199999999999995,0.871,0.33599999999999997,{"$f":"1-(PERCENTRANK($B34:$MD34,EV34))","v":0.65300000000000002},0.30600000000000005,8.5999999999999965E-2,3.3000000000000029E-2,0.65300000000000002,0.32099999999999995,0.19199999999999995,0.56800000000000006,0.50900000000000001,0.67700000000000005,0.45299999999999996,0.10299999999999998,0.38600000000000001,0.48899999999999999,0.40300000000000002,0.28900000000000003,0.93300000000000005,0.11199999999999999,0.42100000000000004,0.61499999999999999,0.48778571428571416,{"$f":"1-(PERCENTRANK($B34:$MD34,FQ34))","v":0.21199999999999997},0.48899999999999999,0.59799999999999998,0.121,0.95299999999999996,0.9,0.95,0.63600000000000001,0.42400000000000004,0.35599999999999998,0.66199999999999992,0.61499999999999999,0.10299999999999998,0.15000000000000002,0.45299999999999996,0.68300000000000005,4.8000000000000043E-2,0.11199999999999999,7.0999999999999952E-2,6.4999999999999947E-2,0.15000000000000002,0.88600000000000001,0.59799999999999998,0.80600000000000005,0.48899999999999999,0.745,0.69500000000000006,0.59799999999999998,7.6999999999999957E-2,0.42100000000000004,0.14200000000000002,0.58299999999999996,{"$f":"1-(PERCENTRANK($B34:$MD34,GW34))","v":0.97699999999999998},1.8000000000000016E-2,0.48899999999999999,0.33599999999999997,0.58299999999999996,0.85299999999999998,8.8999999999999968E-2,0.15600000000000003,0.35599999999999998,0.35599999999999998,0.45299999999999996,0.36799999999999999,0.45299999999999996,0.83899999999999997,0.26500000000000001,0.9,0.18600000000000005,0.48899999999999999,0.83899999999999997,0.27700000000000002,0.56800000000000006,0.48899999999999999,0.98,0.94199999999999995,0.78600000000000003,0.371,0.83899999999999997,0.81800000000000006,0.33599999999999997,0.71199999999999997,0.48899999999999999,0.63600000000000001,{"$f":"1-(PERCENTRANK($B34:$MD34,IC34))","v":0.33599999999999997},0.71199999999999997,0.97699999999999998,0.51800000000000002,0.65300000000000002,0.78600000000000003,0.63600000000000001,0.32099999999999995,0.56800000000000006,0.66199999999999992,0.66199999999999992,0.36799999999999999,0.68300000000000005,0.48899999999999999,0.21199999999999997,6.7999999999999949E-2,0.69500000000000006,0.76500000000000001,0.21199999999999997,0.90300000000000002,0.5150595238095238,{"$f":"1-(PERCENTRANK($B34:$MD34,IX34))","v":0.50900000000000001},0.73,0.80600000000000005,3.3000000000000029E-2,0.92700000000000005,0.53,0.92700000000000005,0.76500000000000001,0.9,0.73,0.50900000000000001,7.6999999999999957E-2,0.97099999999999997,0.35599999999999998,0.71199999999999997,0.48899999999999999,1,0.81800000000000006,0.995,0.91800000000000004,0.43600000000000005,0.51500000000000001,0.21199999999999997,0.90900000000000003,0.63600000000000001,0.84199999999999997,0.50900000000000001,0.96799999999999997,0.78600000000000003,0.67700000000000005,0.42100000000000004,0.871,{"$f":"1-(PERCENTRANK($B34:$MD34,KD34))","v":0.50900000000000001},0.65300000000000002,0.28900000000000003,0.79500000000000004,0.877,0.73,0.871,0.93599999999999994,0.85299999999999998,0.9,0.28900000000000003,0.23599999999999999,0.9,0.25,0.35599999999999998,0.995,0.67700000000000005,0.73,0.91800000000000004,0.92700000000000005,0.65300000000000002,0.17100000000000004,0.93300000000000005,0.42100000000000004,0.94799999999999995,0.59799999999999998,0.35599999999999998,0.91800000000000004,0.98599999999999999,0.22699999999999998,0.78600000000000003,0.69500000000000006,{"$f":"1-(PERCENTRANK($B34:$MD34,LJ34))","v":0.75},0.998,0.40300000000000002,0.81800000000000006,0.58299999999999996,0.25,0.51500000000000001,0.745,0.56800000000000006,0.98299999999999998,0.54800000000000004,0.85299999999999998,0.877,0.63600000000000001,0.65300000000000002,0.43600000000000005,0.80600000000000005,0.995,0.871,0.73,0.871,0.6794823529411762,null,null,null,0.253,0.50800000000000001,0.75924999999999998]
["Opponents Rebounds Per Game",33.799999999999997,39.200000000000003,38.6,36.799999999999997,36.4,32.200000000000003,39.1,36.4,37.299999999999997,33.799999999999997,38,36.1,36.700000000000003,35,37,31.5,36.799999999999997,34.299999999999997,40.200000000000003,32.700000000000003,34.4,36.5,39.299999999999997,37.1,31.7,35.1,41.5,31.8,35.1,37.6,34,38.6,35.9,35.9,35.799999999999997,33.700000000000003,30.7,37.5,36.5,37.5,33.799999999999997,35.799999999999997,33.6,36.200000000000003,37.1,35.200000000000003,39.6,35.299999999999997,34.5,34,34.9,36.799999999999997,32.700000000000003,33.799999999999997,36.700000000000003,37.200000000000003,36.4,33.1,37.4,40.1,32.6,40,34.299999999999997,33.1,38.5,38.5,33.700000000000003,35,35,37.9,34.1,36.200000000000003,38.799999999999997,34.200000000000003,35.200000000000003,34,33.4,35.799999999999997,34,33.6,37.299999999999997,29.1,35.6,38.200000000000003,34,35.698823529411762,32.9,32.4,36.9,34.700000000000003,29.8,35.4,32.200000000000003,37.299999999999997,32.299999999999997,29.6,34.5,36.1,35.700000000000003,39.700000000000003,34.1,34.6,36.799999999999997,33.9,31.6,35.9,32.799999999999997,34.4,38.5,33.799999999999997,36.4,34.1,35.4,33.700000000000003,28.1,38.799999999999997,36.799999999999997,36.5,33.1,38.200000000000003,32.1,40.700000000000003,32.5,33.200000000000003,30.8,29.6,35.1,33.9,36.799999999999997,35.200000000000003,34.4,35.200000000000003,32.799999999999997,37.1,36.9,33.5,34.9,35.299999999999997,39.9,34.200000000000003,36.5,34.9,35.299999999999997,32.799999999999997,36.6,34.5,34.9,31.2,34.6,34,33.1,30.5,35.4,33.1,34.4,31.5,32.299999999999997,35.299999999999997,31.7,32.799999999999997,32.200000000000003,31.6,28.5,32,31.7,36.700000000000003,38.4,34,34.700000000000003,31.1,34.254761904761892,34.200000000000003,32.700000000000003,35.4,31.2,34.6,34.299999999999997,32.799999999999997,37.1,36.4,34.9,31.5,35.700000000000003,31.1,31.4,31.9,33,35.1,31.9,32.299999999999997,37.299999999999997,32.1,33.4,29.6,38.1,34.799999999999997,32.9,35.299999999999997,32.6,34.6,32,34.200000000000003,33.200000000000003,34.700000000000003,34.200000000000003,31.6,34.1,38,34.5,31.3,33,34.4,30.9,31.7,32,32.799999999999997,36.200000000000003,31.9,32.9,30.6,33.5,32.1,33.5,34.5,35.299999999999997,33.4,35.299999999999997,34,33.6,37.9,39.299999999999997,31.5,34.799999999999997,35.1,31.3,38.6,33.9,33.9,33.6,34.6,30,33.1,30.1,29.5,32.799999999999997,36,33.1,33.299999999999997,32.9,30.6,33.5,31.8,36.9,31.8,33.6,33.584523809523816,31.5,35,34.5,36.299999999999997,38.4,29.3,29.9,31.8,35.6,32.4,33.1,31,34.9,32.6,31.8,35.1,33.700000000000003,36.299999999999997,29.4,32.9,33.200000000000003,31.9,32.1,32.4,32.299999999999997,34.9,33.4,33.6,32.5,33.5,32.9,34.299999999999997,32.799999999999997,35.200000000000003,34.4,31.8,34.299999999999997,35.1,32.299999999999997,30.7,32.799999999999997,33.799999999999997,34.9,28,34.6,34.200000000000003,34.1,29,28.3,30.5,31.4,31.7,32.5,29.5,31.9,33.9,31.4,32.4,30.3,33.299999999999997,32.9,30.2,33.200000000000003,33.299999999999997,36.299999999999997,31.5,33,30.3,30.7,31.4,31.7,34,32.200000000000003,30.5,34.5,31.2,29.6,31.6,35.6,31.2,34.4,29.5,33.799999999999997,31.9,36.299999999999997,32.687058823529412,"Opponents Rebounds Per Game",null,null,32.299999999999997,34,35.6]
["Overall Defensive Skill Set % Tile Ranking",{"$f":"AVERAGE(B35,B33,B31,B29,B27,B25)","v":0.14466666666666664},0.34916666666666663,0.35499999999999998,0.40700000000000003,0.1575,0.26800000000000002,0.10816666666666667,0.35499999999999998,0.19650000000000004,0.16516666666666666,0.36766666666666664,0.11166666666666669,0.32,0.70283333333333342,0.32366666666666671,0.28083333333333332,0.31116666666666665,0.14833333333333334,0.55216666666666658,0.36016666666666669,0.23683333333333337,0.25966666666666666,0.28783333333333333,0.39866666666666667,0.30050000000000004,0.12066666666666669,0.42466666666666669,0.21283333333333332,0.50250000000000006,0.17800000000000002,0.22199999999999998,0.66516666666666668,{"$f":"AVERAGE(AH35,AH33,AH31,AH29,AH27,AH25)","v":0.52849999999999997},0.4426666666666666,0.21716666666666665,0.39333333333333331,0.26616666666666666,0.59900000000000009,0.55966666666666665,0.77399999999999991,9.7166666666666665E-2,0.27416666666666673,0.28083333333333332,0.373,0.55183333333333329,0.51216666666666666,0.58483333333333343,0.248,0.17066666666666666,0.53633333333333333,0.43283333333333335,0.21166666666666667,0.42599999999999999,0.19950000000000001,0.40383333333333332,7.9500000000000001E-2,0.30283333333333329,0.25716666666666671,0.52566666666666662,0.36850000000000005,0.19950000000000001,0.59199999999999997,0.1585,0.39116666666666666,{"$f":"AVERAGE(BN35,BN33,BN31,BN29,BN27,BN25)","v":0.46766666666666667},0.19983333333333331,0.59216666666666662,0.34349999999999997,0.33816666666666667,0.43483333333333335,0.11600000000000001,0.32300000000000001,0.25600000000000001,0.16616666666666668,0.51083333333333336,0.36499999999999999,0.48883333333333345,0.23300000000000001,0.31633333333333336,0.42050000000000004,0.28200000000000003,0.15616666666666668,0.37116666666666664,0.34016666666666673,0.3085,0.33861176470588228,{"$f":"AVERAGE(CJ35,CJ33,CJ31,CJ29,CJ27,CJ25)","v":0.32800000000000001},0.50550000000000006,0.27800000000000002,0.40733333333333338,0.39233333333333337,0.60883333333333323,0.65783333333333338,0.65199999999999991,0.50283333333333335,0.27433333333333332,0.44366666666666671,0.73216666666666674,0.42733333333333334,0.41716666666666669,0.52049999999999996,0.47766666666666668,0.31516666666666665,0.35866666666666669,0.27749999999999997,0.27450000000000002,0.43150000000000005,0.53866666666666674,0.20183333333333334,0.16566666666666666,0.43483333333333335,0.64416666666666667,0.31316666666666665,0.62150000000000005,0.66566666666666674,0.42549999999999999,0.51416666666666677,0.53100000000000003,{"$f":"AVERAGE(DP35,DP33,DP31,DP29,DP27,DP25)","v":0.51433333333333342},0.57350000000000001,0.24,0.69066666666666665,0.36183333333333328,0.38683333333333331,0.38566666666666666,0.40183333333333332,0.73766666666666669,0.29749999999999999,0.3666666666666667,0.11800000000000001,0.40850000000000003,0.44333333333333336,0.6931666666666666,0.67166666666666675,0.33949999999999997,0.53,0.76933333333333342,0.52649999999999997,0.39916666666666667,0.55533333333333335,0.34800000000000003,0.28283333333333333,0.42399999999999999,0.40133333333333332,0.58333333333333337,0.4830000000000001,0.66516666666666668,0.71416666666666651,0.69366666666666665,0.54966666666666664,{"$f":"AVERAGE(EV35,EV33,EV31,EV29,EV27,EV25)","v":0.44883333333333336},0.3661666666666667,0.3256666666666666,0.43966666666666671,0.53966666666666674,0.32066666666666671,0.45833333333333326,0.65700000000000003,0.31066666666666665,0.5525000000000001,0.61083333333333334,0.36316666666666669,0.43483333333333335,0.6871666666666667,0.62749999999999995,0.51233333333333342,0.5568333333333334,0.40666666666666673,0.32649999999999996,0.44049999999999989,0.46762698412698406,{"$f":"AVERAGE(FQ35,FQ33,FQ31,FQ29,FQ27,FQ25)","v":0.3785},0.57850000000000001,0.50416666666666676,0.3081666666666667,0.62849999999999995,0.63583333333333336,0.59150000000000003,0.6170000000000001,0.39250000000000002,0.67849999999999999,0.58483333333333332,0.59699999999999998,0.3666666666666667,0.28416666666666668,0.45233333333333331,0.46549999999999997,0.44566666666666666,0.42116666666666663,0.47466666666666674,0.47000000000000003,0.29116666666666668,0.50683333333333325,0.55399999999999994,0.66333333333333333,0.63016666666666665,0.80216666666666681,0.8833333333333333,0.55933333333333335,0.19366666666666665,0.58083333333333342,0.53066666666666673,0.65049999999999997,{"$f":"AVERAGE(GW35,GW33,GW31,GW29,GW27,GW25)","v":0.77850000000000008},0.16666666666666666,0.37266666666666665,0.67316666666666658,0.52566666666666673,0.50983333333333336,0.57899999999999996,0.37133333333333335,0.4308333333333334,0.35233333333333333,0.56266666666666676,0.47150000000000003,0.68299999999999994,0.52266666666666672,0.43616666666666665,0.75850000000000006,0.54233333333333333,0.51133333333333331,0.6871666666666667,0.40083333333333337,0.66183333333333338,0.47700000000000004,0.59616666666666662,0.63433333333333342,0.90016666666666667,0.44400000000000001,0.59449999999999992,0.6695000000000001,0.54700000000000004,0.58199999999999996,0.62950000000000006,0.6283333333333333,{"$f":"AVERAGE(IC35,IC33,IC31,IC29,IC27,IC25)","v":0.37850000000000006},0.65583333333333338,0.62116666666666653,0.62733333333333341,0.50616666666666665,0.67516666666666669,0.55549999999999999,0.60733333333333339,0.45249999999999996,0.66499999999999992,0.46083333333333337,0.40566666666666668,0.72549999999999992,0.60683333333333345,0.51616666666666666,0.25533333333333336,0.47233333333333333,0.64249999999999996,0.62049999999999994,0.7463333333333334,0.54307341269841258,{"$f":"AVERAGE(IX35,IX33,IX31,IX29,IX27,IX25)","v":0.67683333333333329},0.76966666666666672,0.78100000000000003,0.33049999999999996,0.81799999999999995,0.58433333333333326,0.63633333333333331,0.68416666666666659,0.83766666666666667,0.65783333333333338,0.41033333333333338,0.41283333333333333,0.74949999999999994,0.60199999999999998,0.66133333333333333,0.71866666666666656,0.67883333333333329,0.755,0.67599999999999982,0.78566666666666662,0.51133333333333331,0.50883333333333336,0.31916666666666665,0.62633333333333341,0.43449999999999994,0.74133333333333329,0.51466666666666661,0.751,0.41466666666666668,0.68766666666666676,0.63449999999999995,0.68083333333333329,{"$f":"AVERAGE(KD35,KD33,KD31,KD29,KD27,KD25)","v":0.43383333333333329},0.65,0.59666666666666657,0.52700000000000002,0.82033333333333347,0.60533333333333328,0.80199999999999994,0.68400000000000005,0.78133333333333344,0.73616666666666675,0.35216666666666668,0.28016666666666667,0.6236666666666667,0.45733333333333337,0.36533333333333334,0.65883333333333338,0.66233333333333333,0.5744999999999999,0.67266666666666663,0.83766666666666667,0.57950000000000002,0.60083333333333344,0.54716666666666669,0.72850000000000004,0.74416666666666664,0.61016666666666663,0.23966666666666669,0.91283333333333327,0.86199999999999999,0.29400000000000004,0.60883333333333334,0.77499999999999991,{"$f":"AVERAGE(LJ35,LJ33,LJ31,LJ29,LJ27,LJ25)","v":0.89816666666666667},0.6951666666666666,0.57116666666666671,0.7044999999999999,0.5741666666666666,0.43733333333333335,0.37899999999999995,0.55483333333333329,0.53433333333333333,0.83099999999999996,0.77716666666666667,0.7593333333333333,0.74849999999999994,0.79800000000000004,0.71316666666666662,0.80983333333333318,0.82500000000000007,0.91049999999999998,0.60883333333333334,0.85333333333333339,0.90050000000000008,0.64187254901960777,"Overall Defensive Skill Set % Tile Ranking",null,null,0.36199999999999999,0.50966666666666671,0.63541666666666674]

{"sheet":"NCAA Tournament Teams Eye Chart","index":1,"n_rows":39,"n_cols":79,"rows_kept":39,"cut":false,"hidden":false,"merged":[[8,1,8,17],[8,19,8,35],[8,37,8,53],[8,55,8,71],[0,0,0,73]]}
["2012 NCAA March Madness \"Eye Chart\""]
["Performance Management \"Eye Chart\"™\nNCAA March Madness 2012\n68 Teams","Western Ky.","Mississippi Val.","Vermont","Norfolk St.","Detroit","Lamar","UNC Asheville","Lehigh","LIU Brooklyn","St. Bonaventure","Loyola Maryland","Montana","Davidson","Colorado","New Mexico St.","Belmont","West Virginia","Avg. Bottom Quartile Team","South Fla.","Virginia","Texas","Kansas St.","North Carolina St.","Ohio","BYU","Purdue","South Dakota St.","Cincinnati","Iona","Notre Dame","VCU","California","Xavier","Alabama","Harvard","Avg. Lower-Middle Quartile Team","Long Beach St.","Iowa St.","Connecticut","Saint Louis","Colorado St.","St. Mary's (CA)","Florida","New Mexico","San Diego St.","Vanderbilt","Gonzaga","Creighton","Wisconsin","Murray St.","Southern Miss.","Temple","UNLV","Avg. Upper-Middle Quartile Team","Florida St.","Indiana","Memphis","Georgetown","Louisville","Wichita St.","Michigan","Missouri","Marquette","Baylor","Ohio St.","Kansas","Duke","Michigan St.","North Carolina","Syracuse","Kentucky","Avg. Top Quartile Team","Performance Management \"Eye Chart\"™\nNCAA March Madness 2012\n68 Teams"]
["Games Played",33,33,34,34,35,34,33,33,33,31,32,31,32,34,35,34,32,{"$f":"SUM(B3:R3)","v":563},33,31,33,31,34,34,33,33,34,34,32,33,34,33,33,32,30,{"$f":"SUM(T3:AJ3)","v":557},33,32,33,32,31,32,33,33,33,34,31,33,33,31,33,31,34,{"$f":"SUM(AL3:BB3)","v":552},33,33,34,31,35,32,33,34,32,34,34,33,33,34,34,33,34,{"$f":"SUM(BD3:BT3)","v":566},"Games Played"]
["Winning %",{"$f":"(15/33)*100","v":45.454545454545453},{"$f":"(21/33)*100","v":63.636363636363633},{"$f":"(23/34)*100","v":67.64705882352942},{"$f":"(25/34)*100","v":73.529411764705884},{"$f":"(22/35)*100","v":62.857142857142854},{"$f":"(23/34)*100","v":67.64705882352942},{"$f":"(24/33)*100","v":72.727272727272734},{"$f":"(27/33)*100","v":81.818181818181827},{"$f":"(25/33)*100","v":75.757575757575751},{"$f":"(20/31)*100","v":64.516129032258064},{"$f":"(24/32)*100","v":75},{"$f":"(25/31)*100","v":80.645161290322577},{"$f":"(25/32)*100","v":78.125},{"$f":"(23/34)*100","v":67.64705882352942},{"$f":"(26/35)*100","v":74.285714285714292},{"$f":"(27/34)*100","v":79.411764705882348},{"$f":"(19/32)*100","v":59.375},{"$f":"AVERAGE(B4:R4)","v":70.00473175297374},{"$f":"(20/33)*100","v":60.606060606060609},{"$f":"(22/31)*100","v":70.967741935483872},{"$f":"(20/33)*100","v":60.606060606060609},{"$f":"(21/31)*100","v":67.741935483870961},{"$f":"(22/34)*100","v":64.705882352941174},{"$f":"(27/34)*100","v":79.411764705882348},{"$f":"(25/33)*100","v":75.757575757575751},{"$f":"(21/33)*100","v":63.636363636363633},{"$f":"(27/34)*100","v":79.411764705882348},{"$f":"(24/34)*100","v":70.588235294117652},{"$f":"(25/32)*100","v":78.125},{"$f":"(22/33)*100","v":66.666666666666657},{"$f":"(28/34)*100","v":82.35294117647058},{"$f":"(24/33)*100","v":72.727272727272734},{"$f":"(21/33)*100","v":63.636363636363633},{"$f":"(21/32)*100","v":65.625},{"$f":"(26/30)*100","v":86.666666666666671},{"$f":"AVERAGE(T4:AJ4)","v":71.131370350451718},{"$f":"(25/33)*100","v":75.757575757575751},{"$f":"(22/32)*100","v":68.75},{"$f":"(20/33)*100","v":60.606060606060609},{"$f":"(25/32)*100","v":78.125},{"$f":"(20/31)*100","v":64.516129032258064},{"$f":"(27/32)*100","v":84.375},{"$f":"(23/33)*100","v":69.696969696969703},{"$f":"(27/33)*100","v":81.818181818181827},{"$f":"(26/33)*100","v":78.787878787878782},{"$f":"(24/34)*100","v":70.588235294117652},{"$f":"(25/31)*100","v":80.645161290322577},{"$f":"(28/33)*100","v":84.848484848484844},{"$f":"(24/33)*100","v":72.727272727272734},{"$f":"(30/31)*100","v":96.774193548387103},{"$f":"(25/33)*100","v":75.757575757575751},{"$f":"(24/31)*100","v":77.41935483870968},{"$f":"(26/34)*100","v":76.470588235294116},{"$f":"AVERAGE(AL4:BB4)","v":76.333156602299368},{"$f":"(24/33)*100","v":72.727272727272734},{"$f":"(25/33)*100","v":75.757575757575751},{"$f":"(26/34)*100","v":76.470588235294116},{"$f":"(23/31)*100","v":74.193548387096769},{"$f":"(26/35)*100","v":74.285714285714292},{"$f":"(27/32)*100","v":84.375},{"$f":"(24/33)*100","v":72.727272727272734},{"$f":"(30/34)*100","v":88.235294117647058},{"$f":"(25/32)*100","v":78.125},{"$f":"(27/34)*100","v":79.411764705882348},{"$f":"(27/34)*100","v":79.411764705882348},{"$f":"(27/33)*100","v":81.818181818181827},{"$f":"(27/33)*100","v":81.818181818181827},{"$f":"(27/34)*100","v":79.411764705882348},{"$f":"(29/34)*100","v":85.294117647058826},{"$f":"(31/33)*100","v":93.939393939393938},{"$f":"(32/34)*100","v":94.117647058823522},{"$f":"AVERAGE(BD4:BT4)","v":80.712946037480023},"Winning %",null,null,{"$f":"_xlfn.QUARTILE.INC($B4:$BT4,1)","v":68.245967741935488},{"$f":"_xlfn.QUARTILE.INC($B4:$BT4,2)","v":75.757575757575751},{"$f":"_xlfn.QUARTILE.INC($B4:$BT4,3)","v":79.411764705882348}]
["Scoring Margin",-3.9,-0.8,6.7,2,4.2,7.7,8.6,11,3.9,6.3,3.2,8.4,10.4,6.1,10.4,14.4,5.4,{"$f":"AVERAGE(B5:R5)","v":6.1176470588235299},2.5,10.5,7.4,7.9,5,9.3000000000000007,12.8,6.6,10.6,8.1,10.9,6.5,8.6999999999999993,11.2,4.0999999999999996,7.8,11,{"$f":"AVERAGE(T5:AJ5)","v":8.2882352941176478},9.3000000000000007,7.3,4.8,12.4,2,13.1,12.5,14,8.6,7.8,10.3,10.199999999999999,12,13.1,7.8,6.2,12,{"$f":"AVERAGE(AL5:BB5)","v":9.6117647058823525},7.8,12.1,10.199999999999999,10.9,8.4,15.5,5.9,14.5,11.1,10.9,17.100000000000001,13.8,10.6,14.7,15.8,15.2,19,{"$f":"AVERAGE(BD5:BT5)","v":12.558823529411764},"Scoring Margin",null,null,{"$f":"_xlfn.QUARTILE.INC($B5:$BT5,1)","v":6.55},{"$f":"_xlfn.QUARTILE.INC($B5:$BT5,2)","v":9.3000000000000007},{"$f":"_xlfn.QUARTILE.INC($B5:$BT5,3)","v":11.6}]
["Rebound Margin",-1.4,0.5,3.6,1.8,2.1,5.6,1.3,2.1,2.9,5,3.8,-1,7.1,4.5999999999999996,8.1,2.6,6,3.2176470588235295,3.3,3.6,3.3,5.4,4.7,0.1,4.7,-0.8,2.2999999999999998,0.9,1.1000000000000001,-0.2,-0.5,4.3,2.8,2.2999999999999998,4.5999999999999996,2.4647058823529413,2.6,4.5,4,1.5,1,7.2,3.2,6.7,4.9000000000000004,1.6,6.9,5.5,2.9,2.1,4.5999999999999996,0.7,4.2,3.770588235294118,4.3,4.0999999999999996,1.2,5.6,2.5,6.5,-0.6,1,-0.4,5,6.9,6.1,3.3,9.6,11.4,-0.8,7.3,4.2941176470588234,"Rebound Margin",null,null,1.55,3.3,4.95]
["Strength of Schedule",140,311,272,308,171,216,209,290,246,112,116,202,172,71,114,193,17,185.88235294117646,28,85,18,55,26,163,101,27,161,65,145,39,154,86,35,30,182,82.352941176470594,123,40,3,89,21,103,24,81,58,6,78,102,14,157,47,54,38,61.058823529411768,4,32,19,13,8,56,11,69,16,9,7,10,2,1,5,22,25,18.176470588235293,"Strength of Schedule",null,null,21.5,61.058823529411768,142.5]
["Ratings Percentage Index",189,143,135,128,125,106,103,91,81,79,77,73,65,62,59,58,56,95.882352941176464,53,52,50,49,48,47,46,45,43,42,41,40,39,38,37,36,35,43.588235294117645,34,33,32,31,30,29,28,27,26,25,24,23,22,21,20,19,18,26,17,16,15,14,13,12,11,10,9,8,7,6,5,4,3,2,1,9,"Ratings Percentage Index",null,null,18.5,35,54.5]
["Team Quartile Performance","Bottom Quartile Performance",null,null,null,null,null,null,null,null,null,null,null,null,null,null,null,null,null,"Lower-Middle Quartile Performance",null,null,null,null,null,null,null,null,null,null,null,null,null,null,null,null,null,"Upper-Middle Quartile Performance",null,null,null,null,null,null,null,null,null,null,null,null,null,null,null,null,null,"Top Quartile Performance",null,null,null,null,null,null,null,null,null,null,null,null,null,null,null,null,null,"Player Quartile Performance",null,null,{"$error":"#NUM!"},{"$error":"#NUM!"},{"$error":"#NUM!"}]
["Points Per Game",64.5,68.7,68,68.7,72.3,74.3,80.8,75.900000000000006,81.8,69.599999999999994,67.599999999999994,70.2,77.900000000000006,68.2,78.8,82.1,71.8,73.011764705882356,60.1,62.7,73.7,71,73.7,71.599999999999994,79,71.7,78.599999999999994,68.900000000000006,83.4,68,68.3,72,71.7,65.900000000000006,65,70.899999999999991,73.8,73.3,68.599999999999994,68.8,70.8,74.599999999999994,77.7,72.599999999999994,70.900000000000006,73.900000000000006,73.2,79.7,64,74.8,71.599999999999994,75.599999999999994,78.400000000000006,73.076470588235296,69.599999999999994,77.599999999999994,74.7,69.599999999999994,70.7,78.3,66.3,79.7,76.400000000000006,74.400000000000006,74.7,75,79,72.5,81.900000000000006,75.8,77.8,74.941176470588232,"Points Per Game",null,null,69.599999999999994,73.011764705882356,76.150000000000006]
[null,{"$f":"PERCENTRANK($B10:$LZ10, B10)","v":0.04},{"$f":"PERCENTRANK($B10:$BT10, C10)","v":0.185},{"$f":"PERCENTRANK($B10:$LZ10, D10)","v":0.108},{"$f":"PERCENTRANK($B10:$LZ10, E10)","v":0.17499999999999999},{"$f":"PERCENTRANK($B10:$LZ10, F10)","v":0.44500000000000001},{"$f":"PERCENTRANK($B10:$LZ10, G10)","v":0.60799999999999998},{"$f":"PERCENTRANK($B10:$BT10, H10)","v":0.94199999999999995},{"$f":"PERCENTRANK($B10:$LZ10, I10)","v":0.74299999999999999},{"$f":"PERCENTRANK($B10:$BT10, J10)","v":0.95699999999999996},{"$f":"PERCENTRANK($B10:$LZ10, K10)","v":0.22900000000000001},{"$f":"PERCENTRANK($B10:$LZ10, L10)","v":9.4E-2},{"$f":"PERCENTRANK($B10:$BT10, M10)","v":0.28499999999999998},{"$f":"PERCENTRANK($B10:$BT10, N10)","v":0.81399999999999995},{"$f":"PERCENTRANK($B10:$LZ10, O10)","v":0.13500000000000001},{"$f":"PERCENTRANK($B10:$LZ10, P10)","v":0.878},{"$f":"PERCENTRANK($B10:$LZ10, Q10)","v":0.98599999999999999},{"$f":"PERCENTRANK($B10:$BT10, R10)","v":0.42799999999999999},0.47364705882352948,{"$f":"PERCENTRANK($B10:$BT10, T10)","v":0},{"$f":"PERCENTRANK($B10:$BT10, U10)","v":1.4E-2},{"$f":"PERCENTRANK($B10:$BT10, V10)","v":0.55700000000000005},{"$f":"PERCENTRANK($B10:$BT10, W10)","v":0.35699999999999998},{"$f":"PERCENTRANK($B10:$LZ10, X10)","v":0.55400000000000005},{"$f":"PERCENTRANK($B10:$LZ10, Y10)","v":0.36399999999999999},{"$f":"PERCENTRANK($B10:$BT10, Z10)","v":0.88500000000000001},{"$f":"PERCENTRANK($B10:$BT10, AA10)","v":0.4},{"$f":"PERCENTRANK($B10:$LZ10, AB10)","v":0.86399999999999999},{"$f":"PERCENTRANK($B10:$BT10, AC10)","v":0.22800000000000001},{"$f":"PERCENTRANK($B10:$BT10, AD10)","v":1},{"$f":"PERCENTRANK($B10:$BT10, AE10)","v":0.114},{"$f":"PERCENTRANK($B10:$LZ10, AF10)","v":0.14799999999999999},{"$f":"PERCENTRANK($B10:$BT10, AG10)","v":0.442},{"$f":"PERCENTRANK($B10:$BT10, AH10)","v":0.4},{"$f":"PERCENTRANK($B10:$BT10, AI10)","v":7.0999999999999994E-2},{"$f":"PERCENTRANK($B10:$BT10, AJ10)","v":5.7000000000000002E-2},0.37970588235294117,{"$f":"PERCENTRANK($B10:$BT10, AL10)","v":0.58499999999999996},0.54200000000000004,0.17100000000000001,0.214,0.314,0.64200000000000002,0.78500000000000003,0.48499999999999999,0.34200000000000003,0.6,0.52800000000000002,0.91400000000000003,2.8000000000000001E-2,0.68500000000000005,0.371,0.71399999999999997,0.84199999999999997,0.51541176470588235,{"$f":"PERCENTRANK($B10:$BT10, BD10)","v":0.24199999999999999},0.77100000000000002,0.65700000000000003,0.24199999999999999,0.3,0.82799999999999996,8.5000000000000006E-2,0.91400000000000003,0.75700000000000001,0.628,0.65700000000000003,0.7,0.88500000000000001,0.47099999999999997,0.97099999999999997,0.72799999999999998,0.8,0.62564705882352933,null,null,null,0.23549999999999999,0.48499999999999999,0.75]
["Field Goal Percentage",39.4,40,44.6,44,45.2,43.3,48.2,44.6,47.4,45.8,42.2,46.4,44.5,44.3,47.7,48.7,44.7,44.764705882352949,44,46.1,44.2,43.7,46,43.1,46.8,43.5,46.8,42,50.2,43.7,40.799999999999997,48.1,45.6,45.7,46.3,45.094117647058823,47.4,45.2,45.2,45.3,47.5,47.4,46.5,46,45.4,46.4,46.9,50.8,42.6,47.8,41.6,47.4,46.8,46.2470588235294,45.1,49,49,46.2,43.2,49,45.6,49.7,46.4,47.2,48.3,48.3,46.5,47.6,46.2,47.1,48.8,47.247058823529407,"Field Goal Percentage",null,null,44.55,46.1,47.4]
[null,{"$f":"PERCENTRANK($B12:$LZ12, B12)","v":0},{"$f":"PERCENTRANK($B12:$BT12, C12)","v":1.4E-2},{"$f":"PERCENTRANK($B12:$LZ12, D12)","v":0.25600000000000001},{"$f":"PERCENTRANK($B12:$LZ12, E12)","v":0.17499999999999999},{"$f":"PERCENTRANK($B12:$LZ12, F12)","v":0.33700000000000002},{"$f":"PERCENTRANK($B12:$LZ12, G12)","v":0.121},{"$f":"PERCENTRANK($B12:$BT12, H12)","v":0.85699999999999998},{"$f":"PERCENTRANK($B12:$LZ12, I12)","v":0.25600000000000001},{"$f":"PERCENTRANK($B12:$BT12, J12)","v":0.72799999999999998},{"$f":"PERCENTRANK($B12:$LZ12, K12)","v":0.44500000000000001},{"$f":"PERCENTRANK($B12:$LZ12, L12)","v":6.7000000000000004E-2},{"$f":"PERCENTRANK($B12:$BT12, M12)","v":0.57099999999999995},{"$f":"PERCENTRANK($B12:$BT12, N12)","v":0.24199999999999999},{"$f":"PERCENTRANK($B12:$LZ12, O12)","v":0.216},{"$f":"PERCENTRANK($B12:$LZ12, P12)","v":0.82399999999999995},{"$f":"PERCENTRANK($B12:$LZ12, Q12)","v":0.90500000000000003},{"$f":"PERCENTRANK($B12:$BT12, R12)","v":0.28499999999999998},0.37052941176470588,{"$f":"PERCENTRANK($B12:$BT12, T12)","v":0.185},{"$f":"PERCENTRANK($B12:$BT12, U12)","v":0.5},{"$f":"PERCENTRANK($B12:$BT12, V12)","v":0.214},{"$f":"PERCENTRANK($B12:$BT12, W12)","v":0.157},{"$f":"PERCENTRANK($B12:$LZ12, X12)","v":0.45900000000000002},{"$f":"PERCENTRANK($B12:$LZ12, Y12)","v":9.4E-2},{"$f":"PERCENTRANK($B12:$BT12, Z12)","v":0.64200000000000002},{"$f":"PERCENTRANK($B12:$BT12, AA12)","v":0.14199999999999999},{"$f":"PERCENTRANK($B12:$LZ12, AB12)","v":0.63500000000000001},{"$f":"PERCENTRANK($B12:$BT12, AC12)","v":5.7000000000000002E-2},{"$f":"PERCENTRANK($B12:$BT12, AD12)","v":0.98499999999999999},{"$f":"PERCENTRANK($B12:$BT12, AE12)","v":0.157},{"$f":"PERCENTRANK($B12:$LZ12, AF12)","v":2.7E-2},{"$f":"PERCENTRANK($B12:$BT12, AG12)","v":0.84199999999999997},{"$f":"PERCENTRANK($B12:$BT12, AH12)","v":0.41399999999999998},{"$f":"PERCENTRANK($B12:$BT12, AI12)","v":0.442},{"$f":"PERCENTRANK($B12:$BT12, AJ12)","v":0.55700000000000005},0.38288235294117651,{"$f":"PERCENTRANK($B12:$BT12, AL12)","v":0.72799999999999998},0.34200000000000003,0.34200000000000003,0.38500000000000001,0.78500000000000003,0.72799999999999998,0.61399999999999999,0.47099999999999997,0.4,0.57099999999999995,0.68500000000000005,1,8.5000000000000006E-2,0.82799999999999996,4.2000000000000003E-2,0.72799999999999998,0.64200000000000002,0.55152941176470582,{"$f":"PERCENTRANK($B12:$BT12, BD12)","v":0.32800000000000001},0.92800000000000005,0.92800000000000005,0.51400000000000001,0.114,0.92800000000000005,0.41399999999999998,0.97099999999999997,0.57099999999999995,0.71399999999999997,0.871,0.871,0.61399999999999999,0.8,0.51400000000000001,0.7,0.91400000000000003,0.6878823529411765,null,null,null,0.249,0.5,0.72799999999999998]
["3 Point Percentage",29.9,33.1,34.700000000000003,30.6,30.3,34,36.1,35.299999999999997,37.299999999999997,33.700000000000003,33,36.9,34.1,35.1,33,37.700000000000003,30.7,33.852941176470594,31.3,33.799999999999997,33.799999999999997,33,35.5,33.799999999999997,34.4,36.6,39.5,35.799999999999997,39.4,33.200000000000003,33.200000000000003,37.1,35.9,28.5,34.700000000000003,34.676470588235297,35.799999999999997,38.299999999999997,32.700000000000003,36.299999999999997,41,34.700000000000003,39.4,38.4,33.200000000000003,39.799999999999997,37.5,42.8,35.799999999999997,41.5,36.299999999999997,40.5,37.200000000000003,37.71764705882353,33,42.6,36.799999999999997,35.299999999999997,32.200000000000003,37.200000000000003,34.700000000000003,38.4,34.6,39,33.1,35.200000000000003,38.700000000000003,35.200000000000003,34.799999999999997,34.200000000000003,37.6,36.035294117647062,"3 Point Percentage",null,null,33.75,35.200000000000003,37.4]
[null,1.7000000000000001E-2,0.23799999999999999,0.47,4.9000000000000002E-2,null,null,0.67,0.55400000000000005,0.83799999999999997,0.30499999999999999,0.217,0.79600000000000004,0.38500000000000001,0.52900000000000003,null,0.86599999999999999,5.6000000000000001E-2,0.42785714285714282,null,0.32900000000000001,0.32900000000000001,0.217,0.57799999999999996,0.32900000000000001,0.435,0.747,0.95,0.624,0.94299999999999995,0.249,0.249,null,0.64500000000000002,null,0.47,0.50671428571428556,0.624,0.89400000000000002,0.192,0.68400000000000005,0.98199999999999998,0.47,0.94299999999999995,0.90500000000000003,0.249,0.95699999999999996,0.84499999999999997,0.996,0.624,0.98899999999999999,0.68400000000000005,0.96399999999999997,0.82399999999999995,0.75447058823529412,0.217,0.99199999999999999,0.77100000000000002,0.55400000000000005,0.14699999999999999,0.82399999999999995,0.47,0.90500000000000003,0.45600000000000002,0.93300000000000005,null,0.54300000000000004,0.91900000000000004,0.54300000000000004,0.498,0.40699999999999997,0.85599999999999998,0.6271874999999999,null,null,null,0.371,0.56600000000000006,0.84775]
["Free Throw Percentage",70.099999999999994,65.400000000000006,74.099999999999994,65,72.8,71.7,76,78.400000000000006,73,76.900000000000006,71.099999999999994,71.3,76.599999999999994,69.599999999999994,66.3,73.900000000000006,66.099999999999994,71.664705882352933,70.5,72.400000000000006,73.099999999999994,65.7,72.5,68.2,71.099999999999994,64.8,72.599999999999994,64.099999999999994,71.8,71.7,70.099999999999994,75.099999999999994,69,71,74.2,70.464705882352945,66.3,67.400000000000006,67.099999999999994,70.5,76.7,72.599999999999994,70.3,69.5,69.400000000000006,70.599999999999994,71.7,72.900000000000006,73.599999999999994,73.3,74.900000000000006,71.2,67.599999999999994,70.917647058823519,69.2,75.5,71.099999999999994,70.7,68.099999999999994,75.2,70.8,77,72.2,74.599999999999994,69.7,69.3,69.5,70.099999999999994,66.8,69.7,72.400000000000006,71.288235294117669,"Free Throw Percentage",null,null,69.45,71.099999999999994,72.95]
[null,{"$f":"PERCENTRANK($B16:$LZ16, B16)","v":0.32400000000000001},{"$f":"PERCENTRANK($B16:$BT16, C16)","v":4.2000000000000003E-2},{"$f":"PERCENTRANK($B16:$LZ16, D16)","v":0.83699999999999997},{"$f":"PERCENTRANK($B16:$LZ16, E16)","v":2.7E-2},{"$f":"PERCENTRANK($B16:$LZ16, F16)","v":0.72899999999999998},{"$f":"PERCENTRANK($B16:$LZ16, G16)","v":0.59399999999999997},{"$f":"PERCENTRANK($B16:$BT16, H16)","v":0.92800000000000005},{"$f":"PERCENTRANK($B16:$LZ16, I16)","v":1},{"$f":"PERCENTRANK($B16:$BT16, J16)","v":0.75700000000000001},{"$f":"PERCENTRANK($B16:$LZ16, K16)","v":0.97199999999999998},{"$f":"PERCENTRANK($B16:$LZ16, L16)","v":0.48599999999999999},{"$f":"PERCENTRANK($B16:$BT16, M16)","v":0.55700000000000005},{"$f":"PERCENTRANK($B16:$BT16, N16)","v":0.94199999999999995},{"$f":"PERCENTRANK($B16:$LZ16, O16)","v":0.28299999999999997},{"$f":"PERCENTRANK($B16:$LZ16, P16)","v":8.1000000000000003E-2},{"$f":"PERCENTRANK($B16:$LZ16, Q16)","v":0.82399999999999995},{"$f":"PERCENTRANK($B16:$BT16, R16)","v":7.0999999999999994E-2},0.55611764705882338,{"$f":"PERCENTRANK($B16:$BT16, T16)","v":0.4},{"$f":"PERCENTRANK($B16:$BT16, U16)","v":0.65700000000000003},{"$f":"PERCENTRANK($B16:$BT16, V16)","v":0.77100000000000002},{"$f":"PERCENTRANK($B16:$BT16, W16)","v":5.7000000000000002E-2},{"$f":"PERCENTRANK($B16:$LZ16, X16)","v":0.68899999999999995},{"$f":"PERCENTRANK($B16:$LZ16, Y16)","v":0.17499999999999999},{"$f":"PERCENTRANK($B16:$BT16, Z16)","v":0.5},{"$f":"PERCENTRANK($B16:$BT16, AA16)","v":1.4E-2},{"$f":"PERCENTRANK($B16:$LZ16, AB16)","v":0.70199999999999996},{"$f":"PERCENTRANK($B16:$BT16, AC16)","v":0},{"$f":"PERCENTRANK($B16:$BT16, AD16)","v":0.628},{"$f":"PERCENTRANK($B16:$BT16, AE16)","v":0.58499999999999996},{"$f":"PERCENTRANK($B16:$LZ16, AF16)","v":0.32400000000000001},{"$f":"PERCENTRANK($B16:$BT16, AG16)","v":0.88500000000000001},{"$f":"PERCENTRANK($B16:$BT16, AH16)","v":0.2},{"$f":"PERCENTRANK($B16:$BT16, AI16)","v":0.48499999999999999},{"$f":"PERCENTRANK($B16:$BT16, AJ16)","v":0.84199999999999997},0.4655294117647058,{"$f":"PERCENTRANK($B16:$BT16, AL16)","v":8.5000000000000006E-2},0.14199999999999999,0.128,0.4,0.95699999999999996,0.7,0.371,0.25700000000000001,0.24199999999999999,0.42799999999999999,0.58499999999999996,0.74199999999999999,0.8,0.78500000000000003,0.871,0.54200000000000004,0.157,0.48188235294117648,{"$f":"PERCENTRANK($B16:$BT16, BD16)","v":0.214},0.91400000000000003,0.5,0.442,0.17100000000000001,0.9,0.45700000000000002,0.98499999999999999,0.64200000000000002,0.85699999999999998,0.3,0.22800000000000001,0.25700000000000001,0.32800000000000001,0.114,0.3,0.65700000000000003,0.48623529411764704,null,null,null,0.2495,0.48599999999999999,0.74950000000000006]
["Assists Per Game",11.2,13.5,13.4,11.9,13,13.3,16.5,13.3,14.9,13.7,11.8,14,13.6,12.3,13.8,17.8,14.9,13.700000000000003,12.2,12.4,12.5,14.2,16.3,13.3,17.3,13.4,14.4,13.1,19.5,14.7,12.4,16.100000000000001,14.1,12.7,12.7,14.194117647058821,14,14.4,13.4,13.6,12.4,16,15.2,16.3,12.5,13,13.3,18,11.7,13,11.3,15.4,18.3,14.223529411764709,11.8,13.8,14.1,13.8,14.1,15,13.2,16.100000000000001,17.3,15.1,15,15.8,12.8,15.7,17.600000000000001,16.100000000000001,13.4,14.747058823529413,"Assists Per Game",null,null,13,13.8,15.149999999999999]
[null,{"$f":"PERCENTRANK($B18:$LZ18, B18)","v":0},{"$f":"PERCENTRANK($B18:$BT18, C18)","v":0.41399999999999998},{"$f":"PERCENTRANK($B18:$LZ18, D18)","v":0.35099999999999998},{"$f":"PERCENTRANK($B18:$LZ18, E18)","v":6.7000000000000004E-2},{"$f":"PERCENTRANK($B18:$LZ18, F18)","v":0.216},{"$f":"PERCENTRANK($B18:$LZ18, G18)","v":0.29699999999999999},{"$f":"PERCENTRANK($B18:$BT18, H18)","v":0.9},{"$f":"PERCENTRANK($B18:$LZ18, I18)","v":0.29699999999999999},{"$f":"PERCENTRANK($B18:$BT18, J18)","v":0.68500000000000005},{"$f":"PERCENTRANK($B18:$LZ18, K18)","v":0.44500000000000001},{"$f":"PERCENTRANK($B18:$LZ18, L18)","v":0.04},{"$f":"PERCENTRANK($B18:$BT18, M18)","v":0.52800000000000002},{"$f":"PERCENTRANK($B18:$BT18, N18)","v":0.42799999999999999},{"$f":"PERCENTRANK($B18:$LZ18, O18)","v":9.4E-2},{"$f":"PERCENTRANK($B18:$LZ18, P18)","v":0.47199999999999998},{"$f":"PERCENTRANK($B18:$LZ18, Q18)","v":0.95899999999999996},{"$f":"PERCENTRANK($B18:$BT18, R18)","v":0.68500000000000005},0.40458823529411764,{"$f":"PERCENTRANK($B18:$BT18, T18)","v":8.5000000000000006E-2},{"$f":"PERCENTRANK($B18:$BT18, U18)","v":0.114},{"$f":"PERCENTRANK($B18:$BT18, V18)","v":0.157},{"$f":"PERCENTRANK($B18:$BT18, W18)","v":0.61399999999999999},{"$f":"PERCENTRANK($B18:$LZ18, X18)","v":0.878},{"$f":"PERCENTRANK($B18:$LZ18, Y18)","v":0.29699999999999999},{"$f":"PERCENTRANK($B18:$BT18, Z18)","v":0.91400000000000003},{"$f":"PERCENTRANK($B18:$BT18, AA18)","v":0.35699999999999998},{"$f":"PERCENTRANK($B18:$LZ18, AB18)","v":0.63500000000000001},{"$f":"PERCENTRANK($B18:$BT18, AC18)","v":0.27100000000000002},{"$f":"PERCENTRANK($B18:$BT18, AD18)","v":1},{"$f":"PERCENTRANK($B18:$BT18, AE18)","v":0.67100000000000004},{"$f":"PERCENTRANK($B18:$LZ18, AF18)","v":0.108},{"$f":"PERCENTRANK($B18:$BT18, AG18)","v":0.82799999999999996},{"$f":"PERCENTRANK($B18:$BT18, AH18)","v":0.55700000000000005},{"$f":"PERCENTRANK($B18:$BT18, AI18)","v":0.185},{"$f":"PERCENTRANK($B18:$BT18, AJ18)","v":0.185},0.46211764705882352,{"$f":"PERCENTRANK($B18:$BT18, AL18)","v":0.52800000000000002},0.64200000000000002,0.35699999999999998,0.42799999999999999,0.114,0.81399999999999995,0.75700000000000001,0.871,0.157,0.22800000000000001,0.3,0.97099999999999997,2.8000000000000001E-2,0.22800000000000001,1.4E-2,0.77100000000000002,0.98499999999999999,0.48194117647058821,{"$f":"PERCENTRANK($B18:$BT18, BD18)","v":4.2000000000000003E-2},0.48499999999999999,0.55700000000000005,0.48499999999999999,0.55700000000000005,0.71399999999999997,0.28499999999999998,0.82799999999999996,0.91400000000000003,0.74199999999999999,0.71399999999999997,0.8,0.214,0.78500000000000003,0.94199999999999995,0.82799999999999996,0.35699999999999998,0.60288235294117642,null,null,null,0.22800000000000001,0.47199999999999998,0.74950000000000006]
["Turn Overs Per Game",15.3,15.2,12.3,15.7,12.5,12.7,13.8,11.4,16.7,14.5,13.6,12.9,12,13.2,14.9,12.6,13.2,13.676470588235293,13.6,11.3,12.8,14.7,12.9,13.3,13.1,8.6,10.5,10.8,12.5,10,11.6,11.8,13.4,13.1,12.2,12.129411764705882,13.3,12.5,13.1,11.1,12.9,11.7,11.4,14.1,12.8,13.7,13.7,12.5,9,14.1,11.6,12.2,13.7,12.552941176470584,16.5,13.1,12.9,12.6,14.8,12.1,10.6,10.5,12.7,14.2,11.8,13.5,12.4,13.3,12,10.5,11.7,12.658823529411766,"Turn Overs Per Game",null,null,11.9,12.8,13.6]
[null,{"$f":"1-PERCENTRANK($B20:$LZ20, B20)","v":4.1000000000000036E-2},5.5000000000000049E-2,0.66300000000000003,2.8000000000000025E-2,0.63600000000000001,0.52800000000000002,0.16300000000000003,0.86499999999999999,0,0.10899999999999999,0.25700000000000001,0.45999999999999996,0.74399999999999999,0.35199999999999998,6.7999999999999949E-2,0.56800000000000006,0.35199999999999998,0.34641176470588242,{"$f":"1-PERCENTRANK($B20:$LZ20, T20)","v":0.25700000000000001},0.879,0.5,9.4999999999999973E-2,0.45999999999999996,0.32499999999999996,0.40600000000000003,1,0.96,0.90600000000000003,0.63600000000000001,0.97299999999999998,0.83799999999999997,0.78400000000000003,0.28400000000000003,0.40600000000000003,0.69,0.61170588235294121,{"$f":"1-PERCENTRANK($B20:$LZ20, AL20)","v":0.32499999999999996},0.63600000000000001,0.40600000000000003,0.89200000000000002,0.45999999999999996,0.81099999999999994,0.86499999999999999,0.14900000000000002,0.5,0.20299999999999996,0.20299999999999996,0.63600000000000001,0.98699999999999999,0.14900000000000002,0.83799999999999997,0.69,0.20299999999999996,0.52664705882352936,{"$f":"1-PERCENTRANK($B20:$LZ20, BD20)","v":1.4000000000000012E-2},0.40600000000000003,0.45999999999999996,0.56800000000000006,8.1999999999999962E-2,0.71700000000000008,0.91900000000000004,0.96,0.52800000000000002,0.122,0.78400000000000003,0.27100000000000002,0.64900000000000002,0.32499999999999996,0.74399999999999999,0.96,0.81099999999999994,0.54823529411764704,null,null,null,0.26400000000000001,0.5,0.76400000000000001]
[null,{"$f":"AVERAGE(B24,B21,B19,B17,B15,B13,B11)","v":0.17599999999999999},{"$f":"AVERAGE(C24,C21,C19,C17,C15,C13,C11)","v":0.26085714285714284},0.44142857142857145,0.15742857142857145,0.50416666666666665,0.51549999999999996,0.69500000000000006,0.58271428571428585,0.66099999999999992,0.42528571428571427,0.29314285714285715,0.46442857142857147,0.62557142857142856,0.24714285714285714,0.54916666666666669,0.80885714285714283,0.40900000000000009,0.45980532212885161,0.18600000000000003,0.35614285714285715,0.49042857142857149,0.35085714285714281,0.61914285714285711,0.34585714285714281,0.5922857142857143,0.4474285714285714,0.70499999999999996,0.42914285714285721,0.77828571428571436,0.41385714285714281,0.35385714285714293,0.65266666666666662,0.39371428571428568,0.30749999999999994,0.40399999999999991,0.46036274509803921,0.48399999999999999,0.49342857142857138,0.33799999999999997,0.45014285714285718,0.5178571428571429,0.66828571428571426,0.69842857142857151,0.51185714285714279,0.30271428571428577,0.45171428571428579,0.50142857142857145,0.76285714285714279,0.38,0.57157142857142851,0.53600000000000003,0.65685714285714292,0.60485714285714287,0.5252941176470588,0.24171428571428574,0.67885714285714283,0.56485714285714284,0.47400000000000009,0.31928571428571434,0.73814285714285721,0.37957142857142862,0.80428571428571427,0.64328571428571413,0.67700000000000016,0.65783333333333327,0.54542857142857137,0.6,0.55914285714285727,{"$f":"AVERAGE(BR24,BR21,BR19,BR17,BR15,BR13,BR11)","v":0.68328571428571439},0.67999999999999994,0.73971428571428555,0.58743557422969184,null,null,null,0.3988571428571428,0.50416666666666665,0.64797619047619037]
["Offensive Rebounds Per Game",12.5,13.2,11.1,11.6,11.9,14.1,11.1,11,11.9,11.3,13.3,9.1,12.6,9.9,14.6,11.5,15,12.1,10.5,8.1,13.4,14.2,12.1,12.7,11,11.3,10.5,13.5,10.8,10.3,12.4,10,10.8,10.8,8.5,11.229411764705885,11.4,10.8,12.3,10.3,8.1999999999999993,11.4,11.5,11.2,10.7,10.4,11,9.5,9.6999999999999993,10.9,13.9,10.5,11.6,10.9,11.8,10.8,9.5,11.4,13.1,10.8,8.5,9.1999999999999993,11.8,12.2,11.7,11.1,11.9,11.9,16.600000000000001,12.7,12.4,11.611764705882353,"Offensive Rebounds Per Game",null,null,10.75,11.3,12.25]
[null,{"$f":"PERCENTRANK($B23:$LZ23, B23)","v":0.81},0.878,0.40500000000000003,0.58099999999999996,0.66200000000000003,0.94499999999999995,0.40500000000000003,0.36399999999999999,0.66200000000000003,0.47199999999999998,0.89100000000000001,5.3999999999999999E-2,0.82399999999999995,0.121,0.97199999999999998,0.55400000000000005,0.98599999999999999,0.62270588235294122,{"$f":"PERCENTRANK($B23:$LZ23, T23)","v":0.189},0,0.90500000000000003,0.95899999999999996,0.71599999999999997,0.83699999999999997,0.36399999999999999,0.47199999999999998,0.189,0.91800000000000004,0.25600000000000001,0.14799999999999999,0.78300000000000003,0.13500000000000001,0.25600000000000001,0.25600000000000001,2.7E-2,0.43588235294117655,{"$f":"PERCENTRANK($B23:$LZ23, AL23)","v":0.51300000000000001},0.25600000000000001,0.77,0.14799999999999999,1.2999999999999999E-2,0.51300000000000001,0.55400000000000005,0.44500000000000001,0.22900000000000001,0.17499999999999999,0.36399999999999999,8.1000000000000003E-2,0.108,0.33700000000000002,0.93200000000000005,0.189,0.58099999999999996,0.36517647058823532,{"$f":"PERCENTRANK($B23:$LZ23, BD23)","v":0.63500000000000001},0.25600000000000001,8.1000000000000003E-2,0.51300000000000001,0.86399999999999999,0.25600000000000001,2.7E-2,6.7000000000000004E-2,0.63500000000000001,0.74299999999999999,0.621,0.40500000000000003,0.66200000000000003,0.66200000000000003,1,0.83699999999999997,0.78300000000000003,0.53217647058823536,null,null,null,0.24249999999999999,0.47199999999999998,0.75649999999999995]
["Overall Offensive Skill Set % Tile Ranking",{"$f":"PERCENTRANK($B22:$LZ22,B22)","v":1.2999999999999999E-2},{"$f":"PERCENTRANK($B22:$BT22,C22)","v":7.0999999999999994E-2},{"$f":"PERCENTRANK($B22:$LZ22,D22)","v":0.32400000000000001},{"$f":"PERCENTRANK($B22:$LZ22,E22)","v":0},{"$f":"PERCENTRANK($B22:$LZ22,F22)","v":0.48599999999999999},{"$f":"PERCENTRANK($B22:$LZ22,G22)","v":0.52700000000000002},{"$f":"PERCENTRANK($B22:$BT22,H22)","v":0.88500000000000001},{"$f":"PERCENTRANK($B22:$LZ22,I22)","v":0.64800000000000002},{"$f":"PERCENTRANK($B22:$BT22,J22)","v":0.8},{"$f":"PERCENTRANK($B22:$LZ22,K22)","v":0.29699999999999999},{"$f":"PERCENTRANK($B22:$LZ22,L22)","v":8.1000000000000003E-2},{"$f":"PERCENTRANK($B22:$BT22,M22)","v":0.41399999999999998},{"$f":"PERCENTRANK($B22:$BT22,N22)","v":0.72799999999999998},{"$f":"PERCENTRANK($B22:$LZ22,O22)","v":5.3999999999999999E-2},{"$f":"PERCENTRANK($B22:$LZ22,P22)","v":0.59399999999999997},{"$f":"PERCENTRANK($B22:$LZ22,Q22)","v":1},{"$f":"PERCENTRANK($B22:$BT22,R22)","v":0.27100000000000002},0.42311764705882354,{"$f":"PERCENTRANK($B22:$BT22,T22)","v":2.8000000000000001E-2},{"$f":"PERCENTRANK($B22:$BT22,U22)","v":0.2},{"$f":"PERCENTRANK($B22:$BT22,V22)","v":0.45700000000000002},{"$f":"PERCENTRANK($B22:$BT22,W22)","v":0.17100000000000001},{"$f":"PERCENTRANK($B22:$LZ22,X22)","v":0.71599999999999997},{"$f":"PERCENTRANK($B22:$LZ22,Y22)","v":0.14799999999999999},{"$f":"PERCENTRANK($B22:$BT22,Z22)","v":0.67100000000000004},{"$f":"PERCENTRANK($B22:$BT22,AA22)","v":0.34200000000000003},{"$f":"PERCENTRANK($B22:$LZ22,AB22)","v":0.91800000000000004},{"$f":"PERCENTRANK($B22:$BT22,AC22)","v":0.314},{"$f":"PERCENTRANK($B22:$BT22,AD22)","v":0.97099999999999997},{"$f":"PERCENTRANK($B22:$BT22,AE22)","v":0.28499999999999998},{"$f":"PERCENTRANK($B22:$LZ22,AF22)","v":0.17499999999999999},{"$f":"PERCENTRANK($B22:$BT22,AG22)","v":0.75700000000000001},{"$f":"PERCENTRANK($B22:$BT22,AH22)","v":0.24199999999999999},{"$f":"PERCENTRANK($B22:$BT22,AI22)","v":0.114},{"$f":"PERCENTRANK($B22:$BT22,AJ22)","v":0.25700000000000001},0.39799999999999996,{"$f":"PERCENTRANK($B22:$BT22,AL22)","v":0.442},0.47099999999999997,0.14199999999999999,0.35699999999999998,0.54200000000000004,0.81399999999999995,0.9,0.51400000000000001,0.1,0.371,0.48499999999999999,0.95699999999999996,0.22800000000000001,0.64200000000000002,0.57099999999999995,0.77100000000000002,0.7,0.52982352941176458,{"$f":"PERCENTRANK($B22:$BT22,BD22)","v":4.2000000000000003E-2},0.84199999999999997,0.628,0.42799999999999999,0.128,0.92800000000000005,0.214,0.98499999999999999,0.74199999999999999,0.82799999999999996,0.78500000000000003,0.58499999999999996,0.68500000000000005,0.61399999999999999,0.871,0.85699999999999998,0.94199999999999995,0.65317647058823536,"Overall Offensive Skill Set % Tile Ranking",null,null,0.2495,0.48599999999999999,0.74950000000000006]
["Rebounds Per Game",35.4,37.700000000000003,35.1,36.4,34.4,39.6,34.799999999999997,36,38.9,35,35.6,32.700000000000003,38.9,37,39.9,36,37.9,36.547058823529412,34,32.700000000000003,36.200000000000003,38.1,37.299999999999997,35,39,33.299999999999997,34.700000000000003,36.6,35.200000000000003,34.4,34.4,34.799999999999997,37.1,35.1,32.799999999999997,35.335294117647052,35.1,36.4,38,32.9,31.3,36.700000000000003,36.200000000000003,38.4,37.299999999999997,34.799999999999997,37.1,35.700000000000003,34.4,33.6,36.799999999999997,34.6,38.700000000000003,35.764705882352949,37.6,34.799999999999997,34.5,36.1,38.799999999999997,37.700000000000003,31.1,32.4,35.200000000000003,36.5,36.4,37.299999999999997,37,39.1,45.9,35.5,39.200000000000003,36.77058823529412,"Defensive Rebounds Per Game",null,null,34.799999999999997,36,37.299999999999997]
[null,{"$f":"PERCENTRANK($B26:$LZ26,B26)","v":0.40500000000000003},{"$f":"PERCENTRANK($B26:$BT26,C26)","v":0.78500000000000003},{"$f":"PERCENTRANK($B26:$LZ26,D26)","v":0.32400000000000001},{"$f":"PERCENTRANK($B26:$LZ26,E26)","v":0.55400000000000005},{"$f":"PERCENTRANK($B26:$LZ26,F26)","v":0.13500000000000001},{"$f":"PERCENTRANK($B26:$LZ26,G26)","v":0.97199999999999998},{"$f":"PERCENTRANK($B26:$BT26,H26)","v":0.24199999999999999},{"$f":"PERCENTRANK($B26:$LZ26,I26)","v":0.47199999999999998},{"$f":"PERCENTRANK($B26:$BT26,J26)","v":0.9},{"$f":"PERCENTRANK($B26:$LZ26,K26)","v":0.29699999999999999},{"$f":"PERCENTRANK($B26:$LZ26,L26)","v":0.432},{"$f":"PERCENTRANK($B26:$BT26,M26)","v":4.2000000000000003E-2},{"$f":"PERCENTRANK($B26:$BT26,N26)","v":0.9},{"$f":"PERCENTRANK($B26:$LZ26,O26)","v":0.67500000000000004},{"$f":"PERCENTRANK($B26:$LZ26,P26)","v":0.98599999999999999},{"$f":"PERCENTRANK($B26:$LZ26,Q26)","v":0.47199999999999998},{"$f":"PERCENTRANK($B26:$BT26,R26)","v":0.81399999999999995},0.5533529411764706,{"$f":"PERCENTRANK($B26:$BT26,T26)","v":0.128},{"$f":"PERCENTRANK($B26:$BT26,U26)","v":4.2000000000000003E-2},{"$f":"PERCENTRANK($B26:$BT26,V26)","v":0.52800000000000002},{"$f":"PERCENTRANK($B26:$BT26,W26)","v":0.84199999999999997},{"$f":"PERCENTRANK($B26:$LZ26,X26)","v":0.72899999999999998},{"$f":"PERCENTRANK($B26:$LZ26,Y26)","v":0.29699999999999999},{"$f":"PERCENTRANK($B26:$BT26,Z26)","v":0.92800000000000005},{"$f":"PERCENTRANK($B26:$BT26,AA26)","v":0.1},{"$f":"PERCENTRANK($B26:$LZ26,AB26)","v":0.216},{"$f":"PERCENTRANK($B26:$BT26,AC26)","v":0.628},{"$f":"PERCENTRANK($B26:$BT26,AD26)","v":0.371},{"$f":"PERCENTRANK($B26:$BT26,AE26)","v":0.14199999999999999},{"$f":"PERCENTRANK($B26:$LZ26,AF26)","v":0.13500000000000001},{"$f":"PERCENTRANK($B26:$BT26,AG26)","v":0.24199999999999999},{"$f":"PERCENTRANK($B26:$BT26,AH26)","v":0.7},{"$f":"PERCENTRANK($B26:$BT26,AI26)","v":0.32800000000000001},{"$f":"PERCENTRANK($B26:$BT26,AJ26)","v":7.0999999999999994E-2},0.37805882352941184,{"$f":"PERCENTRANK($B26:$BT26,AL26)","v":0.32800000000000001},0.55700000000000005,0.82799999999999996,8.5000000000000006E-2,1.4E-2,0.64200000000000002,0.52800000000000002,0.85699999999999998,0.72799999999999998,0.24199999999999999,0.7,0.45700000000000002,0.14199999999999999,0.114,0.65700000000000003,0.214,0.871,0.46847058823529414,{"$f":"PERCENTRANK($B26:$BT26,BD26)","v":0.77100000000000002},0.24199999999999999,0.2,0.51400000000000001,0.88500000000000001,0.78500000000000003,0,2.8000000000000001E-2,0.371,0.6,0.55700000000000005,0.72799999999999998,0.67100000000000004,0.94199999999999995,1,0.42799999999999999,0.95699999999999996,0.56935294117647073,null,null,null,0.24199999999999999,0.47199999999999998,0.72849999999999993]
["Steals Per Game",6,8.6,6.3,7.4,7.3,8.6,8.4,7.6,6.2,6.1,8.1,7.4,5.6,5.5,6.9,7.7,6.4,7.0647058823529409,5.7,6.5,6.9,6.1,7,9.3000000000000007,8.5,6.8,6.6,7.8,7.2,5.0999999999999996,10.6,4.9000000000000004,6.4,7.7,6,7.0058823529411773,7.3,5.9,6.1,7.3,5.3,7.2,6.7,7.4,5.8,6,6.7,5,5.3,8.4,5.7,6.8,8.6,6.5588235294117645,8,6.6,7.9,6.4,9.3000000000000007,6.3,4.9000000000000004,8.5,8.9,8,7.4,7.4,6.2,7.6,7,9.9,6.5,7.4588235294117657,"Steals Per Game",null,null,6.15,6.9,7.7]
[null,{"$f":"PERCENTRANK($B28:$LZ28,B28)","v":0.16200000000000001},{"$f":"PERCENTRANK($B28:$BT28,C28)","v":0.9},{"$f":"PERCENTRANK($B28:$LZ28,D28)","v":0.28299999999999997},{"$f":"PERCENTRANK($B28:$LZ28,E28)","v":0.63500000000000001},{"$f":"PERCENTRANK($B28:$LZ28,F28)","v":0.59399999999999997},{"$f":"PERCENTRANK($B28:$LZ28,G28)","v":0.90500000000000003},{"$f":"PERCENTRANK($B28:$BT28,H28)","v":0.84199999999999997},{"$f":"PERCENTRANK($B28:$LZ28,I28)","v":0.71599999999999997},{"$f":"PERCENTRANK($B28:$BT28,J28)","v":0.25700000000000001},{"$f":"PERCENTRANK($B28:$LZ28,K28)","v":0.20200000000000001},{"$f":"PERCENTRANK($B28:$LZ28,L28)","v":0.83699999999999997},{"$f":"PERCENTRANK($B28:$BT28,M28)","v":0.64200000000000002},{"$f":"PERCENTRANK($B28:$BT28,N28)","v":0.1},{"$f":"PERCENTRANK($B28:$LZ28,O28)","v":8.1000000000000003E-2},{"$f":"PERCENTRANK($B28:$LZ28,P28)","v":0.47199999999999998},{"$f":"PERCENTRANK($B28:$LZ28,Q28)","v":0.74299999999999999},{"$f":"PERCENTRANK($B28:$BT28,R28)","v":0.314},0.51088235294117645,{"$f":"PERCENTRANK($B28:$BT28,T28)","v":0.114},{"$f":"PERCENTRANK($B28:$BT28,U28)","v":0.35699999999999998},{"$f":"PERCENTRANK($B28:$BT28,V28)","v":0.48499999999999999},{"$f":"PERCENTRANK($B28:$BT28,W28)","v":0.214},{"$f":"PERCENTRANK($B28:$LZ28,X28)","v":0.51300000000000001},{"$f":"PERCENTRANK($B28:$LZ28,Y28)","v":0.95899999999999996},{"$f":"PERCENTRANK($B28:$BT28,Z28)","v":0.871},{"$f":"PERCENTRANK($B28:$BT28,AA28)","v":0.45700000000000002},{"$f":"PERCENTRANK($B28:$LZ28,AB28)","v":0.39100000000000001},{"$f":"PERCENTRANK($B28:$BT28,AC28)","v":0.77100000000000002},{"$f":"PERCENTRANK($B28:$BT28,AD28)","v":0.57099999999999995},{"$f":"PERCENTRANK($B28:$BT28,AE28)","v":4.2000000000000003E-2},{"$f":"PERCENTRANK($B28:$LZ28,AF28)","v":1},{"$f":"PERCENTRANK($B28:$BT28,AG28)","v":0},{"$f":"PERCENTRANK($B28:$BT28,AH28)","v":0.314},{"$f":"PERCENTRANK($B28:$BT28,AI28)","v":0.74199999999999999},{"$f":"PERCENTRANK($B28:$BT28,AJ28)","v":0.17100000000000001},0.46894117647058819,{"$f":"PERCENTRANK($B28:$BT28,AL28)","v":0.6},0.157,0.214,0.6,5.7000000000000002E-2,0.57099999999999995,0.42799999999999999,0.64200000000000002,0.14199999999999999,0.17100000000000001,0.42799999999999999,2.8000000000000001E-2,5.7000000000000002E-2,0.84199999999999997,0.114,0.45700000000000002,0.9,0.37694117647058822,{"$f":"PERCENTRANK($B28:$BT28,BD28)","v":0.8},0.4,0.78500000000000003,0.314,0.95699999999999996,0.28499999999999998,0,0.871,0.94199999999999995,0.8,0.64200000000000002,0.64200000000000002,0.25700000000000001,0.71399999999999997,0.51400000000000001,0.98499999999999999,0.35699999999999998,0.60382352941176465,null,null,null,0.23549999999999999,0.47199999999999998,0.74249999999999994]
["Blocks Per Game",3.9,2.4,2.5,4.9000000000000004,4.7,4.0999999999999996,2.7,3,3.3,4.3,4.3,3.6,3.3,3.3,4.0999999999999996,2.1,2.5,3.4705882352941173,3.8,2.9,3.9,4.8,4.3,3,4.3,3.6,1.9,4.5999999999999996,2.2000000000000002,3.6,3.7,3.1,3.7,4.5,4.8,3.6882352941176477,2.6,2.8,6.5,3,1.9,3.3,3.4,3.4,2.5,4.4000000000000004,3.4,2.2999999999999998,3.7,4.2,3.2,4.2,4.8,3.5058823529411764,6.1,3.5,5.8,4.9000000000000004,4.9000000000000004,3.9,2.1,2.8,3.6,5,2.8,5.8,4,4.2,6.1,7.2,9.1,4.8117647058823518,"Blocks Per Game",null,null,3,3.6882352941176477,4.3499999999999996]
[null,{"$f":"PERCENTRANK($B30:$LZ30,B30)","v":0.56699999999999995},{"$f":"PERCENTRANK($B30:$BT30,C30)","v":8.5000000000000006E-2},{"$f":"PERCENTRANK($B30:$LZ30,D30)","v":9.4E-2},{"$f":"PERCENTRANK($B30:$LZ30,E30)","v":0.86399999999999999},{"$f":"PERCENTRANK($B30:$LZ30,F30)","v":0.79700000000000004},{"$f":"PERCENTRANK($B30:$LZ30,G30)","v":0.621},{"$f":"PERCENTRANK($B30:$BT30,H30)","v":0.157},{"$f":"PERCENTRANK($B30:$LZ30,I30)","v":0.216},{"$f":"PERCENTRANK($B30:$BT30,J30)","v":0.3},{"$f":"PERCENTRANK($B30:$LZ30,K30)","v":0.68899999999999995},{"$f":"PERCENTRANK($B30:$LZ30,L30)","v":0.68899999999999995},{"$f":"PERCENTRANK($B30:$BT30,M30)","v":0.442},{"$f":"PERCENTRANK($B30:$BT30,N30)","v":0.3},{"$f":"PERCENTRANK($B30:$LZ30,O30)","v":0.29699999999999999},{"$f":"PERCENTRANK($B30:$LZ30,P30)","v":0.621},{"$f":"PERCENTRANK($B30:$LZ30,Q30)","v":2.7E-2},{"$f":"PERCENTRANK($B30:$BT30,R30)","v":0.1},0.40388235294117641,{"$f":"PERCENTRANK($B30:$BT30,T30)","v":0.55700000000000005},{"$f":"PERCENTRANK($B30:$BT30,U30)","v":0.214},{"$f":"PERCENTRANK($B30:$BT30,V30)","v":0.57099999999999995},{"$f":"PERCENTRANK($B30:$BT30,W30)","v":0.81399999999999995},{"$f":"PERCENTRANK($B30:$LZ30,X30)","v":0.68899999999999995},{"$f":"PERCENTRANK($B30:$LZ30,Y30)","v":0.216},{"$f":"PERCENTRANK($B30:$BT30,Z30)","v":0.7},{"$f":"PERCENTRANK($B30:$BT30,AA30)","v":0.442},{"$f":"PERCENTRANK($B30:$LZ30,AB30)","v":0},{"$f":"PERCENTRANK($B30:$BT30,AC30)","v":0.78500000000000003},{"$f":"PERCENTRANK($B30:$BT30,AD30)","v":5.7000000000000002E-2},{"$f":"PERCENTRANK($B30:$BT30,AE30)","v":0.442},{"$f":"PERCENTRANK($B30:$LZ30,AF30)","v":0.51300000000000001},{"$f":"PERCENTRANK($B30:$BT30,AG30)","v":0.27100000000000002},{"$f":"PERCENTRANK($B30:$BT30,AH30)","v":0.51400000000000001},{"$f":"PERCENTRANK($B30:$BT30,AI30)","v":0.77100000000000002},{"$f":"PERCENTRANK($B30:$BT30,AJ30)","v":0.81399999999999995},0.49235294117647066,{"$f":"PERCENTRANK($B30:$BT30,AL30)","v":0.14199999999999999},0.17100000000000001,0.97099999999999997,0.22800000000000001,0,0.3,0.35699999999999998,0.35699999999999998,0.1,0.75700000000000001,0.35699999999999998,7.0999999999999994E-2,0.51400000000000001,0.65700000000000003,0.28499999999999998,0.65700000000000003,0.81399999999999995,0.39635294117647063,{"$f":"PERCENTRANK($B30:$BT30,BD30)","v":0.94199999999999995},0.41399999999999998,0.91400000000000003,0.85699999999999998,0.85699999999999998,0.57099999999999995,2.8000000000000001E-2,0.17100000000000001,0.442,0.9,0.17100000000000001,0.91400000000000003,0.61399999999999999,0.65700000000000003,0.94199999999999995,0.98499999999999999,1,0.66935294117647059,null,null,null,0.222,0.49235294117647066,0.72849999999999993]
["Opponents Points Per Game",68.400000000000006,69.5,61.3,66.8,68.099999999999994,66.599999999999994,72.2,64.900000000000006,77.900000000000006,63.3,64.3,61.8,67.5,62.1,68.3,67.599999999999994,66.400000000000006,66.882352941176464,57.7,52.2,66.3,63,68.7,62.3,66.2,65.099999999999994,68,60.8,72.5,61.5,59.6,60.8,67.599999999999994,58.1,54,62.611764705882358,64.5,66,63.8,56.4,68.7,61.5,65.2,58.6,62.3,66.099999999999994,63,69.5,52,61.7,63.9,69.400000000000006,66.3,63.464705882352945,61.9,65.400000000000006,64.5,58.7,62.2,62.8,60.4,65.2,65.3,63.6,57.6,61.2,68.3,57.8,66.099999999999994,60.6,58.8,62.3764705882353,"Opponents Points Per Game",null,null,61.4,63.9,66.699999999999989]
[null,{"$f":"1-(PERCENTRANK($B32:$LZ32,B32))","v":0.10899999999999999},{"$f":"1-(PERCENTRANK($B32:$BT32,C32))","v":5.8000000000000052E-2},{"$f":"1-(PERCENTRANK($B32:$LZ32,D32))","v":0.77100000000000002},{"$f":"1-(PERCENTRANK($B32:$LZ32,E32))","v":0.22999999999999998},{"$f":"1-(PERCENTRANK($B32:$LZ32,F32))","v":0.14900000000000002},{"$f":"1-(PERCENTRANK($B32:$LZ32,G32))","v":0.25700000000000001},{"$f":"1-(PERCENTRANK($B32:$BT32,H32))","v":2.9000000000000026E-2},{"$f":"1-(PERCENTRANK($B32:$LZ32,I32))","v":0.43300000000000005},{"$f":"1-(PERCENTRANK($B32:$BT32,J32))","v":0},{"$f":"1-(PERCENTRANK($B32:$LZ32,K32))","v":0.55499999999999994},{"$f":"1-(PERCENTRANK($B32:$LZ32,L32))","v":0.47299999999999998},{"$f":"1-(PERCENTRANK($B32:$BT32,M32))","v":0.7},{"$f":"1-(PERCENTRANK($B32:$BT32,N32))","v":0.21499999999999997},{"$f":"1-(PERCENTRANK($B32:$LZ32,O32))","v":0.67599999999999993},{"$f":"1-(PERCENTRANK($B32:$LZ32,P32))","v":0.13600000000000001},{"$f":"1-(PERCENTRANK($B32:$LZ32,Q32))","v":0.18999999999999995},{"$f":"1-(PERCENTRANK($B32:$BT32,R32))","v":0.27200000000000002},0.309,{"$f":"1-(PERCENTRANK($B32:$BT32,T32))","v":0.92900000000000005},{"$f":"1-(PERCENTRANK($B32:$BT32,U32))","v":0.98599999999999999},{"$f":"1-(PERCENTRANK($B32:$BT32,V32))","v":0.30000000000000004},{"$f":"1-(PERCENTRANK($B32:$BT32,W32))","v":0.58600000000000008},{"$f":"1-(PERCENTRANK($B32:$LZ32,X32))","v":9.4999999999999973E-2},{"$f":"1-(PERCENTRANK($B32:$LZ32,Y32))","v":0.64900000000000002},{"$f":"1-(PERCENTRANK($B32:$BT32,Z32))","v":0.31499999999999995},{"$f":"1-(PERCENTRANK($B32:$BT32,AA32))","v":0.42900000000000005},{"$f":"1-(PERCENTRANK($B32:$LZ32,AB32))","v":0.16300000000000003},{"$f":"1-(PERCENTRANK($B32:$BT32,AC32))","v":0.8},{"$f":"1-(PERCENTRANK($B32:$BT32,AD32))","v":1.5000000000000013E-2},{"$f":"1-(PERCENTRANK($B32:$BT32,AE32))","v":0.74299999999999999},{"$f":"1-(PERCENTRANK($B32:$LZ32,AF32))","v":0.85199999999999998},{"$f":"1-(PERCENTRANK($B32:$BT32,AG32))","v":0.8},{"$f":"1-(PERCENTRANK($B32:$BT32,AH32))","v":0.19999999999999996},{"$f":"1-(PERCENTRANK($B32:$BT32,AI32))","v":0.9},{"$f":"1-(PERCENTRANK($B32:$BT32,AJ32))","v":0.97199999999999998},0.57258823529411762,{"$f":"1-(PERCENTRANK($B32:$BT32,AL32))","v":0.47199999999999998},0.35799999999999998,0.51500000000000001,0.95799999999999996,9.9999999999999978E-2,0.74299999999999999,0.41500000000000004,0.88600000000000001,0.64300000000000002,0.34299999999999997,0.58600000000000008,5.8000000000000052E-2,1,0.71500000000000008,0.5,7.1999999999999953E-2,0.30000000000000004,0.50964705882352934,{"$f":"1-(PERCENTRANK($B32:$BT32,BD32))","v":0.68599999999999994},0.372,0.47199999999999998,0.872,0.65799999999999992,0.6,0.82899999999999996,0.41500000000000004,0.38600000000000001,0.52900000000000003,0.94299999999999995,0.77200000000000002,0.14300000000000002,0.91500000000000004,0.34299999999999997,0.81499999999999995,0.85799999999999998,0.62399999999999989,null,null,null,0.26450000000000001,0.5,0.75700000000000001]
["Opponent Field Goal Percentage",43.2,43.3,41.4,40.799999999999997,43.9,42.8,44.8,41.5,44.6,41,43.3,40.200000000000003,43.1,39.9,42.6,42.5,44.6,42.558823529411768,39.4,38.700000000000003,40.6,39.6,42.2,40.9,40.6,43.8,45.2,41.3,44.6,40.6,42.3,40.799999999999997,39.9,38.4,40.200000000000003,41.123529411764707,42.4,43.5,38.5,40.5,43.6,42.3,42.4,37.799999999999997,39.700000000000003,42.2,41.4,44.1,38,42.1,43.6,43.4,40.799999999999997,41.547058823529412,37.6,42.2,38.700000000000003,38.6,37.6,39.700000000000003,42.4,44.2,40.799999999999997,40.700000000000003,40.299999999999997,38.1,43.3,37.1,38.6,38.6,36.5,39.705882352941181,"Opponent Field Goal Percentage",null,null,39.799999999999997,41.3,42.95]
[null,{"$f":"1-(PERCENTRANK($B34:$LZ34,B34))","v":0.21699999999999997},{"$f":"1-(PERCENTRANK($B34:$BT34,C34))","v":0.21499999999999997},{"$f":"1-(PERCENTRANK($B34:$LZ34,D34))","v":0.47299999999999998},{"$f":"1-(PERCENTRANK($B34:$LZ34,E34))","v":0.59499999999999997},{"$f":"1-(PERCENTRANK($B34:$LZ34,F34))","v":9.4999999999999973E-2},{"$f":"1-(PERCENTRANK($B34:$LZ34,G34))","v":0.25700000000000001},{"$f":"1-(PERCENTRANK($B34:$BT34,H34))","v":1.5000000000000013E-2},{"$f":"1-(PERCENTRANK($B34:$LZ34,I34))","v":0.44599999999999995},{"$f":"1-(PERCENTRANK($B34:$BT34,J34))","v":5.8000000000000052E-2},{"$f":"1-(PERCENTRANK($B34:$LZ34,K34))","v":0.52800000000000002},{"$f":"1-(PERCENTRANK($B34:$LZ34,L34))","v":0.20299999999999996},{"$f":"1-(PERCENTRANK($B34:$BT34,M34))","v":0.71500000000000008},{"$f":"1-(PERCENTRANK($B34:$BT34,N34))","v":0.24299999999999999},{"$f":"1-(PERCENTRANK($B34:$LZ34,O34))","v":0.73},{"$f":"1-(PERCENTRANK($B34:$LZ34,P34))","v":0.27100000000000002},{"$f":"1-(PERCENTRANK($B34:$LZ34,Q34))","v":0.29800000000000004},{"$f":"1-(PERCENTRANK($B34:$BT34,R34))","v":5.8000000000000052E-2},0.31864705882352934,{"$f":"1-(PERCENTRANK($B34:$BT34,T34))","v":0.8},{"$f":"1-(PERCENTRANK($B34:$BT34,U34))","v":0.82899999999999996},{"$f":"1-(PERCENTRANK($B34:$BT34,V34))","v":0.65799999999999992},{"$f":"1-(PERCENTRANK($B34:$BT34,W34))","v":0.78600000000000003},{"$f":"1-(PERCENTRANK($B34:$LZ34,X34))","v":0.40600000000000003},{"$f":"1-(PERCENTRANK($B34:$LZ34,Y34))","v":0.54099999999999993},{"$f":"1-(PERCENTRANK($B34:$BT34,Z34))","v":0.65799999999999992},{"$f":"1-(PERCENTRANK($B34:$BT34,AA34))","v":0.11499999999999999},{"$f":"1-(PERCENTRANK($B34:$LZ34,AB34))","v":0},{"$f":"1-(PERCENTRANK($B34:$BT34,AC34))","v":0.5},{"$f":"1-(PERCENTRANK($B34:$BT34,AD34))","v":5.8000000000000052E-2},{"$f":"1-(PERCENTRANK($B34:$BT34,AE34))","v":0.65799999999999992},{"$f":"1-(PERCENTRANK($B34:$LZ34,AF34))","v":0.36499999999999999},{"$f":"1-(PERCENTRANK($B34:$BT34,AG34))","v":0.6},{"$f":"1-(PERCENTRANK($B34:$BT34,AH34))","v":0.74299999999999999},{"$f":"1-(PERCENTRANK($B34:$BT34,AI34))","v":0.9},{"$f":"1-(PERCENTRANK($B34:$BT34,AJ34))","v":0.71500000000000008},0.54894117647058815,{"$f":"1-(PERCENTRANK($B34:$BT34,AL34))","v":0.34299999999999997},0.15800000000000003,0.88600000000000001,0.67199999999999993,0.14300000000000002,0.372,0.34299999999999997,0.94299999999999995,0.77200000000000002,0.41500000000000004,0.48599999999999999,8.5999999999999965E-2,0.92900000000000005,0.42900000000000005,0.14300000000000002,0.17200000000000004,0.6,0.46423529411764702,{"$f":"1-(PERCENTRANK($B34:$BT34,BD34))","v":0.97199999999999998},0.41500000000000004,0.82899999999999996,0.872,0.97199999999999998,0.77200000000000002,0.34299999999999997,7.1999999999999953E-2,0.6,0.61499999999999999,0.68599999999999994,0.91500000000000004,0.21499999999999997,0.98599999999999999,0.872,0.872,1,0.70635294117647063,null,null,null,0.25,0.5,0.75750000000000006]
["Opponent 3 Point Percentage",33.299999999999997,38.1,33,28.7,37.9,35.4,35.799999999999997,32.5,33,31.9,36.299999999999997,34,34.1,32.4,32.5,34.200000000000003,31.7,33.811764705882354,30,28.2,34.799999999999997,31.2,35.299999999999997,28.8,30.9,36,31.9,30.7,35.299999999999997,30.7,31.3,32.4,31.1,28.4,32.799999999999997,31.752941176470586,33.1,30.2,34.799999999999997,30.4,35.299999999999997,36.6,34.9,30.3,33.4,31.9,31.5,36.200000000000003,28.1,29.7,33.6,32.200000000000003,33.799999999999997,32.705882352941174,30.4,33.5,32.6,28.5,32.1,31.2,34.1,36,33.1,33.200000000000003,30.9,34.6,31.1,28.2,31.6,31.1,32.4,32.035294117647062,"Opponent 3 Point Percentage",null,null,31.1,32.5,34.1]
[null,{"$f":"1-(PERCENTRANK($B36:$LZ36,B36))","v":0.35199999999999998},{"$f":"1-(PERCENTRANK($B36:$BT36,C36))","v":0},{"$f":"1-(PERCENTRANK($B36:$LZ36,D36))","v":0.41900000000000004},{"$f":"1-(PERCENTRANK($B36:$LZ36,E36))","v":0.93300000000000005},{"$f":"1-(PERCENTRANK($B36:$LZ36,F36))","v":1.4000000000000012E-2},{"$f":"1-(PERCENTRANK($B36:$LZ36,G36))","v":0.10899999999999999},{"$f":"1-(PERCENTRANK($B36:$BT36,H36))","v":9.9999999999999978E-2},{"$f":"1-(PERCENTRANK($B36:$LZ36,I36))","v":0.5},{"$f":"1-(PERCENTRANK($B36:$BT36,J36))","v":0.42900000000000005},{"$f":"1-(PERCENTRANK($B36:$LZ36,K36))","v":0.622},{"$f":"1-(PERCENTRANK($B36:$LZ36,L36))","v":4.1000000000000036E-2},{"$f":"1-(PERCENTRANK($B36:$BT36,M36))","v":0.27200000000000002},{"$f":"1-(PERCENTRANK($B36:$BT36,N36))","v":0.25800000000000001},{"$f":"1-(PERCENTRANK($B36:$LZ36,O36))","v":0.54099999999999993},{"$f":"1-(PERCENTRANK($B36:$LZ36,P36))","v":0.5},{"$f":"1-(PERCENTRANK($B36:$LZ36,Q36))","v":0.21699999999999997},{"$f":"1-(PERCENTRANK($B36:$BT36,R36))","v":0.64300000000000002},0.35,{"$f":"1-(PERCENTRANK($B36:$BT36,T36))","v":0.88600000000000001},{"$f":"1-(PERCENTRANK($B36:$BT36,U36))","v":0.98599999999999999},{"$f":"1-(PERCENTRANK($B36:$BT36,V36))","v":0.19999999999999996},{"$f":"1-(PERCENTRANK($B36:$BT36,W36))","v":0.71500000000000008},{"$f":"1-(PERCENTRANK($B36:$LZ36,X36))","v":0.14900000000000002},{"$f":"1-(PERCENTRANK($B36:$LZ36,Y36))","v":0.91900000000000004},{"$f":"1-(PERCENTRANK($B36:$BT36,Z36))","v":0.78600000000000003},{"$f":"1-(PERCENTRANK($B36:$BT36,AA36))","v":8.5999999999999965E-2},{"$f":"1-(PERCENTRANK($B36:$LZ36,AB36))","v":0.622},{"$f":"1-(PERCENTRANK($B36:$BT36,AC36))","v":0.81499999999999995},{"$f":"1-(PERCENTRANK($B36:$BT36,AD36))","v":0.15800000000000003},{"$f":"1-(PERCENTRANK($B36:$BT36,AE36))","v":0.81499999999999995},{"$f":"1-(PERCENTRANK($B36:$LZ36,AF36))","v":0.69},{"$f":"1-(PERCENTRANK($B36:$BT36,AG36))","v":0.54299999999999993},{"$f":"1-(PERCENTRANK($B36:$BT36,AH36))","v":0.75800000000000001},{"$f":"1-(PERCENTRANK($B36:$BT36,AI36))","v":0.95799999999999996},{"$f":"1-(PERCENTRANK($B36:$BT36,AJ36))","v":0.44299999999999995},0.61935294117647055,{"$f":"1-(PERCENTRANK($B36:$BT36,AL36))","v":0.4},0.872,0.19999999999999996,0.84299999999999997,0.15800000000000003,2.9000000000000026E-2,0.17200000000000004,0.85799999999999998,0.34299999999999997,0.61499999999999999,0.67199999999999993,5.8000000000000052E-2,1,0.9,0.31499999999999995,0.55800000000000005,0.30000000000000004,0.48782352941176477,{"$f":"1-(PERCENTRANK($B36:$BT36,BD36))","v":0.84299999999999997},0.32899999999999996,0.47199999999999998,0.94299999999999995,0.57200000000000006,0.71500000000000008,0.25800000000000001,8.5999999999999965E-2,0.4,0.372,0.78600000000000003,0.21499999999999997,0.75800000000000001,0.98599999999999999,0.65799999999999992,0.75800000000000001,0.54299999999999993,0.57023529411764695,null,null,null,0.25800000000000001,0.5,0.75800000000000001]
["Opponents Rebounds Per Game",36.799999999999997,37.299999999999997,31.5,34.700000000000003,32.299999999999997,34.1,33.5,33.9,36,30,31.8,33.6,31.9,32.4,31.8,33.4,31.8,33.341176470588231,30.7,29,32.9,32.799999999999997,32.6,34.9,34.299999999999997,34.200000000000003,32.5,35.6,34.1,34.6,34.9,30.5,34.299999999999997,32.9,28.3,32.888235294117649,32.5,31.9,33.9,31.4,30.3,29.5,33,31.7,32.4,33.200000000000003,30.3,30.2,31.5,31.4,32.200000000000003,34,34.5,31.994117647058822,33.299999999999997,30.7,33.299999999999997,30.5,36.299999999999997,31.2,31.7,31.4,35.6,31.6,29.6,31.2,33.799999999999997,29.5,34.4,36.299999999999997,31.9,32.488235294117644,"Opponents Rebounds Per Game",null,null,31.45,32.5,34.049999999999997]
["Overall Defensive Skill Set % Tile Ranking",{"$f":"AVERAGE(B37,B35,B33,B31,B29,B27)","v":0.30199999999999999},0.34050000000000002,0.39399999999999996,0.63516666666666666,0.29733333333333334,0.52016666666666667,0.23083333333333333,0.46383333333333332,0.32400000000000001,0.48216666666666663,0.4458333333333333,0.46883333333333327,0.33600000000000002,0.5,0.49766666666666665,0.32450000000000001,0.36683333333333334,0.40762745098039216,{"$f":"AVERAGE(T37,T35,T33,T31,T29,T27)","v":0.56900000000000006},0.56899999999999995,0.45700000000000002,0.65950000000000009,0.43016666666666664,0.59683333333333344,0.70966666666666667,0.27150000000000002,0.23200000000000001,0.71650000000000003,0.20499999999999999,0.47366666666666662,0.59249999999999992,0.40933333333333333,0.53816666666666668,0.76650000000000007,0.53100000000000003,0.51337254901960794,{"$f":"AVERAGE(AL37,AL35,AL33,AL31,AL29,AL27)","v":0.3808333333333333},0.37883333333333336,0.60233333333333328,0.56433333333333335,7.8666666666666676E-2,0.44283333333333336,0.3738333333333333,0.75716666666666654,0.45466666666666661,0.42383333333333328,0.53816666666666668,0.12633333333333335,0.6070000000000001,0.60950000000000004,0.33566666666666672,0.35500000000000004,0.63083333333333336,0.45057843137254899,{"$f":"AVERAGE(BD37,BD35,BD33,BD31,BD29,BD27)","v":0.83566666666666656},0.36200000000000004,0.61199999999999999,0.72866666666666668,0.8168333333333333,0.6213333333333334,0.24299999999999999,0.27383333333333332,0.52349999999999997,0.63600000000000001,0.63083333333333325,0.69766666666666666,0.44300000000000006,0.8666666666666667,0.72149999999999992,0.8071666666666667,0.78583333333333327,0.62385294117647061,"Overall Defensive Skill Set % Tile Ranking",null,null,0.37033333333333329,0.48216666666666663,0.6166666666666667]

{"sheet":"P2010","index":2,"n_rows":39,"n_cols":347,"rows_kept":39,"cut":false,"hidden":true,"merged":[[0,0,0,341],[8,1,8,85],[8,87,8,170],[8,172,8,255],[8,257,8,341]]}
["2012 NCAA March Madness \"Eye Chart\""]
["Performance Management \"Eye Chart\"™                                                                                            NCAA March Madness 2012  338 Teams","Binghamton","South Carolina St.","Grambling","Alabama A&M","UC Davis","Northern Ill.","Longwood","Alcorn St.","UMBC","Northern Ariz.","Chicago St.","Kennesaw St.","Fairleigh Dickinson","Southeastern La.","Canisius","Navy","Radford","UT Martin","Florida A&M","Dartmouth","Citadel","Cal St. Northridge","Houston Baptist","A&M-Corpus Chris","Arkansas St.","La.-Monroe","Central Ark.","Sacramento St.","Jackson St.","Brown","Saint Francis (PA)","Hampton","NJIT","Md.-East. Shore","Hartford","Towson","Loyola Chicago","Alabama St.","Chattanooga","Prairie View","Colgate","Army","Ill.-Chicago","Saint Peter's","Morgan St.","New Hampshire","Southern U.","Tex.-Pan American","William & Mary","Gardner-Webb","Howard","Santa Clara","Mt. St. Mary's","Eastern Ill.","Central Mich.","Nicholls St.","Pacific","Liberty","Maine","VMI","IPFW","N.C. A&T","Idaho St.","Winthrop","Texas St.","San Jose St.","Sam Houston St.","Montana St.","High Point","UC Irvine","Utah","Stetson","Coppin St.","UMKC","Appalachian St.","Jacksonville","Pepperdine","Samford","Bethune-Cookman","Hofstra","Bradley","Northern Colo.","Southern California","Troy","Southern Ill.","Ave. Bottom Quartile Team","Southeast Mo. St.","Ball St.","James Madison","Rhode Island","Arizona St.","UC Riverside","N.C. Central","Arkansas","Furman","Southern Utah","Toledo","Texas Southern","Western Caro.","Elon","FIU","Fla. Gulf Coast","UNC Greensboro","Sacred Heart","Miami (OH)","Boston College","Texas Tech","Siena","Monmouth","Portland","Central Conn. St.","Eastern Mich.","Marist","Jacksonville St.","Stephen F. Austin","Lipscomb","Western Ky.","UNC Wilmington","SMU","Fordham","Albany (NY)","Northwestern St.","Wright St.","Eastern Ky.","CSU Bakersfield","Cal Poly","Utah Valley","IUPUI","Eastern Wash.","Lafayette","Houston","Fresno St.","Tulane","Delaware St.","Niagara","St. Francis (NY)","North Texas","UTSA","DePaul","Campbell","Rider","San Diego","Fla. Atlantic","Ga. Southern","Louisiana Tech","Hawaii","East Carolina","Savannah St.","McNeese St.","East Tenn. St.","Western Mich.","Western Ill.","Austin Peay","South Carolina","Boston U.","Washington St.","Columbia","La.-Lafayette","Portland St.","Northeastern","South Ala.","North Dakota St.","Morehead St.","Coastal Caro.","Georgia Tech","Youngstown St.","Cornell","George Washington","North Florida","Wofford","Ave. Lower-Middle Quartile Team","Charleston So.","Quinnipiac","UALR","Boise St.","Holy Cross","Air Force","Texas A&M","Charlotte","Wake Forest","Rice","Vermont","Providence","Cal St. Fullerton","Tennessee Tech","Idaho","Utah St.","Oregon St.","Penn St.","Detroit","Mississippi Val.","San Francisco","American","Stony Brook","Delaware","Auburn","Manhattan","Georgia St.","Bowling Green","Evansville","Clemson","Green Bay","Rutgers","Norfolk St.","Oakland","UTEP","Lamar","St. John's (NY)","Drake","UCLA","Indiana St.","Iowa","Nebraska","S.C. Upstate","Illinois St.","Fairfield","Richmond","Tennessee St.","Mercer","Robert Morris","Oklahoma","Butler","UNC Asheville","UC Santa Barbara","Villanova","Milwaukee","Loyola Marymount","Old Dominion","Missouri St.","Oklahoma St.","Col. of Charleston","UAB","Georgia","Kent St.","Stanford","Duquesne","Lehigh","Virginia Tech","Montana","Maryland","St. Bonaventure","Princeton","Tulsa","Pittsburgh","Yale","LIU Brooklyn","Penn","Buffalo","Tennessee","Denver","TCU","Valparaiso","La Salle","Loyola Maryland","Wagner","Ave. Upper-Middle Quartile Team","Minnesota","Texas-Arlington","George Mason","Ark.-Pine Bluff","Massachusetts","Bucknell","Wyoming","Cleveland St.","Cincinnati","Colorado","Weber St.","Illinois","Ohio","North Carolina St.","New Mexico St.","Ole Miss","Arizona","LSU","Drexel","UCF","Mississippi St.","Davidson","UNI","Marshall","Dayton","VCU","Belmont","Akron","South Dakota St.","Nevada","Texas","Xavier","Oregon","Washington","Saint Joseph's","West Virginia","BYU","Miami (FL)","Middle Tenn.","South Fla.","Kansas St.","Seton Hall","Northwestern","Oral Roberts","Notre Dame","Purdue","Iona","Virginia","Harvard","California","Saint Louis","New Mexico","Long Beach St.","St. Mary's (CA)","Iowa St.","Connecticut","Murray St.","San Diego St.","Colorado St.","Florida St.","Alabama","Creighton","Vanderbilt","Memphis","Louisville","Wisconsin","Florida","Gonzaga","Indiana","Missouri","Michigan","Temple","Southern Miss.","Georgetown","UNLV","Wichita St.","Ohio St.","Baylor","Marquette","Kansas","North Carolina","Michigan St.","Duke","Kentucky","Syracuse","Ave. Upper-Middle Quartile Team","Performance Management \"Eye Chart\"™                                                                                            NCAA March Madness 2012  338 Teams"]
["Games Played",29,27,25,24,28,27,29,28,29,28,28,31,29,27,29,28,31,31,28,28,29,27,28,28,31,29,27,28,27,29,29,28,28,27,29,31,29,27,31,28,29,29,29,30,26,28,29,29,31,31,29,29,29,29,28,27,27,31,28,29,29,29,28,30,28,28,29,27,29,28,28,29,27,31,29,29,28,29,29,31,31,27,29,27,30,{"$f":"SUM(B3:CH3)","v":2430},29,27,31,29,29,29,28,29,29,29,29,27,31,29,28,29,30,31,27,28,28,29,31,29,28,29,30,31,28,30,29,29,29,27,31,29,31,31,30,29,30,31,29,29,27,30,28,26,31,29,29,29,28,31,31,29,29,28,29,28,27,29,27,29,29,28,31,28,31,28,28,30,28,29,27,29,31,29,28,29,26,28,31,31,{"$f":"SUM(CJ3:FO3)","v":2438},29,29,30,27,28,26,28,27,28,29,31,29,27,30,28,29,28,29,31,28,30,29,28,29,28,31,30,28,29,28,29,29,29,31,28,29,29,30,29,30,29,27,31,30,30,30,30,31,31,28,31,30,25,28,31,30,31,31,29,30,27,28,28,29,28,30,29,28,28,26,27,28,29,26,30,28,26,29,29,28,31,29,29,29,{"$f":"SUM(FQ3:IV3)","v":2426},29,28,31,29,28,30,28,31,29,28,27,29,29,29,30,28,30,28,30,28,29,29,31,28,28,31,31,29,31,28,29,28,28,28,30,29,31,27,30,29,28,29,28,31,29,29,30,28,28,30,28,28,28,30,29,28,29,28,27,28,28,30,29,29,29,29,29,28,29,29,29,28,29,27,30,30,29,29,29,29,29,29,29,29,30,{"$f":"SUM(IX3:MD3)","v":2460},"Games Played"]
["Winning %",3.4,14.8,12,25,17.899999999999999,11.1,34.5,32.1,13.8,17.899999999999999,14.3,9.6999999999999993,10.3,37,17.2,10.7,19.399999999999999,12.9,28.6,17.899999999999999,20.7,25.9,32.1,17.899999999999999,38.700000000000003,10.3,29.6,35.700000000000003,25.9,27.6,20.7,35.700000000000003,42.9,25.9,27.6,3.2,24.1,37,35.5,42.9,27.6,41.4,27.6,16.7,26.9,46.4,51.7,37.9,19.399999999999999,38.700000000000003,31,27.6,27.6,41.4,32.1,37,40.700000000000003,45.2,42.9,48.3,37.9,41.4,32.1,36.700000000000003,46.4,32.1,41.4,40.700000000000003,41.4,39.299999999999997,21.4,31,48.1,32.299999999999997,41.4,27.6,35.700000000000003,37.9,44.8,32.299999999999997,22.6,33.299999999999997,20.7,37,26.7,{"$f":"AVERAGE(B4:CH4)","v":29.537647058823545},48.3,48.1,38.700000000000003,20.7,31,44.8,50,62.1,48.3,44.8,51.7,40.700000000000003,45.2,48.3,28.6,44.8,40,45.2,33.299999999999997,28.6,28.6,44.8,38.700000000000003,20.7,46.4,44.8,43.3,45.2,60.7,43.3,37.9,31,41.4,37,58.1,51.7,41.9,51.6,53.3,51.7,66.7,45.2,44.8,41.4,48.1,43.3,53.6,53.8,41.9,51.7,55.2,55.2,39.299999999999997,54.8,41.9,41.4,37.9,50,51.7,53.6,44.4,65.5,55.6,55.2,41.4,53.6,38.700000000000003,35.700000000000003,51.6,50,50,53.3,53.6,44.8,59.3,58.6,54.8,65.5,35.700000000000003,51.7,42.3,35.700000000000003,51.6,61.3,{"$f":"AVERAGE(CJ4:FO4)","v":46.389285714285712},62.1,58.6,50,48.1,53.6,50,46.4,48.1,46.4,55.2,64.5,48.3,70.400000000000006,60,57.1,51.7,53.6,41.4,58.1,60.7,60,65.5,71.400000000000006,58.6,50,64.5,66.7,53.6,51.7,53.6,51.7,44.8,69,54.8,50,62.1,44.8,53.3,55.2,56.7,51.7,44.4,64.5,60,56.7,50,63.3,67.7,71,50,58.1,70,64,39.299999999999997,61.3,63.3,61.3,51.6,48.3,63.3,48.1,46.4,67.900000000000006,65.5,53.6,76.7,51.7,78.599999999999994,57.1,61.5,59.3,60.7,51.7,73.099999999999994,73.3,60.7,65.400000000000006,55.2,72.400000000000006,60.7,67.7,62.1,72.400000000000006,82.8,{"$f":"AVERAGE(FQ4:IV4)","v":58.413095238095224},58.6,78.599999999999994,74.2,27.6,67.900000000000006,73.3,67.900000000000006,71,69,67.900000000000006,85.2,58.6,79.3,62.1,73.3,57.1,70,60.7,83.3,71.400000000000006,65.5,75.900000000000006,61.3,60.7,64.3,80.599999999999994,77.400000000000006,69,77.400000000000006,82.1,62.1,64.3,71.400000000000006,71.400000000000006,63.3,58.6,77.400000000000006,63,83.3,62.1,67.900000000000006,65.5,60.7,83.9,69,65.5,80,75,85.7,76.7,78.599999999999994,78.599999999999994,75,83.3,72.400000000000006,60.7,96.6,78.599999999999994,63,67.900000000000006,67.900000000000006,83.3,69,72.400000000000006,75.900000000000006,72.400000000000006,75.900000000000006,82.1,75.900000000000006,86.2,72.400000000000006,78.599999999999994,79.3,77.8,80,86.7,79.3,82.8,82.8,82.8,86.2,82.8,86.2,96.6,96.7,{"$f":"AVERAGE(IX4:MD4)","v":73.467058823529399},"Winning %",39.299999999999997,51.7,65.5]
["Scoring Margin",-14.8,-13.9,-19,-8.1,-10.3,-13.3,-9.4,-7.1,-14.1,-8.8000000000000007,-14.6,-13.2,-11.9,-2.7,-10.199999999999999,-7.8,-7.5,-12.4,-8.1,-5.6,-7.6,-6.7,-5.0999999999999996,-9.4,-1.8,-11.3,-11,-2.2000000000000002,-10,-7,-8.8000000000000007,-1.9,2,-10.5,-7.7,-18.600000000000001,-5.6,-5.7,2,-2.4,-10.4,-1.6,-6.7,-11.1,-3.3,-1,-3.6,-5.7,-9.1,-0.8,-9.8000000000000007,-5.4,-6.8,-3,-5,-9.6,-2.6,-2.2000000000000002,0.6,-1.8,-4.8,-2.4,-6.9,-2.4,2.4,-4.9000000000000004,-1.2,-2,1.4,-3.4,-13.3,-6.4,-1.4,-6.6,-1.9,-7.2,-6.1,-3.4,-2.7,-0.8,-9.1999999999999993,-3.1,-6.4,-4.4000000000000004,-6.2,{"$f":"AVERAGE(B5:CH5)","v":-6.4035294117647057},0.6,2,-3.5,-7.8,-5.2,-3.6,7.1,3.7,-0.2,-1.9,3.4,-2.9,0.2,-1.4,-4,0,-7.7,-1,-3.1,-8.9,-7.3,-2.7,-8.4,-11.1,0,-5.0999999999999996,-4.7,1.5,7,-1.8,-3.9,-6,0.1,-8.8000000000000007,3.1,0.2,-3,0.5,-0.9,3.3,4.3,0.4,1.1000000000000001,-2.8,-0.7,0.5,5.2,1.9,-4,1,5.8,5.3,-2.8,0.8,-3,-4,-1.9,-1.1000000000000001,0.9,-0.1,3.7,4.7,1.8,3,-1.9,1.5,-3.3,-3.3,0.5,3.2,3.3,1.4,3.1,-3,-0.3,5.4,1.5,7.8,-2.1,1.7,-2.8,-4,-3.1,2.1,{"$f":"AVERAGE(CJ5:FO5)","v":-0.64880952380952384},5.3,4.4000000000000004,-0.4,3.4,-1.6,1.7,0.2,-0.7,-4.0999999999999996,3.7,6.7,0.8,7.9,1.8,1.9,3,6.4,-2.8,4.2,-0.8,4.5999999999999996,3,8.3000000000000007,1.4,-1.3,6.3,7.9,3.4,1.8,4.5999999999999996,-1,0.4,2,1.2,1.1000000000000001,7.7,-3.5,0,5.3,-0.2,1,-3.8,3.5,4,4.2,1.8,1.8,5.5,5,1.2,2.1,8.6,5,-0.2,2.5,3.4,4.3,3.3,-0.2,2.9,-1,-1.3,5.6,7.7,1.2,11,3.6,8.4,-1.6,6.3,3.8,4,2.4,5.9,3.9,0.6,6.1,3.7,7.9,1.9,3.8,7.7,3.2,9.6,{"$f":"AVERAGE(FQ5:IV5)","v":3.0273809523809527},3.1,10.1,6.1,-10.4,5.2,7.1,8.5,6.8,8.1,6.1,10.9,2.4,9.3000000000000007,5,10.4,0.4,7.4,2.5,9.3000000000000007,4.9000000000000004,4.5999999999999996,10.4,3.9,3.1,4.5,8.6999999999999993,14.4,7.3,10.6,6.3,7.4,4.0999999999999996,3.8,5.2,4.3,5.4,12.8,4.8,10.8,2.5,7.9,5.7,2.1,7.6,6.5,6.6,10.9,10.5,11,11.2,12.4,14,9.3000000000000007,13.1,7.3,4.8,13.1,8.6,2,7.8,7.8,10.199999999999999,7.8,10.199999999999999,8.4,12,12.5,10.3,12.1,14.5,5.9,6.2,7.8,10.9,12,15.5,17.100000000000001,10.9,11.1,13.8,15.8,14.7,10.6,19,15.2,{"$f":"AVERAGE(IX5:MD5)","v":8.385882352941179},"Scoring Margin",-3.1,1.45,5.5749999999999993]
["Rebound Margin",-3.5,-1.6,-5.6,-2.4,-5,3.3,-4.9000000000000004,-6.1,-2.7,-1,-2.7,-6.8,-3.3,1.2,-2.1,-0.9,-4.0999999999999996,-2.5,-3.8,-0.4,-1.6,-1.6,-3.3,-3,1.9,-4.0999999999999996,-3.6,1.5,-2,-5.5,-6,-1.6,-1.4,0.7,-7,1.6,0.2,-2.5,2.6,2.1,-1.4,-4,1.1000000000000001,-6,-2.5,-1.8,-6.3,-4.9000000000000004,-3.5,2.4,0.1,-3.3,0.1,-1.7,-4,-6.4,-4,1.4,-2.1,-6.9,1.9,-3.2,-3.9,0.5,-2.2999999999999998,-4.8,1.6,-0.6,-0.9,-0.6,-5.0999999999999996,0.3,-4.3,-6,-0.5,0.3,3.1,-3.5,-2.7,0.1,-4.3,5.2,-8.6,-2.6,-1.4,-2.158823529411765,2,1.5,-5.0999999999999996,2.7,1.8,-1.6,0.1,-3.1,1.9,2.7,-0.8,-1.6,-0.2,-2.5,-1.7,0.5,-1.1000000000000001,0,-1.7,-6.3,-2.1,2,-7.2,-0.5,-2.8,-3,-1,-0.5,7.1,-3,-1.4,0.3,-4.7,0.1,2.6,-3.8,-4.0999999999999996,-3.9,0.5,4.8,4.2,-0.7,-2.7,-5.6,1.5,-3.7,1.9,-6.3,-3.9,2.7,4.9000000000000004,-2.8,-6.8,1.3,-2.9,-3.9,-1.8,-1.1000000000000001,-0.6,3.3,-0.3,4.4000000000000004,1.3,0.6,5.0999999999999996,-0.9,-1.7,-1.9,0.2,1.6,2.2000000000000002,3.2,3.4,-0.9,7.5,1.6,2.6,6.3,3.8,-4.2,-5.7,-0.6,-0.5,2.5,-0.31547619047619024,1.6,10.8,-2.2000000000000002,2.9,0.1,-5.2,1.5,-1,-3.7,1.1000000000000001,3.6,1.4,6,2.6,2.4,0,-0.4,2.8,2.1,0.5,1.2,-1.1000000000000001,7.6,-0.4,-0.4,3,0.9,1,-5.2,0.7,1.2,1.3,1.8,-0.4,-0.5,5.6,-3.6,-1.9,3,0,0.4,-0.6,4.5999999999999996,2.7,0.7,-6.1,2.6,1,4.5,4,3.4,1.3,3.9,4.4000000000000004,1.4,-0.2,6,1.2,-4.9000000000000004,-3.3,3.4,-1.4,-0.6,6,-7.4,2.1,0.1,-1,1.8,5,0.1,6.1,7.7,5,2.9,-3,7.5,3.4,-4.2,-0.6,1,-3.2,3.8,1.1000000000000001,1.2297619047619046,3,4.3,1.7,-3,1,6.6,-0.8,0.2,0.9,4.5999999999999996,2,1.8,0.1,4.7,8.1,3.1,2.2000000000000002,0.9,5.8,4.4000000000000004,3.2,7.1,-0.8,7.4,3.8,-0.5,2.6,2.2000000000000002,2.2999999999999998,3.2,3.3,2.8,1.2,4.9000000000000004,2.4,6,4.7,-0.3,2.8,3.3,5.4,1.7,-5.0999999999999996,3.9,-0.2,-0.8,1.1000000000000001,3.6,4.5999999999999996,4.3,1.5,6.7,2.6,7.2,4.5,4,2.1,4.9000000000000004,1,4.3,2.2999999999999998,5.5,1.6,1.2,2.5,2.9,3.2,6.9,4.0999999999999996,1,-0.6,0.7,4.5999999999999996,5.6,4.2,6.5,6.9,5,-0.4,6.1,11.4,9.6,3.3,7.3,-0.8,3.1894117647058819,"Rebound Margin",-1.9750000000000001,0.55000000000000004,2.9]
["Strength of Schedule",317,336,341,338,318,252,339,343,313,272,279,221,257,330,299,193,234,208,319,212,226,308,286,260,175,194,295,322,291,237,218,333,329,276,310,91,245,335,231,331,248,321,210,157,258,342,344,247,148,311,264,165,265,315,262,287,282,300,326,324,217,307,228,241,292,197,229,306,255,211,69,177,314,188,242,160,209,205,323,144,82,166,83,203,117,253.58823529411765,296,312,224,98,132,267,316,62,290,243,301,297,266,278,152,253,199,269,109,79,72,227,202,64,259,238,196,213,320,198,137,128,130,139,334,275,158,268,283,289,340,162,236,187,164,169,216,303,163,288,239,298,114,305,153,113,125,220,178,180,81,332,250,270,112,190,106,36,219,145,167,201,223,161,235,232,184,273,75,183,111,59,189,284,202.9047619047619,277,254,137,89,206,70,65,138,80,134,274,92,328,195,147,103,127,33,172,304,155,302,325,192,71,251,240,140,88,118,110,51,293,131,76,215,26,97,87,136,73,39,230,135,142,84,186,256,281,46,122,214,171,5,159,116,124,68,22,151,56,16,168,143,61,309,35,222,55,129,126,107,30,225,271,95,133,34,185,77,149,121,207,263,144.88095238095238,37,280,200,337,123,204,105,150,100,86,246,29,182,25,115,44,99,60,261,94,67,154,53,40,58,181,191,108,176,156,31,43,78,74,47,12,104,32,173,19,52,41,10,174,45,23,146,85,170,96,102,90,120,119,48,2,179,63,4,13,15,101,6,18,28,17,49,93,27,66,9,42,57,14,50,54,11,21,20,8,7,1,3,38,24,81.588235294117652,"Strength of Schedule",85.25,169.5,256.75]
["Ratings Percentage Index",344,343,342,341,340,339,337,336,335,334,333,332,331,330,329,328,327,326,325,324,323,322,321,320,319,318,317,316,315,314,313,312,311,310,309,308,307,306,305,303,302,301,300,299,298,297,296,295,294,293,292,291,289,288,287,286,285,284,283,281,280,279,278,276,275,274,273,272,271,270,269,268,267,266,265,264,263,262,261,260,259,258,257,256,255,299.57647058823528,254,253,252,251,250,249,248,247,246,245,243,242,241,240,239,238,237,236,235,234,233,232,231,230,229,228,227,226,225,224,223,222,221,220,219,218,217,216,215,214,213,212,211,210,209,208,207,206,205,204,203,202,201,200,199,198,197,196,195,194,193,192,191,190,189,188,187,186,185,184,183,182,181,180,179,178,177,176,175,174,173,172,171,170,211.61904761904762,169,168,167,166,165,163,163,162,161,160,159,158,157,156,155,154,153,152,151,150,149,148,147,146,145,144,143,142,141,140,139,138,137,136,135,134,133,132,131,130,129,128,127,126,125,124,123,122,121,120,119,118,117,116,115,114,113,112,111,110,109,108,107,106,105,104,103,102,101,100,99,98,97,96,95,94,93,92,91,90,89,88,87,86,127.48809523809524,85,84,83,82,81,80,79,78,77,76,75,74,73,72,71,70,69,68,67,66,65,64,63,62,61,60,59,58,57,56,55,54,53,52,51,50,49,48,47,46,45,44,43,42,41,40,39,38,37,36,35,34,33,32,31,30,29,28,27,26,25,24,23,22,21,20,19,18,17,16,15,14,13,12,11,10,9,8,7,6,5,4,3,2,1,43,"Ratings Percentage Index",85.25,169.5,254.75]
["Player Quartile Performance","Bottom Quartile Performance",null,null,null,null,null,null,null,null,null,null,null,null,null,null,null,null,null,null,null,null,null,null,null,null,null,null,null,null,null,null,null,null,null,null,null,null,null,null,null,null,null,null,null,null,null,null,null,null,null,null,null,null,null,null,null,null,null,null,null,null,null,null,null,null,null,null,null,null,null,null,null,null,null,null,null,null,null,null,null,null,null,null,null,null,null,"Lower-Middle Quartile Performance",null,null,null,null,null,null,null,null,null,null,null,null,null,null,null,null,null,null,null,null,null,null,null,null,null,null,null,null,null,null,null,null,null,null,null,null,null,null,null,null,null,null,null,null,null,null,null,null,null,null,null,null,null,null,null,null,null,null,null,null,null,null,null,null,null,null,null,null,null,null,null,null,null,null,null,null,null,null,null,null,null,null,null,null,"Upper-Middle Quartile Performance",null,null,null,null,null,null,null,null,null,null,null,null,null,null,null,null,null,null,null,null,null,null,null,null,null,null,null,null,null,null,null,null,null,null,null,null,null,null,null,null,null,null,null,null,null,null,null,null,null,null,null,null,null,null,null,null,null,null,null,null,null,null,null,null,null,null,null,null,null,null,null,null,null,null,null,null,null,null,null,null,null,null,null,null,"Top Quartile Performance",null,null,null,null,null,null,null,null,null,null,null,null,null,null,null,null,null,null,null,null,null,null,null,null,null,null,null,null,null,null,null,null,null,null,null,null,null,null,null,null,null,null,null,null,null,null,null,null,null,null,null,null,null,null,null,null,null,null,null,null,null,null,null,null,null,null,null,null,null,null,null,null,null,null,null,null,null,null,null,null,null,null,null,null,null,"Player Quartile Performance",{"$error":"#NUM!"},{"$error":"#NUM!"},{"$error":"#NUM!"}]
["Points Per Game",55.9,64.900000000000006,53,62.4,63.5,55.2,73.900000000000006,61.9,63.1,62.3,63,61.9,60.8,59.5,65.3,57.7,61.5,62.7,66.099999999999994,57.7,64.400000000000006,67.900000000000006,74.3,58,64.3,60.3,71.599999999999994,67,55.9,62.7,60.8,65.2,70.2,60.3,59.8,51,56.8,59.7,70.599999999999994,62.4,63.3,68.5,61.1,58.1,66.2,61.8,60.7,62.6,60.7,66,61,69.5,60.3,65.400000000000006,61.6,67.5,64.3,68.599999999999994,69.599999999999994,81.099999999999994,70.099999999999994,71.400000000000006,65.7,63.6,77.400000000000006,68.900000000000006,59.3,70.3,71.5,69.2,55.9,72,74,64.5,68,65.099999999999994,59.5,66.099999999999994,63.5,65.8,61.5,72.3,53.3,70.900000000000006,63.1,64.191764705882349,70.5,63.1,66.3,67.8,60,59.1,71.900000000000006,72.8,64.7,65.8,70.599999999999994,60.7,70.3,70.400000000000006,63.3,72.599999999999994,69.599999999999994,71.3,61.6,59.6,59.9,63.1,66.8,64.8,69.7,53.3,68.3,65,62.1,73,64.5,65.400000000000006,59.9,62.2,72.8,70.599999999999994,58.2,66.400000000000006,68.400000000000006,64.900000000000006,70.099999999999994,73,72.5,69.8,71.599999999999994,65.8,65.599999999999994,65.7,70,69.400000000000006,70.3,72.2,73.900000000000006,74.7,71.900000000000006,66.7,66.3,66.7,69.2,74.3,68.7,64,66.7,67.900000000000006,68.900000000000006,62.1,69.2,61.6,64.400000000000006,70,65.099999999999994,68.8,76.5,62.7,66.599999999999994,73.8,62.9,72.900000000000006,61,67,65.400000000000006,62.7,67.8,64.099999999999994,67.045238095238076,76.900000000000006,70.8,63.7,69.400000000000006,64.599999999999994,61.6,60.6,66.900000000000006,65.599999999999994,69.599999999999994,68,69.5,78.3,72.900000000000006,69.099999999999994,67.2,79.599999999999994,62,72.3,68.7,75.2,64.7,67.400000000000006,69,63.3,70.7,67.400000000000006,67.3,73.2,64.599999999999994,64.7,66,68.7,79.5,64.2,74.3,67,67.2,68.900000000000006,64.900000000000006,72.7,60.9,72.099999999999994,68.599999999999994,65.3,68.400000000000006,69.3,68.5,67.900000000000006,70,63.4,80.8,72.5,71.599999999999994,64.3,70,65.3,66,67.099999999999994,70.3,59.9,61.5,71.099999999999994,69.8,72.2,75.900000000000006,65.8,70.2,68.3,69.599999999999994,65.900000000000006,66.5,68.599999999999994,70.400000000000006,81.8,65.900000000000006,72.8,68.8,68.599999999999994,71.7,69.599999999999994,73.599999999999994,67.599999999999994,73.2,68.926190476190499,67.400000000000006,76.099999999999994,70.900000000000006,60.1,75.3,67.8,63.1,66.3,68.900000000000006,68.2,79.099999999999994,66.2,71.599999999999994,73.7,78.8,66,69.8,65.7,65,66.7,71.400000000000006,77.900000000000006,65.900000000000006,69.2,71.900000000000006,68.3,82.1,72.8,78.599999999999994,71.099999999999994,73.7,71.7,71.099999999999994,74.900000000000006,71.3,71.8,79,71.5,72.3,60.1,71,69,69.400000000000006,73.7,68,71.7,83.4,62.7,65,72,68.8,72.599999999999994,73.8,74.599999999999994,73.3,68.599999999999994,74.8,70.900000000000006,70.8,69.599999999999994,65.900000000000006,79.7,73.900000000000006,74.7,70.7,64,77.7,73.2,77.599999999999994,79.7,66.3,75.599999999999994,71.599999999999994,69.599999999999994,78.400000000000006,78.3,74.7,74.400000000000006,76.400000000000006,75,81.900000000000006,72.5,79,77.8,75.8,72.016470588235293,"Points Per Game",64.325000000000003,68.349999999999994,71.7]
[null,{"$f":"PERCENTRANK($B10:$LF10, B10)","v":1.4999999999999999E-2},0.3,3.0000000000000001E-3,0.17399999999999999,0.23400000000000001,1.2E-2,0.90800000000000003,0.151,0.20499999999999999,0.17,0.20200000000000001,0.151,0.107,0.05,0.32900000000000001,2.8000000000000001E-2,0.126,0.183,0.40100000000000002,2.8000000000000001E-2,0.26800000000000002,0.503,0.91700000000000004,3.4000000000000002E-2,0.25900000000000001,8.5000000000000006E-2,0.77800000000000002,0.45200000000000001,1.4999999999999999E-2,0.183,0.107,0.32500000000000001,{"$f":"PERCENTRANK($B10:$LF10, AH10)","v":0.68899999999999995},8.5000000000000006E-2,6.3E-2,0,2.5000000000000001E-2,0.06,0.71799999999999997,0.17399999999999999,0.221,0.54100000000000004,0.123,3.6999999999999998E-2,0.40799999999999997,0.14799999999999999,9.8000000000000004E-2,0.18,9.8000000000000004E-2,0.38900000000000001,0.11700000000000001,0.63200000000000001,8.5000000000000006E-2,0.33800000000000002,0.13600000000000001,0.48699999999999999,0.25900000000000001,0.54700000000000004,0.63900000000000001,0.99,0.68300000000000005,0.76500000000000001,0.35399999999999998,0.24,{"$f":"PERCENTRANK($B10:$LF10, BN10)","v":0.95799999999999996},0.58199999999999996,4.7E-2,0.69599999999999995,0.77200000000000002,0.60699999999999998,1.4999999999999999E-2,0.81299999999999994,0.91400000000000003,0.27500000000000002,0.51200000000000001,0.31900000000000001,0.05,0.40100000000000002,0.23400000000000001,0.36299999999999999,0.126,0.82899999999999996,6.0000000000000001E-3,0.73699999999999999,0.20499999999999999,0.32344705882352942,0.71499999999999997,0.20499999999999999,0.41399999999999998,0.49299999999999999,7.4999999999999997E-2,4.3999999999999997E-2,0.80300000000000005,0.85399999999999998,0.28699999999999998,0.36299999999999999,0.71799999999999997,{"$f":"PERCENTRANK($B10:$LF10, CU10)","v":9.8000000000000004E-2},0.69599999999999995,0.70799999999999996,0.221,0.84399999999999997,0.63900000000000001,0.75900000000000001,0.13600000000000001,5.6000000000000001E-2,6.6000000000000003E-2,0.20499999999999999,0.44600000000000001,0.29699999999999999,0.65800000000000003,6.0000000000000001E-3,0.52500000000000002,0.31,0.161,0.873,0.27500000000000002,0.33800000000000002,6.6000000000000003E-2,0.16700000000000001,0.85399999999999998,0.71799999999999997,4.1000000000000002E-2,0.42399999999999999,0.53400000000000003,0.3,0.68300000000000005,0.873,0.83799999999999997,{"$f":"PERCENTRANK($B10:$LF10, EA10)","v":0.66100000000000003},0.77800000000000002,0.36299999999999999,0.34799999999999998,0.35399999999999998,0.67,0.623,0.69599999999999995,0.82199999999999995,0.90800000000000003,0.93,0.80300000000000005,0.433,0.41399999999999998,0.433,0.60699999999999998,0.91700000000000004,0.56299999999999994,0.246,0.433,0.503,0.58199999999999996,0.161,0.60699999999999998,0.13600000000000001,0.26800000000000002,0.67,0.31900000000000001,0.57199999999999995,0.95199999999999996,0.183,0.43,{"$f":"PERCENTRANK($B10:$LF10, FG10)","v":0.90100000000000002},0.19900000000000001,0.86699999999999999,0.11700000000000001,0.45200000000000001,0.33800000000000002,0.183,0.49299999999999999,0.25,0.47584523809523821,{"$f":"PERCENTRANK($B10:$LR10, FQ10)","v":0.94499999999999995},0.71299999999999997,0.23400000000000001,0.60599999999999998,0.27400000000000002,0.13100000000000001,9.0999999999999998E-2,0.439,0.33800000000000002,0.621,0.5,0.61499999999999999,0.96,0.84699999999999998,0.58799999999999997,0.45700000000000002,0.97799999999999998,0.152,0.81,0.54800000000000004,0.92600000000000005,0.28000000000000003,0.46600000000000003,0.58199999999999996,0.21299999999999999,0.70699999999999996,0.46600000000000003,0.46300000000000002,0.85899999999999999,0.27400000000000002,0.28000000000000003,0.378,{"$f":"PERCENTRANK($B10:$LR10, GW10)","v":0.54800000000000004},0.97499999999999998,0.25,0.90200000000000002,0.442,0.45700000000000002,0.56699999999999995,0.29199999999999998,0.83199999999999996,0.109,0.80100000000000005,0.53300000000000003,0.32,0.52100000000000002,0.60299999999999998,0.52700000000000002,0.49,0.65200000000000002,0.222,0.98699999999999999,0.82,0.75900000000000001,0.253,0.65200000000000002,0.32,0.378,0.45400000000000001,0.67600000000000005,6.4000000000000001E-2,0.121,0.73099999999999998,0.64300000000000002,{"$f":"PERCENTRANK($B10:$LR10, IC10)","v":0.80400000000000005},0.93500000000000005,0.35299999999999998,0.67,0.51200000000000001,0.621,0.36499999999999999,0.41699999999999998,0.53300000000000003,0.68899999999999995,0.99299999999999999,0.36499999999999999,0.83499999999999996,0.55700000000000005,0.53300000000000003,0.77400000000000002,0.621,0.871,0.47799999999999998,0.85899999999999999,0.55270238095238156,{"$f":"PERCENTRANK($B10:$MD10, IX10)","v":0.45},0.92300000000000004,0.69699999999999995,7.2999999999999995E-2,0.91100000000000003,0.46400000000000002,0.191,0.38800000000000001,0.54700000000000004,0.49099999999999999,0.97,0.38200000000000001,0.73499999999999999,0.85,0.96099999999999997,0.36399999999999999,0.623,0.33200000000000002,0.29099999999999998,0.40799999999999997,0.72299999999999998,0.94699999999999995,0.35199999999999998,0.56999999999999995,0.76100000000000001,0.49399999999999999,0.997,0.81100000000000005,0.95799999999999996,0.70799999999999996,0.85,0.75,{"$f":"PERCENTRANK($B10:$MD10, KD10)","v":0.70799999999999996},0.90200000000000002,0.71699999999999997,0.75800000000000001,0.96399999999999997,0.72899999999999998,0.78500000000000003,7.2999999999999995E-2,0.70499999999999996,0.56100000000000005,0.58499999999999996,0.85,0.48199999999999998,0.75,1,0.17,0.29099999999999998,0.77,0.53800000000000003,0.80200000000000005,0.85799999999999998,0.88800000000000001,0.84399999999999997,0.51400000000000001,0.9,0.69699999999999995,0.69099999999999995,0.6,0.35199999999999998,0.97899999999999998,0.86399999999999999,0.89100000000000001,{"$f":"PERCENTRANK($B10:$MD10, LJ10)","v":0.68500000000000005},0.22900000000000001,0.94099999999999995,0.83499999999999996,0.93799999999999994,0.97899999999999998,0.38800000000000001,0.91400000000000003,0.73499999999999999,0.6,0.95499999999999996,0.95,0.89100000000000001,0.88500000000000001,0.92600000000000005,0.90500000000000003,0.99399999999999999,0.79400000000000004,0.96399999999999997,0.94399999999999995,0.91700000000000004,0.7006941176470588,null,0.24525,0.4965,0.747]
["Field Goal Percentage",39.200000000000003,39.299999999999997,35.4,40.1,41.4,36.5,43.9,41.1,39.299999999999997,40.799999999999997,39.799999999999997,41.5,41.2,40.5,40.299999999999997,40.200000000000003,38.6,41.3,40.799999999999997,39.5,43.5,38.200000000000003,42.1,38.9,43.1,41,42.2,45.1,37.700000000000003,41.1,45.9,40.200000000000003,42.8,38,41.4,36.799999999999997,41.9,37.9,41.5,39,43.1,42.7,39.700000000000003,40.4,42.5,40.5,40.799999999999997,41.8,40.6,41.8,38.299999999999997,41.1,42.4,43.6,39.6,44.2,40.700000000000003,45.3,44.6,44.3,45.1,42.7,42.2,42.3,43.7,39.799999999999997,41.7,42.4,44.2,42,40.6,44.1,43.5,43.1,44,41.9,39.6,44.3,42.2,40.6,40.200000000000003,47.9,39.1,41,41.6,41.37411764705881,47.5,41.9,42.2,39.9,45.3,41,47.2,43.8,41.4,47.2,45.7,41.5,41.7,41.8,41.7,46.1,40.200000000000003,45.9,43.5,40.9,43.8,42,41.8,42.5,42.6,37.799999999999997,41.4,42.4,45,43.7,39.4,41.8,42.4,38.200000000000003,45,41.9,39.9,43.5,45.6,42.5,42.8,44.3,40.5,43.7,46.4,41,42.9,43.3,40.4,43.4,43,44.6,44,48.6,45.1,44.7,41.5,46.7,41.6,46.3,43.2,42.5,42.6,43.9,43.1,45.7,44.2,40.299999999999997,42.5,46.8,42.7,43.1,48.4,42.8,42.3,49.2,43.4,48.7,43.2,42.6,40.9,42.4,46,44,43.320238095238089,44.7,42.4,40.6,43,42.8,44.5,43.2,41.1,42.7,44.3,44.6,43.6,48.6,47,47.6,47.1,46.8,39.200000000000003,45.2,40,46.8,43.2,43.3,42.5,42,43.2,43.3,46.3,45.8,43.3,42.2,43.3,44,45.1,47,43.3,42.3,44.4,46.4,42.1,45,43.1,44.7,44.1,44.6,42.6,43.7,46.7,41.9,43.4,40.700000000000003,48.2,45.3,40.9,42,42.8,40.4,43.6,41.9,42.6,42.2,39.700000000000003,45.2,44,44.7,44.6,42.5,46.4,42.6,45.8,45.1,45.3,44.7,44.2,47.4,44.5,46,44.5,49,43.7,47.2,46,42.2,44.1,44.030952380952357,46.4,44.7,46.5,40.9,43,46.1,45.2,45.3,42,44.3,46.6,44.4,43.1,46,47.7,43.1,44.4,40.799999999999997,43.9,43.5,45.6,44.5,43.8,43,43.6,40.799999999999997,48.7,46.5,46.8,45.2,44.2,45.6,45.7,44.6,46.9,44.7,46.8,43.8,49.8,44,43.7,43.7,45.6,49,43.7,43.5,50.2,46.1,46.3,48.1,45.3,46,47.4,47.4,45.2,45.2,47.8,45.4,47.5,45.1,45.7,50.8,46.4,49,43.2,42.6,46.5,46.9,49,49.7,45.6,47.4,41.6,46.2,46.8,49,48.3,47.2,46.4,48.3,46.2,47.6,46.5,48.8,47.1,45.735294117647051,"Field Goal Percentage",41.8,43.5,45.6]
[null,{"$f":"PERCENTRANK($B12:$LF12, B12)","v":4.3999999999999997E-2},0.05,0,9.0999999999999998E-2,0.215,3.0000000000000001E-3,0.59099999999999997,0.193,0.05,0.151,7.4999999999999997E-2,0.22700000000000001,0.20499999999999999,0.123,0.107,9.4E-2,3.1E-2,0.20799999999999999,0.151,0.06,0.52200000000000002,2.1999999999999999E-2,0.30599999999999999,3.4000000000000002E-2,0.44900000000000001,0.18,0.313,0.73699999999999999,8.9999999999999993E-3,0.193,0.82899999999999996,9.4E-2,{"$f":"PERCENTRANK($B12:$LF12, AH12)","v":0.41699999999999998},1.7999999999999999E-2,0.215,6.0000000000000001E-3,0.27200000000000002,1.4999999999999999E-2,0.22700000000000001,3.6999999999999998E-2,0.44900000000000001,0.40500000000000003,6.9000000000000006E-2,0.113,0.36299999999999999,0.123,0.151,0.25600000000000001,0.13200000000000001,0.25600000000000001,2.8000000000000001E-2,0.193,0.34399999999999997,0.54100000000000004,6.3E-2,0.63200000000000001,0.14499999999999999,0.77500000000000002,0.68600000000000005,0.64800000000000002,0.73699999999999999,0.40500000000000003,0.313,0.33500000000000002,{"$f":"PERCENTRANK($B12:$LF12, BN12)","v":0.55300000000000005},7.4999999999999997E-2,0.246,0.34399999999999997,0.63200000000000001,0.29099999999999998,0.13200000000000001,0.623,0.52200000000000002,0.44900000000000001,0.60099999999999998,0.27200000000000002,6.3E-2,0.64800000000000002,0.313,0.13200000000000001,9.4E-2,0.96199999999999997,4.1000000000000002E-2,0.18,0.24,0.2722235294117647,0.94599999999999995,0.27200000000000002,0.313,8.2000000000000003E-2,0.77500000000000002,0.18,0.92700000000000005,0.57899999999999996,0.215,0.92700000000000005,0.81,{"$f":"PERCENTRANK($B12:$LF12, CU12)","v":0.22700000000000001},0.246,0.25600000000000001,0.246,0.85099999999999998,9.4E-2,0.82899999999999996,0.52200000000000002,0.16700000000000001,0.57899999999999996,0.29099999999999998,0.25600000000000001,0.36299999999999999,0.38600000000000001,1.2E-2,0.215,0.34399999999999997,0.72699999999999998,0.55300000000000005,5.6000000000000001E-2,0.25600000000000001,0.34399999999999997,2.1999999999999999E-2,0.72699999999999998,0.27200000000000002,8.2000000000000003E-2,0.52200000000000002,0.79700000000000004,0.36299999999999999,0.41699999999999998,0.64800000000000002,0.123,{"$f":"PERCENTRANK($B12:$LF12, EA12)","v":0.55300000000000005},0.87,0.18,0.433,0.49,0.113,0.51200000000000001,0.436,0.68600000000000005,0.60099999999999998,0.97399999999999998,0.73699999999999999,0.70499999999999996,0.22700000000000001,0.89200000000000002,0.24,0.86,0.47399999999999998,0.36299999999999999,0.38600000000000001,0.59099999999999997,0.44900000000000001,0.81,0.63200000000000001,0.107,0.36299999999999999,0.89800000000000002,0.40500000000000003,0.44900000000000001,0.97099999999999997,0.41699999999999998,0.33500000000000002,{"$f":"PERCENTRANK($B12:$LF12, FG12)","v":0.99299999999999999},0.51200000000000001,0.98099999999999998,0.47399999999999998,0.38600000000000001,0.16700000000000001,0.34399999999999997,0.83499999999999996,0.60099999999999998,0.47941666666666677,{"$f":"PERCENTRANK($B12:$LR12, FQ12)","v":0.68899999999999995},0.33500000000000002,0.128,0.42599999999999999,0.40799999999999997,0.65800000000000003,0.46300000000000002,0.185,0.39600000000000002,0.63400000000000001,0.67,0.53,0.96299999999999997,0.90500000000000003,0.94199999999999995,0.91100000000000003,0.88400000000000001,4.2000000000000003E-2,0.73699999999999999,8.5000000000000006E-2,0.88400000000000001,0.46300000000000002,0.48099999999999998,0.35299999999999998,0.28299999999999997,0.46300000000000002,0.48099999999999998,0.84099999999999997,0.80400000000000005,0.48099999999999998,0.30399999999999999,0.48099999999999998,{"$f":"PERCENTRANK($B12:$LR12, GW12)","v":0.58799999999999997},0.71899999999999997,0.90500000000000003,0.48099999999999998,0.32600000000000001,0.64900000000000002,0.85,0.29799999999999999,0.71,0.439,0.68899999999999995,0.60899999999999999,0.67,0.375,0.54200000000000004,0.878,0.26500000000000001,0.503,0.14000000000000001,0.95699999999999996,0.75600000000000001,0.161,0.28299999999999997,0.40799999999999997,0.109,0.53,0.26500000000000001,0.375,0.30399999999999999,6.7000000000000004E-2,0.73699999999999999,0.58799999999999997,{"$f":"PERCENTRANK($B12:$LR12, IC12)","v":0.68899999999999995},0.67,0.35299999999999998,0.85,0.375,0.80400000000000005,0.71899999999999997,0.75600000000000001,0.68899999999999995,0.61799999999999999,0.92300000000000004,0.65800000000000003,0.81699999999999995,0.65800000000000003,0.97499999999999998,0.54200000000000004,0.91400000000000003,0.81699999999999995,0.30399999999999999,0.60899999999999999,0.56221428571428633,{"$f":"PERCENTRANK($B12:$MD12, IX12)","v":0.82599999999999996},0.66400000000000003,0.84399999999999997,0.155,0.41099999999999998,0.80200000000000005,0.71099999999999997,0.72899999999999998,0.27300000000000002,0.61099999999999999,0.85499999999999998,0.626,0.42299999999999999,0.78800000000000003,0.93500000000000005,0.42299999999999999,0.626,0.14099999999999999,0.55800000000000005,0.49399999999999999,0.75,0.63500000000000001,0.54700000000000004,0.41099999999999998,0.51100000000000001,0.14099999999999999,0.96399999999999997,0.84399999999999997,0.86399999999999999,0.71099999999999997,0.59699999999999998,0.75,{"$f":"PERCENTRANK($B12:$MD12, KD12)","v":0.76400000000000001},0.64700000000000002,0.88200000000000001,0.66400000000000003,0.86399999999999999,0.54700000000000004,0.99399999999999999,0.56699999999999995,0.52300000000000002,0.52300000000000002,0.75,0.97299999999999998,0.52300000000000002,0.49399999999999999,0.997,0.80200000000000005,0.81699999999999995,0.94399999999999995,0.72899999999999998,0.78800000000000003,0.91100000000000003,0.91100000000000003,0.71099999999999997,0.71099999999999997,0.93799999999999994,0.747,0.92300000000000004,0.69399999999999995,0.76400000000000001,1,0.82599999999999996,0.97299999999999998,{"$f":"PERCENTRANK($B12:$MD12, LJ12)","v":0.44700000000000001},0.36099999999999999,0.84399999999999997,0.88200000000000001,0.97299999999999998,0.99099999999999999,0.75,0.91100000000000003,0.223,0.81100000000000005,0.86399999999999999,0.97299999999999998,0.95,0.9,0.82599999999999996,0.95,0.81100000000000005,0.92900000000000005,0.84399999999999997,0.97,0.89400000000000002,0.72500000000000009,null,0.24,0.49199999999999999,0.747]
["3 Point Percentage",30.2,28.9,27.5,31.7,38,30.5,35.299999999999997,29.8,30,32.700000000000003,30.4,34.1,27.7,30.1,32.700000000000003,27.4,30.3,28.6,31,34.299999999999997,33.299999999999997,30.7,31.6,30.6,36.4,36.4,31.5,33.9,32.1,36.9,35.6,28.9,35.6,28,30.8,27,31,30.1,33.5,30.5,38.700000000000003,36.299999999999997,32.700000000000003,31.8,30.7,34.6,31.4,36.4,32.299999999999997,32,31.1,36.4,31.7,34.200000000000003,32.6,33.299999999999997,32.299999999999997,31.6,33.700000000000003,31.1,33.1,33.9,33.700000000000003,31,36.799999999999997,33.700000000000003,29.7,34.9,40.9,35.700000000000003,30.9,34.299999999999997,37.5,37.700000000000003,34.5,31.9,31.7,34.1,33.299999999999997,33.299999999999997,30,45,27.5,34.4,28.2,32.684705882352937,36.799999999999997,32.4,36.799999999999997,27.5,35.799999999999997,31.1,34.9,35.5,33.799999999999997,28.6,36.4,33,33.799999999999997,35.700000000000003,33.700000000000003,37.6,33.5,36.9,36.799999999999997,33.799999999999997,36.200000000000003,30.7,33.9,32,34.5,35.700000000000003,35.700000000000003,27,28.4,37.5,29.9,32.6,33.9,27.5,35.1,30.2,34.6,33.799999999999997,36.700000000000003,35,32,35.6,36,38,35.6,31.6,35.4,35.1,32,35.4,31.1,39.200000000000003,33.1,37.299999999999997,37.6,36.299999999999997,34.1,35.700000000000003,32.200000000000003,32.4,34.200000000000003,33.700000000000003,31.8,31.1,34.200000000000003,38.6,32.1,32.299999999999997,32.4,36.700000000000003,36.9,33.4,33.299999999999997,34.9,34.5,37.200000000000003,36,33.4,31.3,38.200000000000003,33.4,33,36.299999999999997,33.799999999999997,34.091666666666661,37.700000000000003,33.1,32.9,34.700000000000003,33.5,32.4,32.9,32.5,33.200000000000003,34.299999999999997,34.700000000000003,34.200000000000003,41.4,36.200000000000003,38.799999999999997,36.9,35.299999999999997,30.6,30.3,33.1,34.4,40.6,34.299999999999997,31.6,31.2,36.5,31.5,35.200000000000003,39.299999999999997,33,35.9,33.799999999999997,30.6,36.5,34.299999999999997,34,28.6,36.6,37.200000000000003,34.700000000000003,36.6,32.700000000000003,34.700000000000003,36.799999999999997,35.799999999999997,35.9,35,35.6,34.5,35.6,28.1,36.1,36.5,31,34.799999999999997,34.9,31.1,34.1,32.200000000000003,34.1,34.700000000000003,32,35.700000000000003,36.299999999999997,33,35.299999999999997,36.5,36.9,33.9,33.700000000000003,36.9,38.4,33.799999999999997,35.5,37.299999999999997,37.700000000000003,35.1,36.200000000000003,39.9,37,35.299999999999997,40.799999999999997,33,36.200000000000003,34.829761904761902,35.5,35.9,33.299999999999997,29.6,33.6,38.799999999999997,33.700000000000003,36.6,35.799999999999997,35.1,40.799999999999997,30.9,33.799999999999997,35.5,33,30.8,37.799999999999997,31.4,38.299999999999997,30.4,36.4,34.1,39.5,31.2,33.799999999999997,33.200000000000003,37.700000000000003,37.1,39.5,36.6,33.799999999999997,35.9,36.799999999999997,33.4,35.799999999999997,30.7,34.4,35.9,36.9,31.3,33,36.4,38.299999999999997,36.4,33.200000000000003,36.6,39.4,33.799999999999997,34.700000000000003,37.1,36.299999999999997,38.4,35.799999999999997,34.700000000000003,38.299999999999997,32.700000000000003,41.5,33.200000000000003,41,33,28.5,42.8,39.799999999999997,36.799999999999997,32.200000000000003,35.799999999999997,39.4,37.5,42.6,38.4,34.700000000000003,40.5,36.299999999999997,35.299999999999997,37.200000000000003,37.200000000000003,33.1,39,34.6,35.200000000000003,34.799999999999997,35.200000000000003,38.700000000000003,37.6,34.200000000000003,36.081578947368421,"3 Point Percentage",33.150000000000006,34.799999999999997,36.6]
[null,null,null,null,0.11899999999999999,0.88400000000000001,4.2000000000000003E-2,0.55400000000000005,null,2.1000000000000001E-2,0.192,3.5000000000000003E-2,0.38500000000000001,null,null,0.192,0,3.1E-2,null,7.2999999999999995E-2,0.42099999999999999,0.26300000000000001,5.6000000000000001E-2,0.108,null,0.70499999999999996,0.70499999999999996,0.10100000000000001,0.36799999999999999,null,0.79600000000000004,null,1.4E-2,0.59199999999999997,7.0000000000000001E-3,6.3E-2,null,null,2.4E-2,0.28699999999999998,4.2000000000000003E-2,0.91900000000000004,0.68400000000000005,0.192,0.126,null,0.45600000000000002,null,0.70499999999999996,0.157,0.13300000000000001,null,0.70499999999999996,0.11899999999999999,0.40699999999999997,0.185,0.26300000000000001,0.157,null,0.30499999999999999,0.08,0.23799999999999999,0.36799999999999999,0.30499999999999999,null,0.77100000000000002,0.30499999999999999,null,0.505,0.97799999999999998,0.60699999999999998,6.6000000000000003E-2,0.42099999999999999,0.84499999999999997,0.86599999999999999,0.44500000000000001,0.129,null,0.38500000000000001,0.26300000000000001,null,null,1,null,0.435,null,0.34846774193548385,0.77100000000000002,0.16800000000000001,0.77100000000000002,3.0000000000000001E-3,0.624,null,0.505,0.57799999999999996,0.32900000000000001,null,0.70499999999999996,0.217,0.32900000000000001,0.60699999999999998,0.30499999999999999,0.85599999999999998,0.28699999999999998,0.79600000000000004,0.77100000000000002,0.32900000000000001,null,null,0.36799999999999999,null,0.44500000000000001,null,0.60699999999999998,null,null,0.84499999999999997,1.7000000000000001E-2,0.185,0.36799999999999999,null,0.52900000000000003,2.8000000000000001E-2,0.45600000000000002,0.32900000000000001,0.76400000000000001,0.51900000000000002,0.13300000000000001,0.59199999999999997,0.66300000000000003,0.88400000000000001,0.59199999999999997,0.108,0.57099999999999995,0.52900000000000003,0.13300000000000001,0.57099999999999995,null,0.93600000000000005,0.23799999999999999,0.83799999999999997,0.85599999999999998,0.68400000000000005,0.38500000000000001,0.60699999999999998,0.14699999999999999,0.16800000000000001,0.40699999999999997,0.30499999999999999,null,null,0.40699999999999997,0.91500000000000004,null,0.157,0.16800000000000001,0.76400000000000001,0.79600000000000004,0.27700000000000002,0.26300000000000001,0.505,null,0.82399999999999995,0.66300000000000003,null,9.4E-2,0.89100000000000001,0.27700000000000002,null,0.68400000000000005,0.32900000000000001,0.48194117647058832,0.86599999999999999,null,0.21,0.47,0.28699999999999998,0.16800000000000001,0.21,0.182,0.249,0.42099999999999999,0.47,null,0.98499999999999999,0.67300000000000004,0.92600000000000005,0.79600000000000004,0.55400000000000005,4.9000000000000002E-2,null,0.23799999999999999,0.435,0.96799999999999997,0.42099999999999999,0.108,8.6999999999999994E-2,0.73299999999999998,0.10100000000000001,0.54300000000000004,0.94,0.217,0.64500000000000002,0.32900000000000001,4.9000000000000002E-2,0.73299999999999998,null,null,null,0.747,0.82399999999999995,0.47,0.747,0.192,0.47,0.77100000000000002,0.624,0.64500000000000002,0.51900000000000002,0.59199999999999997,0.44500000000000001,null,0.01,0.67,0.73299999999999998,7.2999999999999995E-2,0.498,0.505,0.08,0.38500000000000001,0.14699999999999999,0.38500000000000001,0.47,0.13300000000000001,0.60699999999999998,0.68400000000000005,0.217,0.55400000000000005,0.73299999999999998,0.79600000000000004,0.36799999999999999,0.30499999999999999,0.79600000000000004,0.90500000000000003,0.32900000000000001,0.57799999999999996,0.83799999999999997,0.86599999999999999,0.52900000000000003,0.67300000000000004,0.96099999999999997,0.81699999999999995,0.55400000000000005,0.97099999999999997,0.217,0.67300000000000004,0.50868831168831175,0.57799999999999996,0.64500000000000002,null,null,0.30099999999999999,0.92600000000000005,0.30499999999999999,0.747,0.624,0.52900000000000003,0.97099999999999997,6.6000000000000003E-2,0.32900000000000001,0.57799999999999996,null,null,0.88,9.8000000000000004E-2,0.89400000000000002,3.5000000000000003E-2,0.70499999999999996,0.38500000000000001,0.95,8.6999999999999994E-2,0.32900000000000001,0.249,0.86599999999999999,0.82099999999999995,0.95,0.747,0.32900000000000001,0.64500000000000002,0.77100000000000002,0.27700000000000002,0.624,5.6000000000000001E-2,0.435,0.64500000000000002,null,null,0.217,0.70499999999999996,0.89400000000000002,0.70499999999999996,0.249,0.747,0.94299999999999995,0.32900000000000001,0.47,null,0.68400000000000005,0.90500000000000003,0.624,0.47,0.89400000000000002,0.192,0.98899999999999999,0.249,0.98199999999999998,0.217,null,0.996,0.95699999999999996,0.77100000000000002,0.14699999999999999,0.624,0.94299999999999995,0.84499999999999997,0.99199999999999999,0.90500000000000003,0.47,0.96399999999999997,0.68400000000000005,0.55400000000000005,0.82399999999999995,0.82399999999999995,null,0.93300000000000005,0.45600000000000002,0.54300000000000004,0.498,0.54300000000000004,0.91900000000000004,0.85599999999999998,0.40699999999999997,null,null,0.24349999999999999,0.498,0.747]
["Free Throw Percentage",69.599999999999994,64.2,68.099999999999994,64,68.3,66.099999999999994,67.5,69.900000000000006,66.400000000000006,68.900000000000006,65.2,62.5,66,58.4,73.400000000000006,68.400000000000006,64,70.3,59.6,70.5,66.5,75.5,68.8,60.2,66.099999999999994,65.3,55,69.900000000000006,70,63.3,65.3,62.6,70.3,64.7,67.099999999999994,58.2,69.400000000000006,58.7,68,54.9,68.5,72.900000000000006,66.5,65,66.599999999999994,60.9,69,70.400000000000006,71.5,66.7,67.7,70.3,64.400000000000006,75.7,64.400000000000006,67.2,69.8,70.8,73,71.599999999999994,68.599999999999994,66.099999999999994,67.900000000000006,65.3,70.599999999999994,74.5,60.2,69.400000000000006,68.599999999999994,65.2,67.5,69.5,69,69.5,64.3,65.599999999999994,66.3,65.7,65.5,72,68.099999999999994,70.400000000000006,61.2,67.7,63.5,66.896470588235289,63.4,68.099999999999994,67,68.900000000000006,66.900000000000006,69.099999999999994,71.400000000000006,69.099999999999994,72.400000000000006,73.2,72.3,61.5,68.599999999999994,67.2,72.2,67.7,68.400000000000006,74.5,69.7,68.099999999999994,70.5,68.3,64.5,71.2,75.3,69,73,67.599999999999994,63.3,63.4,70.099999999999994,66.900000000000006,67.5,61.2,75,60.6,71,73.2,68.099999999999994,68.5,68.900000000000006,77.400000000000006,70.099999999999994,76.099999999999994,71.5,73.3,65.8,69.7,70,66.400000000000006,70.3,75.3,68.400000000000006,66.7,71.900000000000006,65.7,65.900000000000006,67,64.2,66.900000000000006,68.400000000000006,59.1,67.900000000000006,63.5,70.8,68.3,67.400000000000006,70.3,67.8,71.5,74.900000000000006,63.5,73.8,70.900000000000006,70.2,72.8,74.5,67.3,66.099999999999994,65.099999999999994,67.599999999999994,66.900000000000006,60.5,66.7,68.752380952380946,69,64.5,69.7,69.2,71.900000000000006,68.400000000000006,64.8,65.5,73.099999999999994,67.5,74.099999999999994,70.2,68.900000000000006,71.599999999999994,66.8,71,68.599999999999994,67.599999999999994,72.8,65.400000000000006,69.099999999999994,71.3,69.3,72.5,64.8,73.099999999999994,65.3,67.400000000000006,76.400000000000006,67.7,70.400000000000006,69.2,65,73.099999999999994,69.400000000000006,71.7,68.3,64.2,66.400000000000006,72.7,71.8,75.400000000000006,63.9,74.3,65.2,75.7,69,70.3,71.3,72.599999999999994,64.400000000000006,76,69.400000000000006,76.2,61.6,73.5,62.1,72.5,74.400000000000006,64.400000000000006,68.599999999999994,69.2,69.099999999999994,65.3,65.900000000000006,78.400000000000006,72.7,71.3,66.900000000000006,76.900000000000006,66.400000000000006,67.900000000000006,70.099999999999994,70.7,73,72.900000000000006,65.5,69.2,76.5,69.599999999999994,71.3,72.099999999999994,71.099999999999994,74.5,69.845238095238074,68.8,69.7,69.599999999999994,62,67.099999999999994,76,75.400000000000006,71,64.099999999999994,69.599999999999994,81.2,71.5,68.2,72.5,66.3,60,69.5,70,74.599999999999994,63,69.400000000000006,76.599999999999994,72.8,60.2,76.7,70.099999999999994,73.900000000000006,68.900000000000006,72.599999999999994,64.3,73.099999999999994,69,70.3,62.2,69.3,66.099999999999994,71.099999999999994,72.8,63.4,70.5,65.7,66.5,68.8,75.3,71.7,64.8,71.8,72.400000000000006,74.2,75.099999999999994,70.5,69.5,66.3,72.599999999999994,67.400000000000006,67.099999999999994,73.3,69.400000000000006,76.7,69.2,71,72.900000000000006,70.599999999999994,71.099999999999994,68.099999999999994,73.599999999999994,70.3,71.7,75.5,77,70.8,71.2,74.900000000000006,70.7,67.599999999999994,75.2,69.7,74.599999999999994,72.2,69.3,66.8,70.099999999999994,69.5,72.400000000000006,69.7,70.331764705882378,"Free Throw Percentage",66.400000000000006,69.150000000000006,71.599999999999994]
[null,{"$f":"PERCENTRANK($B16:$LF16, B16)","v":0.58499999999999996},0.113,0.40100000000000002,0.104,0.42,0.23400000000000001,0.35099999999999998,0.61699999999999999,0.25900000000000001,0.48399999999999999,0.17,6.6000000000000003E-2,0.23100000000000001,8.9999999999999993E-3,0.88600000000000001,0.433,0.104,0.65100000000000002,1.7999999999999999E-2,0.68300000000000005,0.27200000000000002,0.95199999999999996,0.47399999999999998,2.5000000000000001E-2,0.23400000000000001,0.18,3.0000000000000001E-3,0.61699999999999999,0.623,7.4999999999999997E-2,0.18,6.9000000000000006E-2,{"$f":"PERCENTRANK($B16:$LF16, AH16)","v":0.65100000000000002},0.14799999999999999,0.32200000000000001,6.0000000000000001E-3,0.55300000000000005,1.2E-2,0.39800000000000002,0,0.44900000000000001,0.84399999999999997,0.27200000000000002,0.161,0.28100000000000003,4.1000000000000002E-2,0.5,0.67400000000000004,0.75,0.28399999999999997,0.373,0.65100000000000002,0.129,0.95499999999999996,0.129,0.33200000000000002,0.61,0.70199999999999996,0.85099999999999998,0.76200000000000001,0.45500000000000002,0.23400000000000001,0.38900000000000001,0.18,{"$f":"PERCENTRANK($B16:$LF16, BN16)","v":0.69599999999999995},0.91100000000000003,2.5000000000000001E-2,0.55300000000000005,0.45500000000000002,0.17,0.35099999999999998,0.57199999999999995,0.5,0.57199999999999995,0.123,0.20799999999999999,0.25,0.21199999999999999,0.19900000000000001,0.78700000000000003,0.40100000000000002,0.67400000000000004,4.3999999999999997E-2,0.373,9.0999999999999998E-2,0.3739764705882353,8.2000000000000003E-2,0.40100000000000002,0.316,0.48399999999999999,0.3,0.51800000000000002,0.746,0.51800000000000002,0.8,0.873,0.79700000000000004,{"$f":"PERCENTRANK($B16:$LF16, CU16)","v":0.05},0.45500000000000002,0.33200000000000002,0.79400000000000004,0.373,0.433,0.91100000000000003,0.59799999999999998,0.40100000000000002,0.68300000000000005,0.42,0.14199999999999999,0.73099999999999998,0.93600000000000005,0.5,0.85099999999999998,0.36299999999999999,7.4999999999999997E-2,8.2000000000000003E-2,0.63200000000000001,0.3,0.35099999999999998,4.3999999999999997E-2,0.93,3.6999999999999998E-2,0.71199999999999997,0.873,0.40100000000000002,0.44900000000000001,0.48399999999999999,0.99299999999999999,0.63200000000000001,{"$f":"PERCENTRANK($B16:$LF16, EA16)","v":0.96799999999999997},0.75,0.879,0.221,0.59799999999999998,0.623,0.25900000000000001,0.65100000000000002,0.93600000000000005,0.433,0.28399999999999997,0.78100000000000003,0.21199999999999999,0.224,0.316,0.113,0.3,0.433,1.4999999999999999E-2,0.38900000000000001,9.0999999999999998E-2,0.70199999999999996,0.42,0.34100000000000003,0.65100000000000002,0.38600000000000001,0.75,0.92700000000000005,9.0999999999999998E-2,0.89200000000000002,0.70799999999999996,0.64500000000000002,{"$f":"PERCENTRANK($B16:$LF16, FG16)","v":0.83199999999999996},0.91100000000000003,0.33800000000000002,0.23400000000000001,0.16700000000000001,0.36299999999999999,0.3,3.4000000000000002E-2,0.28399999999999997,0.49113095238095256,{"$f":"PERCENTRANK($B16:$LR16, FQ16)","v":0.48399999999999999},0.13700000000000001,0.57899999999999996,0.51500000000000001,0.77400000000000002,0.42,0.14599999999999999,0.192,0.85299999999999998,0.33800000000000002,0.89300000000000002,0.625,0.46899999999999997,0.753,0.28299999999999997,0.69799999999999995,0.442,0.35,0.82299999999999995,0.189,0.503,0.72499999999999998,0.53,0.79800000000000004,0.14599999999999999,0.85299999999999998,0.17299999999999999,0.32900000000000001,0.97199999999999998,0.35899999999999999,0.65500000000000003,0.51500000000000001,{"$f":"PERCENTRANK($B16:$LR16, GW16)","v":0.155},0.85299999999999998,0.53600000000000003,0.75900000000000001,0.40799999999999997,0.109,0.25,0.81699999999999995,0.76800000000000002,0.94199999999999995,9.7000000000000003E-2,0.89900000000000002,0.16400000000000001,0.95399999999999996,0.48399999999999999,0.63100000000000001,0.72499999999999998,0.80700000000000005,0.125,0.96,0.53600000000000003,0.96899999999999997,5.0999999999999997E-2,0.88100000000000001,5.7000000000000002E-2,0.79800000000000004,0.90200000000000002,0.125,0.442,0.51500000000000001,0.503,0.17299999999999999,{"$f":"PERCENTRANK($B16:$LR16, IC16)","v":0.216},0.996,0.81699999999999995,0.72499999999999998,0.28899999999999998,0.98699999999999999,0.25,0.375,0.61199999999999999,0.68200000000000005,0.84399999999999997,0.83499999999999996,0.192,0.51500000000000001,0.97499999999999998,0.56699999999999995,0.72499999999999998,0.78300000000000003,0.71,0.90500000000000003,0.55852380952380998,{"$f":"PERCENTRANK($B16:$MD16, IX16)","v":0.45},0.56999999999999995,0.55800000000000005,5.1999999999999998E-2,0.30199999999999999,0.96099999999999997,0.94399999999999995,0.69699999999999995,0.10199999999999999,0.55800000000000005,1,0.73799999999999999,0.39700000000000002,0.8,0.23200000000000001,0.02,0.54400000000000004,0.6,0.91400000000000003,6.7000000000000004E-2,0.52600000000000002,0.97899999999999998,0.82299999999999995,2.3E-2,0.98199999999999998,0.60799999999999998,0.88800000000000001,0.45800000000000002,0.80800000000000005,0.114,0.85199999999999998,0.47299999999999998,{"$f":"PERCENTRANK($B16:$MD16, KD16)","v":0.629},5.8000000000000003E-2,0.51700000000000002,0.217,0.70799999999999996,0.82299999999999995,7.5999999999999998E-2,0.66100000000000003,0.19700000000000001,0.252,0.45,0.93500000000000005,0.755,0.14099999999999999,0.76400000000000001,0.79100000000000004,0.89400000000000002,0.92900000000000005,0.66100000000000003,0.54400000000000004,0.23200000000000001,0.80800000000000005,0.32,0.30199999999999999,0.87,0.52600000000000002,0.98199999999999998,0.502,0.69699999999999995,0.83499999999999996,0.67300000000000004,0.70799999999999996,{"$f":"PERCENTRANK($B16:$MD16, LJ16)","v":0.379},0.88200000000000001,0.629,0.755,0.95,0.99099999999999999,0.68500000000000005,0.71699999999999997,0.92,0.67900000000000005,0.34100000000000003,0.93200000000000005,0.56999999999999995,0.91400000000000003,0.78200000000000003,0.51700000000000002,0.27300000000000002,0.60799999999999998,0.54400000000000004,0.79100000000000004,0.56999999999999995,0.59912941176470591,null,0.24299999999999999,0.495,0.747]
["Assists Per Game",10.9,10.6,8.4,10.8,12.1,9.3000000000000007,15.5,8.6,10.3,14.1,10.9,12.1,11.1,10.9,10.9,11.4,10.8,13,10.8,9.9,13.4,13.5,12.6,11.3,9.6999999999999993,11.4,14.9,13.8,8.3000000000000007,13.8,12.5,11.3,13.1,10.7,13.1,8.1999999999999993,12.3,11.5,14.5,10.8,12.1,13.5,11.6,12.5,11.7,10,11,13.6,10.6,11.9,9.1,13,11.4,13.2,10.1,12.4,12.5,13.7,14.3,13.2,13.8,13.1,12,10.9,14.1,13.4,13,13,12.8,16,10.6,15,15,12.3,12.4,12.1,12.5,14.1,11.7,12.3,10.8,12.4,9.5,12.8,11.8,12.022352941176472,14.8,13.3,13.4,10.9,12,10.1,14.6,14,11.1,14.6,13.2,10.4,10.8,13.3,9.3000000000000007,13.7,11.7,14,11.4,11.4,11.2,12.2,13.9,11.6,13.6,9.6999999999999993,12,12.1,14,14.5,11.2,12.2,12,12,12.3,12.7,9.9,11.9,14.2,12.6,13.6,11.7,12.4,12.6,12.8,11.3,12.5,12.1,11.6,13.1,12.1,13.3,15.2,15.6,13.9,13.4,13,12.3,13.2,15,14.4,12.8,10.199999999999999,10.5,13.2,12.6,12.2,10,11.6,14.3,12.6,11.7,11.4,12.1,11.2,13.8,12,12.9,10.9,12.8,13.5,12.4,12.4,14.3,12.503571428571428,12.8,12.3,10.5,11.8,12.7,13.8,11.9,13.1,11.7,14.2,13.4,13.5,15,13.7,14.5,12.7,16.100000000000001,11,13,13.5,13.7,12.6,11.3,9.6,12.8,14.4,12.7,14,16,12.8,12.2,13,11.9,13.3,14.5,13.3,10.9,10.5,14.2,12.3,14.4,12.4,13.2,13.3,14.6,12.6,12.4,13.6,13.1,14.2,12.3,16.5,14.8,12.4,12.6,11.9,12.7,13.6,11,12,11.6,11.1,14.9,12.4,15.3,13.3,11.9,14,10.5,13.7,14.4,11.4,15.1,13.9,14.9,13.7,16.399999999999999,13.1,16,13.9,14.1,14.7,11.8,12.9,13.164285714285715,15.4,13.5,13.1,10.9,15.8,13.5,11.4,13.8,13.1,12.3,13.7,12.7,13.3,16.3,13.8,11.4,14,12.4,12.7,11.5,12.8,13.6,11.3,12.8,14.6,12.4,17.8,13.8,14.4,12.8,12.5,14.1,13.5,12.9,14.3,14.9,17.3,12.1,15.6,12.2,14.2,14.4,15.4,13.8,14.7,13.4,19.5,12.4,12.7,16.100000000000001,13.6,16.3,14,16,14.4,13.4,13,12.5,12.4,11.8,12.7,18,13,14.1,14.1,11.7,15.2,13.3,13.8,16.100000000000001,13.2,15.4,11.3,13.8,18.3,15,15,15.1,17.3,15.8,17.600000000000001,15.7,12.8,13.4,16.100000000000001,14.02470588235294,"Assists Per Game",11.825000000000001,12.8,13.975]
[null,{"$f":"PERCENTRANK($B18:$LF18, B18)","v":0.107},7.4999999999999997E-2,6.0000000000000001E-3,8.7999999999999995E-2,0.30599999999999999,1.4999999999999999E-2,0.94899999999999995,8.9999999999999993E-3,5.6000000000000001E-2,0.80300000000000005,0.107,0.30599999999999999,0.14499999999999999,0.107,0.107,0.18,8.7999999999999995E-2,0.54700000000000004,8.7999999999999995E-2,3.4000000000000002E-2,0.64800000000000002,0.67,0.44900000000000001,0.16400000000000001,2.8000000000000001E-2,0.18,0.90800000000000003,0.74,3.0000000000000001E-3,0.74,0.42399999999999999,0.16400000000000001,{"$f":"PERCENTRANK($B18:$LF18, AH18)","v":0.57199999999999995},8.5000000000000006E-2,0.57199999999999995,0,0.35099999999999998,0.20799999999999999,0.87,8.7999999999999995E-2,0.30599999999999999,0.67,0.215,0.42399999999999999,0.23100000000000001,4.1000000000000002E-2,0.13600000000000001,0.69599999999999995,7.4999999999999997E-2,0.26200000000000001,1.2E-2,0.54700000000000004,0.18,0.60399999999999998,4.7E-2,0.379,0.42399999999999999,0.71799999999999997,0.83499999999999996,0.60399999999999998,0.74,0.57199999999999995,0.28100000000000003,0.107,{"$f":"PERCENTRANK($B18:$LF18, BN18)","v":0.80300000000000005},0.64800000000000002,0.54700000000000004,0.54700000000000004,0.503,0.96199999999999997,7.4999999999999997E-2,0.92,0.92,0.35099999999999998,0.379,0.30599999999999999,0.42399999999999999,0.80300000000000005,0.23100000000000001,0.35099999999999998,8.7999999999999995E-2,0.379,2.1999999999999999E-2,0.503,0.25,0.36594117647058821,0.90100000000000002,0.623,0.64800000000000002,0.107,0.28100000000000003,4.7E-2,0.88200000000000001,0.78100000000000003,0.14499999999999999,0.88200000000000001,0.60399999999999998,{"$f":"PERCENTRANK($B18:$LF18, CU18)","v":0.06},8.7999999999999995E-2,0.623,1.4999999999999999E-2,0.71799999999999997,0.23100000000000001,0.78100000000000003,0.18,0.18,0.155,0.33500000000000002,0.76800000000000002,0.215,0.69599999999999995,2.8000000000000001E-2,0.28100000000000003,0.30599999999999999,0.78100000000000003,0.87,0.155,0.33500000000000002,0.28100000000000003,0.28100000000000003,0.35099999999999998,0.47399999999999998,3.4000000000000002E-2,0.26200000000000001,0.81899999999999995,0.44900000000000001,0.69599999999999995,0.23100000000000001,0.379,{"$f":"PERCENTRANK($B18:$LF18, EA18)","v":0.44900000000000001},0.503,0.16400000000000001,0.42399999999999999,0.30599999999999999,0.215,0.57199999999999995,0.30599999999999999,0.623,0.93600000000000005,0.95199999999999996,0.76800000000000002,0.64800000000000002,0.54700000000000004,0.35099999999999998,0.60399999999999998,0.92,0.84799999999999998,0.503,5.2999999999999999E-2,6.3E-2,0.60399999999999998,0.44900000000000001,0.33500000000000002,4.1000000000000002E-2,0.215,0.83499999999999996,0.44900000000000001,0.23100000000000001,0.18,0.30599999999999999,0.155,{"$f":"PERCENTRANK($B18:$LF18, FG18)","v":0.74},0.28100000000000003,0.53700000000000003,0.107,0.503,0.67,0.379,0.379,0.83499999999999996,0.43982142857142875,{"$f":"PERCENTRANK($B18:$LR18, FQ18)","v":0.49},0.34399999999999997,0.06,0.246,0.46300000000000002,0.72799999999999998,0.25900000000000001,0.56000000000000005,0.22500000000000001,0.81399999999999995,0.64,0.66100000000000003,0.91100000000000003,0.70699999999999996,0.86199999999999999,0.46300000000000002,0.96899999999999997,0.13100000000000001,0.53300000000000003,0.66100000000000003,0.70699999999999996,0.439,0.158,2.4E-2,0.49,0.84099999999999997,0.46300000000000002,0.77100000000000002,0.95699999999999996,0.49,0.32900000000000001,0.53300000000000003,{"$f":"PERCENTRANK($B18:$LR18, GW18)","v":0.25900000000000001},0.61199999999999999,0.86199999999999999,0.61199999999999999,0.10299999999999999,0.06,0.81399999999999995,0.34399999999999997,0.84099999999999997,0.371,0.59099999999999997,0.61199999999999999,0.875,0.439,0.371,0.68500000000000005,0.56000000000000005,0.81399999999999995,0.34399999999999997,0.98699999999999999,0.89300000000000002,0.371,0.439,0.25900000000000001,0.46300000000000002,0.68500000000000005,0.13100000000000001,0.27700000000000002,0.21,0.14000000000000001,0.89900000000000002,0.371,{"$f":"PERCENTRANK($B18:$LR18, IC18)","v":0.93200000000000005},0.61199999999999999,0.25900000000000001,0.77100000000000002,0.06,0.70699999999999996,0.84099999999999997,0.17599999999999999,0.92300000000000004,0.75900000000000001,0.89900000000000002,0.70699999999999996,0.98399999999999999,0.56000000000000005,0.95699999999999996,0.75900000000000001,0.79200000000000004,0.88700000000000001,0.246,0.52400000000000002,0.55450000000000021,{"$f":"PERCENTRANK($B18:$MD18, IX18)","v":0.92},0.64400000000000002,0.54400000000000004,0.1,0.94099999999999995,0.64400000000000002,0.17,0.70799999999999996,0.54400000000000004,0.33200000000000002,0.68799999999999994,0.44700000000000001,0.59399999999999997,0.97,0.70799999999999996,0.17,0.752,0.35799999999999998,0.44700000000000001,0.19700000000000001,0.47299999999999998,0.66700000000000004,0.152,0.47299999999999998,0.85199999999999998,0.35799999999999998,0.99099999999999999,0.70799999999999996,0.82,0.47299999999999998,0.4,0.77300000000000002,{"$f":"PERCENTRANK($B18:$MD18, KD18)","v":0.64400000000000002},0.50800000000000001,0.80800000000000005,0.876,0.98199999999999998,0.29099999999999998,0.93200000000000005,0.317,0.79400000000000004,0.82,0.92,0.70799999999999996,0.86399999999999999,0.62,1,0.35799999999999998,0.44700000000000001,0.95799999999999996,0.66700000000000004,0.97,0.752,0.94699999999999995,0.82,0.62,0.51700000000000002,0.4,0.35799999999999998,0.23799999999999999,0.44700000000000001,0.99399999999999999,0.51700000000000002,0.77300000000000002,{"$f":"PERCENTRANK($B18:$MD18, LJ18)","v":0.77300000000000002},0.217,0.91100000000000003,0.59399999999999997,0.70799999999999996,0.95799999999999996,0.57299999999999995,0.92,0.152,0.70799999999999996,0.997,0.88800000000000001,0.88800000000000001,0.90500000000000003,0.98199999999999998,0.94099999999999995,0.98799999999999999,0.93799999999999994,0.47299999999999998,0.62,0.95799999999999996,0.65855294117647067,null,0.24299999999999999,0.47099999999999997,0.747]
["Turn Overs Per Game",14.9,16,17,16.3,15.3,16.5,12.8,14.7,14.8,14.9,17,13.8,15.2,15.6,14.7,14.3,13.8,15.4,16.100000000000001,14,14.8,13.9,15.5,14.9,13.8,13,15.6,13.7,15.5,12.5,15.8,14,12.8,17.2,15.6,18.3,14.1,15,13.8,15.9,14.4,15.7,14.6,15.7,15.3,13.3,14.1,15.4,12.9,14.2,17.100000000000001,12,16.600000000000001,13.1,12.7,14.9,12.1,12,13.1,13.3,14.4,16,14,12.3,15.1,11.1,15.4,14,12.6,15.2,13.9,17.7,13.1,13.3,14.2,15.1,13.4,13.1,13.9,13.8,13.7,16.5,10.9,12.7,14,14.478823529411768,13.1,12.9,13,14.7,16.600000000000001,13.6,15.3,13.2,13.9,14.1,13.9,17.2,13.6,14,14.7,15.4,15.5,15.3,13.6,14.6,17.100000000000001,14.3,14.1,15.6,14.5,14,15.3,13.4,13.7,15.3,15.3,14,12.8,14,12.7,14.9,13.8,11,14.8,10.8,12.6,11.7,11.7,12.3,14.9,10.6,13,10.3,13,16.3,14.8,13.8,13.7,14.1,15,13.7,12.3,15.5,13.4,16,13.9,15,12.5,13.6,15,11.1,14.5,12.8,13.5,13.7,12.4,16.3,13.5,15.4,16.2,12.6,15,13.8,14.8,11.2,13.7,13,15.5,11.9,13.919047619047619,13.4,12.9,12.6,12.2,13.6,13,13.6,14.1,13,13.6,12.3,12.7,15.7,15,13.5,12,14,12.2,12.5,15.2,13.4,11.2,12.6,13,13.8,16.100000000000001,11.8,13.9,13,12.1,14,15,15.7,12.5,13.4,12.7,13.2,13.4,12,12.4,12.7,13.6,15.1,12.3,15,11.5,14.7,15.1,13.9,12.8,13.3,13.8,12.6,14,13.5,13.2,14,10.6,12,13.5,14.8,10.5,13.6,14.2,12,11.4,12,12.9,13.3,14.5,12.4,14.7,13.5,14.3,16.7,12.8,15.3,14,12,13.9,14.2,12.9,13.6,13.2,13.359523809523811,14.3,16.399999999999999,15.2,15,15.4,11.7,11.7,13.6,10.8,13.2,10.8,13.8,13.3,12.9,14.9,14.9,12.4,12.8,11.7,12.5,12,12,11.1,12.9,13.4,11.6,12.6,14.1,10.5,13.6,12.8,13.4,13.7,13.4,13.3,13.2,13.1,12.1,14.1,13.6,14.7,12.4,10.3,12.9,10,8.6,12.5,11.3,12.2,11.8,11.1,14.1,13.3,11.7,12.5,13.1,14.1,12.8,12.9,16.5,13.1,12.5,13.7,12.9,14.8,9,11.4,13.7,13.1,10.5,10.6,12.2,11.6,12.6,13.7,12.1,11.8,14.2,12.7,13.5,12,13.3,12.4,11.7,10.5,12.731764705882359,"Turn Overs Per Game",12.6,13.6,14.775]
[null,{"$f":"PERCENTRANK($B20:$LF20, B20)","v":0.75600000000000001},0.92700000000000005,0.97699999999999998,0.94599999999999995,0.83499999999999996,0.95799999999999996,0.246,0.71499999999999997,0.73699999999999999,0.75600000000000001,0.97699999999999998,0.52200000000000002,0.82199999999999995,0.89500000000000002,0.71499999999999997,0.67700000000000005,0.52200000000000002,0.86,0.93600000000000005,0.58799999999999997,0.73699999999999999,0.55600000000000005,0.879,0.75600000000000001,0.52200000000000002,0.30299999999999999,0.89500000000000002,0.496,0.879,0.183,0.92,0.58799999999999997,{"$f":"PERCENTRANK($B20:$LF20, AH20)","v":0.246},0.99,0.89500000000000002,1,0.63200000000000001,0.78100000000000003,0.52200000000000002,0.92400000000000004,0.68899999999999995,0.90800000000000003,0.70799999999999996,0.90800000000000003,0.83499999999999996,0.376,0.63200000000000001,0.86,0.27500000000000002,0.66400000000000003,0.98399999999999999,0.10100000000000001,0.96799999999999997,0.33200000000000002,0.22700000000000001,0.75600000000000001,0.13200000000000001,0.10100000000000001,0.33200000000000002,0.376,0.68899999999999995,0.92700000000000005,0.58799999999999997,0.151,{"$f":"PERCENTRANK($B20:$LF20, BN20)","v":0.81},4.1000000000000002E-2,0.86,0.58799999999999997,0.20499999999999999,0.82199999999999995,0.55600000000000005,0.996,0.33200000000000002,0.376,0.66400000000000003,0.81,0.40500000000000003,0.33200000000000002,0.55600000000000005,0.52200000000000002,0.496,0.95799999999999996,3.4000000000000002E-2,0.22700000000000001,0.58799999999999997,0.6325647058823527,0.33200000000000002,0.27500000000000002,0.30299999999999999,0.71499999999999997,0.96799999999999997,0.45500000000000002,0.83499999999999996,0.35699999999999998,0.55600000000000005,0.63200000000000001,0.55600000000000005,{"$f":"PERCENTRANK($B20:$LF20, CU20)","v":0.99},0.45500000000000002,0.58799999999999997,0.71499999999999997,0.86,0.879,0.83499999999999996,0.45500000000000002,0.70799999999999996,0.98399999999999999,0.67700000000000005,0.63200000000000001,0.89500000000000002,0.69899999999999995,0.58799999999999997,0.83499999999999996,0.40500000000000003,0.496,0.83499999999999996,0.83499999999999996,0.58799999999999997,0.246,0.58799999999999997,0.22700000000000001,0.75600000000000001,0.52200000000000002,3.6999999999999998E-2,0.73699999999999999,2.5000000000000001E-2,0.20499999999999999,7.1999999999999995E-2,7.1999999999999995E-2,{"$f":"PERCENTRANK($B20:$LF20, EA20)","v":0.151},0.75600000000000001,1.7999999999999999E-2,0.30299999999999999,6.0000000000000001E-3,0.30299999999999999,0.94599999999999995,0.73699999999999999,0.52200000000000002,0.496,0.63200000000000001,0.78100000000000003,0.496,0.151,0.879,0.40500000000000003,0.92700000000000005,0.55600000000000005,0.78100000000000003,0.183,0.45500000000000002,0.78100000000000003,4.1000000000000002E-2,0.69899999999999995,0.246,0.436,0.496,0.16700000000000001,0.94599999999999995,0.436,0.86,0.94299999999999995,{"$f":"PERCENTRANK($B20:$LF20, FG20)","v":0.20499999999999999},0.78100000000000003,0.52200000000000002,0.73699999999999999,5.2999999999999999E-2,0.496,0.30299999999999999,0.879,9.8000000000000004E-2,0.53611904761904727,{"$f":"PERCENTRANK($B20:$LR20, FQ20)","v":0.41699999999999998},0.28599999999999998,0.219,0.152,0.46600000000000003,0.317,0.46600000000000003,0.64300000000000002,0.317,0.46600000000000003,0.16400000000000001,0.24,0.91100000000000003,0.78900000000000003,0.44800000000000001,0.112,0.6,0.152,0.19500000000000001,0.82899999999999996,0.41699999999999998,0.06,0.219,0.317,0.53600000000000003,0.93899999999999995,0.10299999999999999,0.56999999999999995,0.317,0.14299999999999999,0.6,0.78900000000000003,{"$f":"PERCENTRANK($B20:$LR20, GW20)","v":0.91100000000000003},0.19500000000000001,0.41699999999999998,0.24,0.371,0.41699999999999998,0.112,0.17899999999999999,0.24,0.46600000000000003,0.81699999999999995,0.16400000000000001,0.78900000000000003,7.5999999999999998E-2,0.72199999999999998,0.81699999999999995,0.56999999999999995,0.25900000000000001,0.39,0.53600000000000003,0.219,0.6,0.44800000000000001,0.371,0.6,2.4E-2,0.112,0.44800000000000001,0.74299999999999999,1.4999999999999999E-2,0.46600000000000003,0.67300000000000004,{"$f":"PERCENTRANK($B20:$LR20, IC20)","v":0.112},7.0000000000000007E-2,0.112,0.28599999999999998,0.39,0.70699999999999996,0.17899999999999999,0.72199999999999998,0.44800000000000001,0.68500000000000005,0.97499999999999998,0.25900000000000001,0.84099999999999997,0.6,0.112,0.56999999999999995,0.67300000000000004,0.28599999999999998,0.46600000000000003,0.371,0.422261904761905,{"$f":"PERCENTRANK($B20:$MD20, IX20)","v":0.69699999999999995},0.95799999999999996,0.83499999999999996,0.79700000000000004,0.87,8.5000000000000006E-2,8.5000000000000006E-2,0.47899999999999998,3.5000000000000003E-2,0.38200000000000001,3.5000000000000003E-2,0.55000000000000004,0.4,0.3,0.77300000000000002,0.77300000000000002,0.188,0.27300000000000002,8.5000000000000006E-2,0.20499999999999999,0.11700000000000001,0.11700000000000001,0.05,0.3,0.42899999999999999,7.9000000000000001E-2,0.22900000000000001,0.65200000000000002,1.4E-2,0.47899999999999998,0.27300000000000002,0.42899999999999999,{"$f":"PERCENTRANK($B20:$MD20, KD20)","v":0.51700000000000002},0.42899999999999999,0.4,0.38200000000000001,0.35499999999999998,0.15,0.65200000000000002,0.47899999999999998,0.73199999999999998,0.188,8.0000000000000002E-3,0.3,5.0000000000000001E-3,0,0.20499999999999999,6.7000000000000004E-2,0.161,0.105,0.05,0.65200000000000002,0.4,8.5000000000000006E-2,0.20499999999999999,0.35499999999999998,0.65200000000000002,0.27300000000000002,0.3,0.96099999999999997,0.35499999999999998,0.20499999999999999,0.51700000000000002,0.3,{"$f":"PERCENTRANK($B20:$MD20, LJ20)","v":0.752},2E-3,7.0000000000000007E-2,0.51700000000000002,0.35499999999999998,1.4E-2,2.5999999999999999E-2,0.161,7.9000000000000001E-2,0.22900000000000001,0.51700000000000002,0.15,0.105,0.68200000000000005,0.252,0.45800000000000002,0.11700000000000001,0.4,0.188,8.5000000000000006E-2,1.4E-2,0.32459999999999989,null,0.23100000000000001,0.48,0.74475000000000002]
[null,{"$f":"AVERAGE(B21,B19,B17,B15,B13,B11)","v":0.3014},{"$f":"AVERAGE(C21,C19,C17,C15,C13,C11)","v":0.29300000000000004},0.27739999999999998,0.25366666666666665,0.48233333333333328,0.21066666666666667,0.59983333333333333,0.33700000000000002,0.22133333333333335,0.42599999999999999,0.26099999999999995,0.27616666666666673,0.30199999999999999,0.23679999999999998,0.38933333333333336,0.23533333333333337,0.15033333333333335,0.48979999999999996,0.27783333333333332,0.3023333333333334,0.45166666666666666,0.45983333333333332,0.52216666666666667,0.20260000000000003,0.3661666666666667,0.27216666666666661,0.49966666666666665,0.56833333333333336,0.30579999999999996,0.36166666666666664,0.49199999999999999,0.20899999999999999,0.52783333333333327,0.22216666666666662,0.35500000000000004,0.2024,0.36659999999999998,0.18333333333333332,0.5036666666666666,0.21083333333333332,0.50549999999999995,0.67533333333333345,0.2631666666666666,0.29483333333333334,0.42359999999999998,0.19749999999999998,0.3034,0.5618333333333333,0.24783333333333338,0.33133333333333331,0.30280000000000001,0.47150000000000003,0.30416666666666664,0.52949999999999997,0.13116666666666668,0.47483333333333338,0.28783333333333333,0.56859999999999999,0.60799999999999998,0.57666666666666666,0.59033333333333327,0.54516666666666669,0.37166666666666665,0.20259999999999997,0.76516666666666666,{"$f":"AVERAGE(BO21,BO19,BO17,BO15,BO13,BO11)","v":0.42699999999999999},0.34499999999999997,0.53883333333333328,0.59083333333333332,0.5764999999999999,0.19916666666666669,0.72416666666666663,0.67216666666666658,0.48149999999999998,0.45400000000000001,0.34066666666666667,0.2384,0.46349999999999997,0.29933333333333334,0.43100000000000005,0.24100000000000002,0.80033333333333323,2.9400000000000003E-2,0.40916666666666668,0.27480000000000004,0.38444196078431359,{"$f":"AVERAGE(CJ21,CJ19,CJ17,CJ15,CJ13,CJ11)","v":0.62449999999999994},0.32400000000000001,0.46083333333333343,0.314,0.50383333333333336,0.24879999999999999,0.78300000000000003,0.61116666666666664,0.38866666666666666,0.73540000000000005,0.69833333333333336,0.27366666666666672,0.37816666666666671,0.51900000000000002,0.38266666666666671,0.7503333333333333,0.42716666666666669,0.81850000000000012,0.44366666666666665,0.30683333333333335,0.49339999999999995,0.3856,0.43533333333333329,0.50020000000000009,0.6366666666666666,0.22680000000000003,0.55233333333333323,0.34560000000000002,0.44800000000000006,0.67633333333333334,0.32833333333333331,0.33366666666666672,0.27599999999999997,0.22040000000000001,0.60299999999999998,0.38083333333333336,0.30783333333333335,0.40783333333333327,0.67533333333333345,0.35083333333333333,0.4363333333333333,0.5681666666666666,0.45116666666666666,0.61099999999999999,0.70816666666666672,0.28533333333333333,0.3833333333333333,0.3805,0.34283333333333332,0.5804999999999999,0.56519999999999992,0.75416666666666654,0.60199999999999998,0.7683333333333332,0.78766666666666663,0.52966666666666662,0.32466666666666666,0.57966666666666666,0.35266666666666663,0.68199999999999994,0.54683333333333328,0.36883333333333335,0.28880000000000006,0.34059999999999996,0.58749999999999991,{"$f":"AVERAGE(EW21,EW19,EW17,EW15,EW13,EW11)","v":0.46599999999999997},0.52279999999999993,0.223,0.30599999999999999,0.73550000000000004,0.51050000000000006,0.42766666666666664,0.6156666666666667,0.49649999999999994,0.50160000000000005,0.74916666666666665,0.55783333333333329,0.64900000000000002,0.29383333333333334,0.40866666666666668,0.38516666666666666,0.30180000000000001,0.55066666666666664,0.39949999999999997,0.48218650793650814,{"$f":"AVERAGE(FQ21,FQ19,FQ17,FQ15,FQ13,FQ11)","v":0.64849999999999997},0.36299999999999999,0.23833333333333337,0.40250000000000002,0.44533333333333336,0.40366666666666662,0.27250000000000002,0.36683333333333334,0.39633333333333337,0.54900000000000004,0.55616666666666659,0.53420000000000001,0.86649999999999994,0.77899999999999991,0.6748333333333334,0.57283333333333331,0.73783333333333345,0.14600000000000002,0.61959999999999993,0.42500000000000004,0.64533333333333331,0.48916666666666675,0.37916666666666671,0.36366666666666664,0.29249999999999998,0.75600000000000012,0.29783333333333334,0.58616666666666672,0.8081666666666667,0.32733333333333331,0.46883333333333327,0.50416666666666676,0.41833333333333328,0.68116666666666659,0.59399999999999997,0.5988,0.32999999999999996,0.40650000000000003,0.56950000000000001,0.39999999999999991,0.68966666666666665,0.41983333333333328,0.57750000000000001,0.59799999999999998,0.57366666666666666,0.50166666666666659,0.54016666666666657,0.68833333333333335,0.50916666666666666,0.60699999999999998,0.20516666666666664,0.84950000000000003,0.65950000000000009,0.48883333333333329,0.32866666666666666,0.51266666666666671,0.27150000000000002,0.46666666666666673,0.33516666666666667,0.38100000000000001,0.3721666666666667,0.16516666666666668,0.65716666666666657,0.52200000000000013,0.49499999999999994,{"$f":"AVERAGE(ID21,ID19,ID17,ID15,ID13,ID11)","v":0.63950000000000007},0.4378333333333333,0.68300000000000016,0.33233333333333331,0.6885,0.52499999999999991,0.5585,0.58900000000000008,0.66849999999999987,0.91200000000000003,0.61499999999999988,0.69966666666666655,0.59383333333333332,0.75216666666666665,0.67149999999999999,0.71316666666666662,0.76916666666666667,0.40350000000000003,0.65683333333333327,0.526651984126984,{"$f":"AVERAGE(IX21,IX19,IX17,IX15,IX13,IX11)","v":0.65350000000000008},0.73399999999999999,0.6956,0.2354,0.6226666666666667,0.64700000000000002,0.40099999999999997,0.62466666666666659,0.35416666666666674,0.48383333333333334,0.75316666666666665,0.46816666666666668,0.47966666666666663,0.71433333333333326,0.72179999999999989,0.35,0.60216666666666663,0.30033333333333334,0.53150000000000008,0.23433333333333331,0.54900000000000004,0.62166666666666659,0.47899999999999993,0.31066666666666665,0.64400000000000002,0.32150000000000001,0.82250000000000012,0.71566666666666656,0.73566666666666658,0.53866666666666674,0.55016666666666658,0.6366666666666666,0.67216666666666669,0.47016666666666668,0.65800000000000003,0.4921666666666667,0.71799999999999997,0.53083333333333338,0.68779999999999997,0.4194,0.52800000000000002,0.50816666666666666,0.60116666666666674,0.74516666666666664,0.47966666666666669,0.45866666666666661,0.8181666666666666,0.41949999999999998,0.51333333333333331,0.74119999999999997,0.5548333333333334,0.77683333333333326,0.62950000000000006,0.68483333333333329,0.6323333333333333,0.44900000000000001,0.81100000000000005,0.48199999999999998,0.70599999999999996,0.53533333333333333,0.52299999999999991,0.83483333333333321,0.72566666666666668,0.7360000000000001,0.53049999999999997,{"$f":"AVERAGE(LK21,LK19,LK17,LK15,LK13,LK11)","v":0.38583333333333342},0.72299999999999998,0.7380000000000001,0.81933333333333325,0.80633333333333335,0.48199999999999998,0.76449999999999996,0.46549999999999997,0.59683333333333333,0.74966666666666659,0.78616666666666657,0.68079999999999996,0.86983333333333335,0.70400000000000007,0.71899999999999997,0.61350000000000005,0.70199999999999996,0.65533333333333332,0.71099999999999997,0.62666666666666659,0.6024117647058822,null,0.35106666666666664,0.48866666666666669,0.63116666666666665]
["Overall Offensive Skill Set % Tile Ranking",{"$f":"PERCENTRANK($B22:$LF22,B22)","v":0.161},0.14199999999999999,0.123,9.0999999999999998E-2,0.49299999999999999,4.1000000000000002E-2,0.72699999999999998,0.23699999999999999,0.05,0.39200000000000002,9.4E-2,0.12,0.16700000000000001,7.1999999999999995E-2,0.33500000000000002,6.6000000000000003E-2,8.9999999999999993E-3,0.50600000000000001,0.126,0.17,0.433,0.443,0.57199999999999995,3.1E-2,0.28100000000000003,0.104,0.52500000000000002,0.66700000000000004,0.183,0.27200000000000002,0.50900000000000001,3.6999999999999998E-2,{"$f":"PERCENTRANK($B22:$LF22,AH22)","v":0.58799999999999997},5.2999999999999999E-2,0.26800000000000002,2.5000000000000001E-2,0.28399999999999997,1.4999999999999999E-2,0.53700000000000003,4.3999999999999997E-2,0.54700000000000004,0.84099999999999997,9.8000000000000004E-2,0.14799999999999999,0.38600000000000001,1.7999999999999999E-2,0.17699999999999999,0.65800000000000003,8.5000000000000006E-2,0.224,0.17399999999999999,0.46800000000000003,0.18,0.59399999999999997,3.0000000000000001E-3,0.47099999999999997,0.13200000000000001,0.67,0.746,0.68600000000000005,0.70799999999999996,0.623,0.29399999999999998,2.8000000000000001E-2,{"$f":"PERCENTRANK($B22:$LF22,BN22)","v":0.95199999999999996},0.39500000000000002,0.25,0.61699999999999999,0.71199999999999997,0.68300000000000005,2.1999999999999999E-2,0.90800000000000003,0.83199999999999996,0.48399999999999999,0.436,0.24299999999999999,7.9000000000000001E-2,0.44900000000000001,0.155,0.40500000000000003,8.2000000000000003E-2,0.97399999999999998,0,0.37,0.113,0.33074117647058832,0.77200000000000002,0.20499999999999999,0.44600000000000001,0.19900000000000001,0.54100000000000004,8.7999999999999995E-2,0.96799999999999997,0.753,0.33200000000000002,0.91400000000000003,0.879,{"$f":"PERCENTRANK($B22:$LF22,CU22)","v":0.11},0.3,0.56599999999999995,0.316,0.93600000000000005,0.39800000000000002,0.98699999999999999,0.41699999999999998,0.189,0.51500000000000001,0.32900000000000001,0.40799999999999997,0.52800000000000002,0.78400000000000003,0.06,0.64200000000000002,0.253,0.42399999999999999,0.84799999999999998,0.215,0.23100000000000001,0.11700000000000001,4.7E-2,0.74,0.31,0.193,0.36299999999999999,0.84099999999999997,0.25900000000000001,0.41099999999999998,0.66400000000000003,0.43,{"$f":"PERCENTRANK($B22:$LF22,EA22)","v":0.75},0.88900000000000001,0.129,0.31900000000000001,0.30599999999999999,0.246,0.69599999999999995,0.66100000000000003,0.94599999999999995,0.73399999999999999,0.95499999999999996,0.97099999999999997,0.59799999999999998,0.20799999999999999,0.69299999999999995,0.26200000000000001,0.85399999999999998,0.626,0.29099999999999998,0.13600000000000001,0.24,0.70199999999999996,0.45200000000000001,0.57499999999999996,5.6000000000000001E-2,0.186,0.91700000000000004,0.55600000000000005,0.40100000000000002,0.75900000000000001,0.52200000000000002,0.53100000000000003,{"$f":"PERCENTRANK($B22:$LF22,FG22)","v":0.93300000000000005},0.65100000000000002,0.80600000000000005,0.14499999999999999,0.36699999999999999,0.32500000000000001,0.16400000000000001,0.63900000000000001,0.34100000000000003,0.49364285714285722,{"$f":"PERCENTRANK($B22:$LR22,FQ22)","v":0.78600000000000003},0.26500000000000001,7.2999999999999995E-2,0.34100000000000003,0.40799999999999997,0.34699999999999998,0.10299999999999999,0.27700000000000002,0.32900000000000001,0.61799999999999999,0.63700000000000001,0.59699999999999998,0.996,0.95699999999999996,0.82,0.66400000000000003,0.91100000000000003,6.0000000000000001E-3,0.746,0.378,0.78,0.49299999999999999,0.29199999999999998,0.26800000000000002,0.13400000000000001,0.93899999999999995,0.14599999999999999,0.68500000000000005,0.97199999999999998,0.20399999999999999,0.45100000000000001,0.53300000000000003,{"$f":"PERCENTRANK($B22:$LR22,GW22)","v":0.36199999999999999},0.83199999999999996,0.70399999999999996,0.71,0.21299999999999999,0.35,0.66100000000000003,0.33500000000000002,0.85299999999999998,0.371,0.67600000000000005,0.70699999999999996,0.66700000000000004,0.52400000000000002,0.60899999999999999,0.84699999999999998,0.54200000000000004,0.72799999999999998,3.3000000000000002E-2,0.99299999999999999,0.80400000000000005,0.49,0.21,0.54800000000000004,9.7000000000000003E-2,0.44500000000000001,0.22500000000000001,0.30099999999999999,0.28599999999999998,1.2E-2,0.79800000000000004,0.55700000000000005,{"$f":"PERCENTRANK($B22:$LR22,IC22)","v":0.50900000000000001},0.77400000000000002,0.40200000000000002,0.83799999999999997,0.219,0.85,0.56999999999999995,0.64300000000000002,0.69199999999999995,0.80700000000000005,1,0.74,0.86199999999999999,0.70099999999999996,0.92900000000000005,0.81,0.871,0.95099999999999996,0.34399999999999997,0.79500000000000004,0.55896428571428614,{"$f":"PERCENTRANK($B22:$MD22,IX22)","v":0.77300000000000002},0.89100000000000001,0.84099999999999997,6.4000000000000001E-2,0.73199999999999998,0.76400000000000001,0.32600000000000001,0.73799999999999999,0.247,0.47,0.92900000000000005,0.432,0.45,0.86699999999999999,0.879,0.23799999999999999,0.7,0.14699999999999999,0.57299999999999995,5.8000000000000003E-2,0.59699999999999998,0.72899999999999998,0.44700000000000001,0.182,0.75800000000000001,0.188,0.98499999999999999,0.87,0.9,0.58199999999999996,0.60199999999999998,0.75,{"$f":"PERCENTRANK($B22:$MD22,KD22)","v":0.8},0.438,0.78500000000000003,0.48499999999999999,0.873,0.56999999999999995,0.82899999999999996,0.35199999999999998,0.55800000000000005,0.52,0.69399999999999995,0.91400000000000003,0.45200000000000001,0.41099999999999998,0.97599999999999998,0.35499999999999998,0.53200000000000003,0.91100000000000003,0.61099999999999999,0.95,0.74399999999999999,0.82599999999999996,0.747,0.4,0.97299999999999998,0.45800000000000002,0.85499999999999998,0.57899999999999996,0.54700000000000004,0.98799999999999999,0.88800000000000001,0.90200000000000002,{"$f":"PERCENTRANK($B22:$MD22,LJ22)","v":0.56699999999999995},0.308,0.88200000000000001,0.90800000000000003,0.98199999999999998,0.96699999999999997,0.45800000000000002,0.93799999999999994,0.42299999999999999,0.68200000000000005,0.92,0.95799999999999996,0.81399999999999995,0.997,0.85199999999999998,0.876,0.71699999999999997,0.85,0.77600000000000002,0.86099999999999999,0.74099999999999999,0.671870588235294,"Overall Offensive Skill Set % Tile Ranking",0.24975,0.4995,0.74924999999999997]
["Defensive Rebounds Per Game",30.3,37.700000000000003,32.9,34.4,31.4,35.6,34.200000000000003,30.3,34.6,32.700000000000003,35.299999999999997,29.4,33.4,36.299999999999997,35,30.5,32.700000000000003,31.8,36.5,32.299999999999997,32.9,34.9,36,34,33.6,31.1,37.9,33.299999999999997,33.1,32.1,28.1,37,34.5,36.6,28.7,35.4,30.9,35,39.1,39.6,32.4,31.8,34.700000000000003,30.2,34.6,33.4,33.200000000000003,30.4,31.1,36.4,35,33.4,32.799999999999997,32,32.799999999999997,30.8,32.4,34.5,35.299999999999997,33.200000000000003,34.4,36.799999999999997,30.4,33.6,36.200000000000003,33.700000000000003,35.299999999999997,34.299999999999997,34.1,37.299999999999997,29,36.5,34.5,28.2,34.700000000000003,34.299999999999997,36.5,32.299999999999997,31.3,33.700000000000003,32.9,34.299999999999997,27.1,35.6,32.6,33.542352941176475,34.9,33.9,31.7,37.4,31.7,33.9,32.299999999999997,34.200000000000003,34.200000000000003,32.299999999999997,33.700000000000003,34.6,35.5,37.200000000000003,32.4,35.1,35.700000000000003,33.9,29.8,29.6,30.6,36.4,31.3,33.299999999999997,33.6,31.1,34.4,33.200000000000003,35.200000000000003,35.799999999999997,35.4,36.799999999999997,28.4,38.299999999999997,34.700000000000003,36.9,28.5,29.3,31.3,34.4,39.299999999999997,33.200000000000003,34.200000000000003,29.6,35.9,31.5,34.700000000000003,30.8,32.9,36.200000000000003,39.799999999999997,32.5,33.1,35.5,33.6,31,33.5,31.7,36,37.799999999999997,34.6,35.6,35.9,34.6,38.200000000000003,29.6,33.700000000000003,31.2,34.6,33,34.5,38.5,35,31.9,39.700000000000003,33.200000000000003,31.1,38.299999999999997,35.4,32.4,32.700000000000003,33.4,34.299999999999997,33.700000000000003,33.938095238095229,35.9,43.4,33.200000000000003,34.1,34.799999999999997,29.1,34.299999999999997,36,32.6,36.1,35.1,37.1,37.1,33.9,34.299999999999997,33,34.700000000000003,34.700000000000003,34.4,37.700000000000003,33.299999999999997,32.299999999999997,37.200000000000003,37.799999999999997,34.5,35.9,36.1,33.6,29.3,32.700000000000003,35.4,34.4,36.4,33.799999999999997,31.1,39.6,34.4,32.5,34.4,33,34.799999999999997,30.3,36.4,34.700000000000003,33.5,30.1,34.5,34,35.1,37.5,35.5,34.799999999999997,38.4,39.700000000000003,34.799999999999997,35.1,40,34.799999999999997,33,36,34.9,33.299999999999997,34.4,37.299999999999997,31.2,36,34,32.700000000000003,36.4,35,33.200000000000003,36.200000000000003,37.200000000000003,37.799999999999997,38.9,30.2,40.799999999999997,36.299999999999997,26.4,32.9,32.799999999999997,33.700000000000003,35.6,34.700000000000003,34.810714285714283,34.5,39.299999999999997,36.200000000000003,33.299999999999997,39.4,35.9,29.1,31.9,36.6,37,35.200000000000003,32.799999999999997,35,37.299999999999997,39.9,38.1,35.9,37.200000000000003,35.200000000000003,37.299999999999997,36.4,38.9,31.4,39.799999999999997,36.1,34.4,36,35.799999999999997,34.700000000000003,36.700000000000003,36.200000000000003,37.1,34,40.1,36.799999999999997,37.9,39,34.9,35.1,34,38.1,35.6,29.8,31.9,34.4,33.299999999999997,35.200000000000003,32.700000000000003,32.799999999999997,34.799999999999997,32.9,38.4,35.1,36.700000000000003,36.4,38,33.6,37.299999999999997,31.3,37.6,35.1,35.700000000000003,34.799999999999997,34.5,38.799999999999997,34.4,36.200000000000003,37.1,34.799999999999997,32.4,31.1,34.6,36.799999999999997,36.1,38.700000000000003,37.700000000000003,36.4,36.5,35.200000000000003,37.299999999999997,45.9,39.1,37,39.200000000000003,35.5,35.872941176470583,"Defensive Rebounds Per Game",32.9,34.6,36.200000000000003]
[null,{"$f":"PERCENTRANK($B24:$LF24,B24)","v":6.6000000000000003E-2},0.89500000000000002,0.253,0.46500000000000002,0.13600000000000001,0.68899999999999995,0.433,6.6000000000000003E-2,0.52200000000000002,0.218,0.65800000000000003,3.6999999999999998E-2,0.33200000000000002,0.77800000000000002,0.60399999999999998,8.2000000000000003E-2,0.218,0.155,0.80600000000000005,0.17699999999999999,0.253,0.59099999999999997,0.73399999999999999,0.41099999999999998,0.35399999999999998,0.10100000000000001,0.91100000000000003,0.313,0.28399999999999997,0.17399999999999999,6.0000000000000001E-3,0.84099999999999997,{"$f":"PERCENTRANK($B24:$LF24,AH24)","v":0.5},0.81599999999999995,1.7999999999999999E-2,0.66700000000000004,9.4E-2,0.60399999999999998,0.95499999999999996,0.96799999999999997,0.193,0.155,0.54100000000000004,0.06,0.52200000000000002,0.33200000000000002,0.29099999999999998,7.4999999999999997E-2,0.10100000000000001,0.78400000000000003,0.60399999999999998,0.33200000000000002,0.23699999999999999,0.17,0.23699999999999999,8.7999999999999995E-2,0.193,0.5,0.65800000000000003,0.29099999999999998,0.46500000000000002,0.82899999999999996,7.4999999999999997E-2,0.35399999999999998,{"$f":"PERCENTRANK($B24:$LF24,BN24)","v":0.76200000000000001},0.373,0.65800000000000003,0.44600000000000001,0.42699999999999999,0.87,2.1999999999999999E-2,0.80600000000000005,0.5,8.9999999999999993E-3,0.54100000000000004,0.44600000000000001,0.80600000000000005,0.17699999999999999,0.123,0.373,0.253,0.44600000000000001,3.0000000000000001E-3,0.68899999999999995,0.21199999999999999,0.40251764705882359,0.59099999999999997,0.39500000000000002,0.14499999999999999,0.88600000000000001,0.14499999999999999,0.39500000000000002,0.17699999999999999,0.433,0.433,0.17699999999999999,0.373,{"$f":"PERCENTRANK($B24:$LF24,CU24)","v":0.52200000000000002},0.68,0.85699999999999998,0.193,0.623,0.70499999999999996,0.39500000000000002,0.05,4.1000000000000002E-2,8.5000000000000006E-2,0.78400000000000003,0.123,0.313,0.35399999999999998,0.10100000000000001,0.46500000000000002,0.29099999999999998,0.64500000000000002,0.70799999999999996,0.66700000000000004,0.82899999999999996,1.2E-2,0.93,0.54100000000000004,0.83799999999999997,1.4999999999999999E-2,3.1E-2,0.123,0.46500000000000002,0.95799999999999996,0.29099999999999998,0.433,{"$f":"PERCENTRANK($B24:$LF24,EA24)","v":4.1000000000000002E-2},0.71499999999999997,0.14199999999999999,0.54100000000000004,8.7999999999999995E-2,0.253,0.76200000000000001,0.98099999999999998,0.20499999999999999,0.28399999999999997,0.68,0.35399999999999998,9.8000000000000004E-2,0.34399999999999997,0.14499999999999999,0.73399999999999999,0.90100000000000002,0.52200000000000002,0.68899999999999995,0.71499999999999997,0.52200000000000002,0.92700000000000005,4.1000000000000002E-2,0.373,0.11700000000000001,0.52200000000000002,0.27200000000000002,0.5,0.94299999999999995,0.60399999999999998,0.161,0.97399999999999998,{"$f":"PERCENTRANK($B24:$LF24,FG24)","v":0.29099999999999998},0.10100000000000001,0.93,0.66700000000000004,0.193,0.218,0.33200000000000002,0.44600000000000001,0.373,0.43951190476190466,{"$f":"PERCENTRANK($B24:$LR24,FQ24)","v":0.71299999999999997},1,0.28599999999999998,0.41699999999999998,0.56399999999999995,2.4E-2,0.435,0.73099999999999998,0.21,0.75,0.621,0.84699999999999998,0.84699999999999998,0.38700000000000001,0.435,0.26800000000000002,0.53600000000000003,0.53600000000000003,0.45400000000000001,0.89600000000000002,0.307,0.17299999999999999,0.85899999999999999,0.90200000000000002,0.49,0.71299999999999997,0.75,0.34699999999999998,0.03,0.216,0.66400000000000003,0.45400000000000001,{"$f":"PERCENTRANK($B24:$LR24,GW24)","v":0.78300000000000003},0.38400000000000001,9.7000000000000003E-2,0.96899999999999997,0.45400000000000001,0.20399999999999999,0.45400000000000001,0.26800000000000002,0.56399999999999995,6.4000000000000001E-2,0.78300000000000003,0.53600000000000003,0.33800000000000002,5.3999999999999999E-2,0.49,0.40200000000000002,0.621,0.89,0.67600000000000005,0.56399999999999995,0.93500000000000005,0.97499999999999998,0.56399999999999995,0.621,0.99,0.56399999999999995,0.26800000000000002,0.73099999999999998,0.59099999999999997,0.307,0.45400000000000001,0.871,{"$f":"PERCENTRANK($B24:$LR24,IC24)","v":0.115},0.73099999999999998,0.40200000000000002,0.216,0.78300000000000003,0.60299999999999998,0.28599999999999998,0.75900000000000001,0.85899999999999999,0.90200000000000002,0.94799999999999995,5.7000000000000002E-2,0.996,0.77700000000000002,0,0.25,0.23400000000000001,0.36499999999999999,0.68500000000000005,0.53600000000000003,0.53371428571428614,{"$f":"PERCENTRANK($B24:$MD24,IX24)","v":0.47299999999999998},0.95799999999999996,0.74099999999999999,0.29699999999999999,0.96399999999999997,0.69399999999999995,2.3E-2,0.152,0.8,0.82599999999999996,0.62,0.22600000000000001,0.58199999999999996,0.85799999999999998,0.98499999999999999,0.91100000000000003,0.69399999999999995,0.84699999999999998,0.62,0.85799999999999998,0.76400000000000001,0.94099999999999995,0.129,0.97899999999999998,0.72899999999999998,0.438,0.71099999999999997,0.68799999999999994,0.51700000000000002,0.80500000000000005,0.74099999999999999,0.83499999999999996,{"$f":"PERCENTRANK($B24:$MD24,KD24)","v":0.38800000000000001},0.99099999999999999,0.81100000000000005,0.90200000000000002,0.94699999999999995,0.56999999999999995,0.6,0.38800000000000001,0.91100000000000003,0.66700000000000004,4.7E-2,0.152,0.438,0.29699999999999999,0.62,0.20799999999999999,0.22600000000000001,0.54400000000000004,0.24099999999999999,0.92600000000000005,0.6,0.80500000000000005,0.76400000000000001,0.90800000000000003,0.33500000000000002,0.85799999999999998,0.11700000000000001,0.88200000000000001,0.6,0.68200000000000005,0.54400000000000004,0.47299999999999998,{"$f":"PERCENTRANK($B24:$MD24,LJ24)","v":0.93799999999999994},0.438,0.74099999999999999,0.83499999999999996,0.54400000000000004,0.182,9.4E-2,0.497,0.81100000000000005,0.72899999999999998,0.93500000000000005,0.88500000000000001,0.76400000000000001,0.78800000000000003,0.62,0.85799999999999998,1,0.95,0.82599999999999996,0.95499999999999996,0.65500000000000003,0.64580000000000004,null,0.24299999999999999,0.495,0.73799999999999999]
["Steals Per Game",6.2,5.9,4.7,6.4,5.0999999999999996,5.0999999999999996,5,6.1,5.8,6.5,7.3,6.2,5.8,6.3,6.4,7.4,7.4,6,8.6,5.5,6.1,6.5,7.7,5.7,6.6,5.4,8,4.5999999999999996,7.4,5.3,6.5,6.9,6.9,6.1,6.5,5.5,4.5,7.7,6.5,7.6,3.7,6.2,4.8,7.7,6.9,5.4,5.9,4.9000000000000004,4.8,6.9,6.1,5,6.1,5.7,6.9,5.0999999999999996,5.4,5.2,6.2,8.1999999999999993,6.2,7.6,6.9,6.9,8.3000000000000007,4.9000000000000004,5.7,6.8,5.8,5,5.2,6.5,5.7,6.1,6.1,7.5,4.7,5.2,6.9,7.8,6.4,5.4,5.9,6.9,7.5,6.1964705882352904,5.0999999999999996,6.2,6.5,6.6,5.3,4.8,8.3000000000000007,8.6,5.2,5.4,7.1,8.6,8.3000000000000007,5,7.6,8.1999999999999993,7.5,6.7,5.3,4.9000000000000004,5.0999999999999996,5.8,7.9,4.8,8.1999999999999993,7.1,5.8,7.5,7.4,7.2,6,5.7,6.9,6.5,5.6,9,6.5,7.5,7.9,6.1,6.6,6.8,7.1,5.4,5.0999999999999996,7.1,7.4,7.9,8.3000000000000007,6.9,6.7,8.4,7.9,6.2,5.9,6.6,6.8,7.5,6.9,5.6,8,7,7,10.4,4.4000000000000004,6,7.3,7,5.8,5.0999999999999996,6.1,5.6,5.4,8.1,5.2,6.1,8.5,6.5,5.3,6.3,7.8,6.8,5.8,5.4,6.6630952380952344,8.1999999999999993,5.6,6.4,6.3,5.5,7,5.6,8.4,5.4,7.6,6.3,5.4,6,6.8,4.8,3.9,9.3000000000000007,6.7,7.3,8.6,8.5,4.5,5.5,4.5999999999999996,6.5,8.1,9.4,8.1,7.9,7.3,6.1,8.3000000000000007,7.4,6.5,4.8,8.6,7.9,7,7.7,5.8,7.8,6.5,8.3000000000000007,5,8.3000000000000007,6.2,7.4,7,8.5,6.4,6.5,8.4,5.5,5.5,5.9,7.5,9.1,4.5999999999999996,6.4,7.4,4.3,6.4,8.5,6,7.8,7.6,5.8,7.4,4.0999999999999996,6.1,6.1,4.8,4.9000000000000004,5.4,6.2,7.5,5.7,5.6,7.2,7.1,6.2,8.1,8.1,7.8,6.7202380952380967,7.4,7.9,7,6.9,8.9,4.0999999999999996,7,8.5,7.8,5.5,5.5,5.3,9.3000000000000007,7,6.9,6.6,5.5,7.2,4.8,6.8,6.1,5.6,6.1,6.3,5.4,10.6,7.7,7.4,6.6,6,6.9,6.4,5.8,6.8,5,6.4,8.5,6.4,7.1,5.7,6.1,8.6999999999999993,6.2,6.5,5.0999999999999996,6.8,7.2,6.5,6,4.9000000000000004,7.3,7.4,7.3,7.2,5.9,6.1,8.4,5.8,5.3,8,7.7,5,6,7.9,9.3000000000000007,5.3,6.7,6.7,6.6,8.5,4.9000000000000004,6.8,5.7,6.4,8.6,6.3,7.4,8,8.9,7.4,7,7.6,6.2,6.5,9.9,6.8082352941176474,"Steals Per Game",5.7,6.5,7.4]
[null,{"$f":"PERCENTRANK($B26:$LF26,B26)","v":0.40500000000000003},0.30599999999999999,3.4000000000000002E-2,0.45500000000000002,0.10100000000000001,0.10100000000000001,8.2000000000000003E-2,0.34799999999999998,0.27200000000000002,0.48699999999999999,0.70799999999999996,0.40500000000000003,0.27200000000000002,0.439,0.45500000000000002,0.72699999999999998,0.72699999999999998,0.32500000000000001,0.95799999999999996,0.19900000000000001,0.34799999999999998,0.48699999999999999,0.80600000000000005,0.25,0.53700000000000003,0.161,0.86699999999999999,2.5000000000000001E-2,0.72699999999999998,0.14199999999999999,0.48699999999999999,0.59799999999999998,{"$f":"PERCENTRANK($B26:$LF26,AH26)","v":0.59799999999999998},0.34799999999999998,0.48699999999999999,0.19900000000000001,1.7999999999999999E-2,0.80600000000000005,0.48699999999999999,0.79100000000000004,0,0.40500000000000003,4.1000000000000002E-2,0.80600000000000005,0.59799999999999998,0.161,0.30599999999999999,6.6000000000000003E-2,4.1000000000000002E-2,0.59799999999999998,0.34799999999999998,8.2000000000000003E-2,0.34799999999999998,0.25,0.59799999999999998,0.10100000000000001,0.161,0.126,0.40500000000000003,0.89200000000000002,0.40500000000000003,0.79100000000000004,0.59799999999999998,0.59799999999999998,{"$f":"PERCENTRANK($B26:$LF26,BN26)","v":0.90500000000000003},6.6000000000000003E-2,0.25,0.57199999999999995,0.27200000000000002,8.2000000000000003E-2,0.126,0.48699999999999999,0.25,0.34799999999999998,0.34799999999999998,0.76500000000000001,3.4000000000000002E-2,0.126,0.59799999999999998,0.82499999999999996,0.45500000000000002,0.161,0.30599999999999999,0.59799999999999998,0.76500000000000001,0.40045882352941176,0.10100000000000001,0.40500000000000003,0.48699999999999999,0.53700000000000003,0.14199999999999999,4.1000000000000002E-2,0.90500000000000003,0.95799999999999996,0.126,0.161,0.67400000000000004,{"$f":"PERCENTRANK($B26:$LF26,CU26)","v":0.95799999999999996},0.90500000000000003,8.2000000000000003E-2,0.79100000000000004,0.89200000000000002,0.76500000000000001,0.56000000000000005,0.14199999999999999,6.6000000000000003E-2,0.10100000000000001,0.27200000000000002,0.84399999999999997,4.1000000000000002E-2,0.89200000000000002,0.67400000000000004,0.27200000000000002,0.76500000000000001,0.72699999999999998,0.69299999999999995,0.32500000000000001,0.25,0.59799999999999998,0.48699999999999999,0.22700000000000001,0.98099999999999998,0.48699999999999999,0.76500000000000001,0.84399999999999997,0.34799999999999998,0.53700000000000003,0.57199999999999995,0.67400000000000004,{"$f":"PERCENTRANK($B26:$LF26,EA26)","v":0.161},0.10100000000000001,0.67400000000000004,0.72699999999999998,0.84399999999999997,0.90500000000000003,0.59799999999999998,0.56000000000000005,0.92700000000000005,0.84399999999999997,0.40500000000000003,0.30599999999999999,0.53700000000000003,0.57199999999999995,0.76500000000000001,0.59799999999999998,0.22700000000000001,0.86699999999999999,0.64500000000000002,0.64500000000000002,0.996,1.4999999999999999E-2,0.32500000000000001,0.70799999999999996,0.64500000000000002,0.27200000000000002,0.10100000000000001,0.34799999999999998,0.22700000000000001,0.161,0.876,0.126,{"$f":"PERCENTRANK($B26:$LF26,FG26)","v":0.34799999999999998},0.93899999999999995,0.48699999999999999,0.14199999999999999,0.439,0.82499999999999996,0.57199999999999995,0.27200000000000002,0.161,0.51151190476190489,{"$f":"PERCENTRANK($B26:$LR26,FQ26)","v":0.89},0.22800000000000001,0.45400000000000001,0.439,0.20100000000000001,0.64900000000000002,0.22800000000000001,0.92300000000000004,0.16400000000000001,0.78900000000000003,0.439,0.16400000000000001,0.32600000000000001,0.57599999999999996,3.9E-2,3.0000000000000001E-3,0.98399999999999999,0.55700000000000005,0.71,0.95699999999999996,0.93500000000000005,1.7999999999999999E-2,0.20100000000000001,2.4E-2,0.48399999999999999,0.875,0.99299999999999999,0.875,0.84099999999999997,0.71,0.35,0.90200000000000002,{"$f":"PERCENTRANK($B26:$LR26,GW26)","v":0.72799999999999998},0.48399999999999999,3.9E-2,0.95699999999999996,0.84099999999999997,0.64900000000000002,0.80400000000000005,0.27400000000000002,0.82299999999999995,0.48399999999999999,0.90200000000000002,8.2000000000000003E-2,0.90200000000000002,0.40500000000000003,0.72799999999999998,0.64900000000000002,0.93500000000000005,0.45400000000000001,0.48399999999999999,0.92300000000000004,0.20100000000000001,0.20100000000000001,0.307,0.76500000000000001,0.98099999999999998,2.4E-2,0.45400000000000001,0.72799999999999998,1.2E-2,0.45400000000000001,0.93500000000000005,0.32600000000000001,{"$f":"PERCENTRANK($B26:$LR26,IC26)","v":0.82299999999999995},0.78900000000000003,0.27400000000000002,0.72799999999999998,6.0000000000000001E-3,0.35,0.35,3.9E-2,6.4000000000000001E-2,0.16400000000000001,0.40500000000000003,0.76500000000000001,0.25,0.22800000000000001,0.69499999999999995,0.67600000000000005,0.40500000000000003,0.875,0.875,0.82299999999999995,0.52913095238095276,{"$f":"PERCENTRANK($B26:$MD26,IX26)","v":0.71699999999999997},0.83499999999999996,0.63800000000000001,0.59399999999999997,0.97,5.0000000000000001E-3,0.63800000000000001,0.92900000000000005,0.81699999999999995,0.19400000000000001,0.19400000000000001,0.13800000000000001,0.98199999999999998,0.63800000000000001,0.59399999999999997,0.52600000000000002,0.19400000000000001,0.68500000000000005,3.7999999999999999E-2,0.56699999999999995,0.33800000000000002,0.22,0.33800000000000002,0.42599999999999999,0.158,1,0.8,0.71699999999999997,0.52600000000000002,0.314,0.59399999999999997,0.44400000000000001,{"$f":"PERCENTRANK($B26:$MD26,KD26)","v":0.26400000000000001},0.56699999999999995,7.9000000000000001E-2,0.44400000000000001,0.92900000000000005,0.44400000000000001,0.66700000000000004,0.24099999999999999,0.33800000000000002,0.96699999999999997,0.39100000000000001,0.47599999999999998,0.1,0.56699999999999995,0.68500000000000005,0.47599999999999998,0.314,6.0999999999999999E-2,0.7,0.71699999999999997,0.7,0.68500000000000005,0.29699999999999999,0.33800000000000002,0.91700000000000004,0.26400000000000001,0.13800000000000001,0.85799999999999998,0.8,7.9000000000000001E-2,0.314,0.83499999999999996,{"$f":"PERCENTRANK($B26:$MD26,LJ26)","v":0.98199999999999998},0.13800000000000001,0.55000000000000004,0.55000000000000004,0.52600000000000002,0.92900000000000005,6.0999999999999999E-2,0.56699999999999995,0.24099999999999999,0.44400000000000001,0.95,0.42599999999999999,0.71699999999999997,0.85799999999999998,0.97,0.71699999999999997,0.63800000000000001,0.78200000000000003,0.39100000000000001,0.47599999999999998,0.99399999999999999,0.53325882352941167,null,0.24299999999999999,0.47699999999999998,0.71499999999999997]
["Blocks Per Game",2,4.4000000000000004,3.8,4.3,2,2.4,2.2999999999999998,3.3,1.8,2.1,3.2,1.8,3.8,3.5,2.6,1.9,2.5,2.4,4.5,2.4,1.7,2.4,1.8,3.8,2.4,2.2999999999999998,3.3,2.2999999999999998,3.5,2.6,2.8,4.7,2.9,2.7,2,4.3,1.4,2.9,1.2,3.4,2.2000000000000002,1.8,2.9,3.5,4.5999999999999996,2.5,3.5,1.9,2.1,2.6,3,3.3,3.4,2.2999999999999998,3.3,1.9,1.9,2.4,4.3,3.8,2.4,3.3,2.2000000000000002,3.3,3.3,1.3,2.4,3.9,2.8,4.3,2.4,2.9,1.7,2.4,4.0999999999999996,3.4,3,2.2000000000000002,3,2.7,3.1,2.2999999999999998,2.1,3.7,3.4,2.8258823529411781,3.5,2.8,2.6,3.9,3.8,4,3.9,5.0999999999999996,3.3,2.2999999999999998,2.2000000000000002,4.3,3.2,2.6,3.8,3.8,2.6,3.2,2.4,3,3.1,3.4,1.6,2.7,3.5,3.2,4.5,3.7,2.8,2.7,3.9,4.0999999999999996,2.2000000000000002,5.6,2.7,6.7,1.6,1.8,3.4,1.6,3.6,3.1,3.5,2.7,5,3,3.6,6.8,2.8,2.4,3.9,2.9,4.0999999999999996,5.3,4,3.3,4.2,2.2999999999999998,3.8,3.5,4.0999999999999996,3.6,3.9,3.1,3,2.8,3.6,5,3.1,2.6,2.2999999999999998,4.8,2.9,3.9,4.9000000000000004,3.7,1.3,3.9,5.0999999999999996,5.4,3,3.8,3.2,2.4,3.4559523809523811,2.6,3.2,3,2,4.5,3.2,2.2999999999999998,2.9,4.8,4.4000000000000004,2.5,5.4,2.9,2.4,4.3,3.2,4.4000000000000004,2.2999999999999998,4.7,2.4,1.8,2.8,1.5,4.9000000000000004,4.9000000000000004,4.9000000000000004,5.4,3.3,1.6,4,4.9000000000000004,4,4.9000000000000004,2.2000000000000002,2.8,4.0999999999999996,3.8,3.1,4.4000000000000004,3.1,3.5,2.7,4.2,3.1,4.0999999999999996,5.0999999999999996,3.3,4.9000000000000004,2.5,3.2,3.4,2.7,5.4,3.1,2.6,3,4.5,2,4.5999999999999996,3.8,3.9,3.6,4,3.2,3.8,3,3.5,3.6,4.3,4.3,3.7,5.0999999999999996,3,4.2,3.3,2.4,5.5,4.3,4.5999999999999996,2.6,3,3.4,4.3,4,3.5964285714285715,5,3.8,4.8,3.9,5,3.2,3.1,3.5,4.5999999999999996,3.3,2.2000000000000002,4.2,3,4.3,4.0999999999999996,5.0999999999999996,3.4,3.8,3.3,4.5,3.6,3.3,1.8,3.9,3,3.7,2.1,4.2,1.9,4.7,3.9,3.7,3.5,4.0999999999999996,7.2,2.5,4.3,3.9,4.5999999999999996,3.8,4.8,3.1,3.9,2.5,3.6,3.6,2.2000000000000002,2.9,4.8,3.1,3,3.4,2.6,3.3,2.8,6.5,4.2,2.5,1.9,6.1,4.5,2.2999999999999998,4.4000000000000004,5.8,4.9000000000000004,3.7,3.4,3.4,3.5,2.8,2.1,4.2,3.2,4.9000000000000004,4.8,3.9,2.8,5,3.6,5.8,6.1,4.2,4,9.1,7.2,3.9082352941176484,"Blocks Per Game",2.6,3.3,4.0999999999999996]
[null,{"$f":"PERCENTRANK($B28:$LF28,B28)","v":7.4999999999999997E-2},0.84099999999999997,0.64800000000000002,0.80300000000000005,7.4999999999999997E-2,0.161,0.129,0.47399999999999998,3.4000000000000002E-2,9.0999999999999998E-2,0.439,3.4000000000000002E-2,0.64800000000000002,0.56000000000000005,0.23400000000000001,5.6000000000000001E-2,0.21199999999999999,0.161,0.85399999999999998,0.161,2.8000000000000001E-2,0.161,3.4000000000000002E-2,0.64800000000000002,0.161,0.129,0.47399999999999998,0.129,0.56000000000000005,0.23400000000000001,0.29399999999999998,0.88900000000000001,{"$f":"PERCENTRANK($B28:$LF28,AH28)","v":0.32500000000000001},0.26800000000000002,7.4999999999999997E-2,0.80300000000000005,8.9999999999999993E-3,0.32500000000000001,0,0.52500000000000002,0.104,3.4000000000000002E-2,0.32500000000000001,0.56000000000000005,0.873,0.21199999999999999,0.56000000000000005,5.6000000000000001E-2,9.0999999999999998E-2,0.23400000000000001,0.35399999999999998,0.47399999999999998,0.52500000000000002,0.129,0.47399999999999998,5.6000000000000001E-2,5.6000000000000001E-2,0.161,0.80300000000000005,0.64800000000000002,0.161,0.47399999999999998,0.104,0.47399999999999998,{"$f":"PERCENTRANK($B28:$LF28,BN28)","v":0.47399999999999998},3.0000000000000001E-3,0.161,0.69599999999999995,0.29399999999999998,0.80300000000000005,0.161,0.32500000000000001,2.8000000000000001E-2,0.161,0.75900000000000001,0.52500000000000002,0.35399999999999998,0.104,0.35399999999999998,0.26800000000000002,0.40100000000000002,0.129,9.0999999999999998E-2,0.629,0.52500000000000002,0.32880000000000004,0.56000000000000005,0.29399999999999998,0.23400000000000001,0.69599999999999995,0.64800000000000002,0.74,0.69599999999999995,0.94899999999999995,0.47399999999999998,0.129,0.104,{"$f":"PERCENTRANK($B28:$LF28,CU28)","v":0.80300000000000005},0.439,0.23400000000000001,0.64800000000000002,0.64800000000000002,0.23400000000000001,0.439,0.161,0.35399999999999998,0.40100000000000002,0.52500000000000002,1.4999999999999999E-2,0.26800000000000002,0.56000000000000005,0.439,0.85399999999999998,0.629,0.29399999999999998,0.26800000000000002,0.69599999999999995,0.75900000000000001,0.104,0.98399999999999999,0.26800000000000002,0.99299999999999999,1.4999999999999999E-2,3.4000000000000002E-2,0.52500000000000002,1.4999999999999999E-2,0.60099999999999998,0.40100000000000002,0.56000000000000005,{"$f":"PERCENTRANK($B28:$LF28,EA28)","v":0.26800000000000002},0.93600000000000005,0.35399999999999998,0.60099999999999998,0.996,0.29399999999999998,0.161,0.69599999999999995,0.32500000000000001,0.75900000000000001,0.96499999999999997,0.74,0.47399999999999998,0.78400000000000003,0.129,0.64800000000000002,0.56000000000000005,0.75900000000000001,0.60099999999999998,0.69599999999999995,0.40100000000000002,0.35399999999999998,0.29399999999999998,0.60099999999999998,0.93600000000000005,0.40100000000000002,0.23400000000000001,0.129,0.89800000000000002,0.32500000000000001,0.69599999999999995,0.91400000000000003,{"$f":"PERCENTRANK($B28:$LF28,FG28)","v":0.629},3.0000000000000001E-3,0.69599999999999995,0.94899999999999995,0.96799999999999997,0.35399999999999998,0.64800000000000002,0.439,0.161,0.50557142857142856,{"$f":"PERCENTRANK($B28:$LR28,FQ28)","v":0.23100000000000001},0.432,0.35,7.2999999999999995E-2,0.85299999999999998,0.432,0.128,0.32300000000000001,0.89600000000000002,0.83799999999999997,0.21,0.96599999999999997,0.32300000000000001,0.161,0.80100000000000005,0.432,0.83799999999999997,0.128,0.88700000000000001,0.161,3.3000000000000002E-2,0.28899999999999998,1.2E-2,0.91100000000000003,0.91100000000000003,0.91100000000000003,0.96599999999999997,0.46899999999999997,1.4999999999999999E-2,0.73699999999999999,0.91100000000000003,0.73699999999999999,{"$f":"PERCENTRANK($B28:$LR28,GW28)","v":0.91100000000000003},0.10299999999999999,0.28899999999999998,0.75600000000000001,0.64900000000000002,0.39600000000000002,0.83799999999999997,0.39600000000000002,0.55700000000000005,0.26500000000000001,0.78,0.39600000000000002,0.75600000000000001,0.94799999999999995,0.46899999999999997,0.91100000000000003,0.21,0.432,0.51800000000000002,0.26500000000000001,0.96599999999999997,0.39600000000000002,0.23100000000000001,0.35,0.85299999999999998,7.2999999999999995E-2,0.871,0.64900000000000002,0.69499999999999995,0.6,0.73699999999999999,0.432,{"$f":"PERCENTRANK($B28:$LR28,IC28)","v":0.64900000000000002},0.35,0.55700000000000005,0.6,0.80100000000000005,0.80100000000000005,0.628,0.94799999999999995,0.35,0.78,0.46899999999999997,0.161,0.97799999999999998,0.80100000000000005,0.871,0.23100000000000001,0.35,0.51800000000000002,0.80100000000000005,0.73699999999999999,0.55290476190476257,{"$f":"PERCENTRANK($B28:$MD28,IX28)","v":0.92300000000000004},0.63200000000000001,0.879,0.67600000000000005,0.92300000000000004,0.42,0.38500000000000001,0.54100000000000004,0.85499999999999998,0.45500000000000002,0.1,0.76400000000000001,0.34100000000000003,0.78800000000000003,0.74099999999999999,0.93799999999999994,0.502,0.63200000000000001,0.45500000000000002,0.83799999999999997,0.58199999999999996,0.45500000000000002,3.2000000000000001E-2,0.67600000000000005,0.34100000000000003,0.61099999999999999,8.5000000000000006E-2,0.76400000000000001,5.1999999999999998E-2,0.87,0.67600000000000005,0.61099999999999999,{"$f":"PERCENTRANK($B28:$MD28,KD28)","v":0.54100000000000004},0.74099999999999999,0.99399999999999999,0.20200000000000001,0.78800000000000003,0.67600000000000005,0.85499999999999998,0.63200000000000001,0.879,0.38500000000000001,0.67600000000000005,0.20200000000000001,0.58199999999999996,0.58199999999999996,0.1,0.314,0.879,0.38500000000000001,0.34100000000000003,0.502,0.223,0.45500000000000002,0.27900000000000003,0.98499999999999999,0.76400000000000001,0.20200000000000001,5.1999999999999998E-2,0.97899999999999998,0.83799999999999997,0.123,0.82299999999999995,0.97299999999999998,{"$f":"PERCENTRANK($B28:$MD28,LJ28)","v":0.89700000000000002},0.61099999999999999,0.502,0.502,0.54100000000000004,0.27900000000000003,8.5000000000000006E-2,0.76400000000000001,0.42,0.89700000000000002,0.879,0.67600000000000005,0.27900000000000003,0.92300000000000004,0.58199999999999996,0.97299999999999998,0.97899999999999998,0.76400000000000001,0.72,1,0.99399999999999999,0.59720000000000018,null,0.22500000000000001,0.45600000000000002,0.73799999999999999]
["Opponents Points Per Game",70.599999999999994,78.7,71.900000000000006,70.5,73.900000000000006,68.5,83.2,68.900000000000006,77.2,71,77.599999999999994,75.2,72.7,62.2,75.599999999999994,65.5,69,75.099999999999994,74.2,63.3,72.099999999999994,74.599999999999994,79.3,67.400000000000006,66,71.7,82.6,69.099999999999994,65.900000000000006,69.599999999999994,69.599999999999994,67.099999999999994,68.099999999999994,70.8,67.5,69.599999999999994,62.3,65.400000000000006,68.599999999999994,64.8,73.8,70.099999999999994,67.8,69.099999999999994,69.5,62.8,64.3,68.3,69.8,66.8,70.8,74.900000000000006,67.099999999999994,68.400000000000006,66.599999999999994,77.099999999999994,66.900000000000006,70.8,69,82.9,74.900000000000006,73.8,72.599999999999994,66.099999999999994,75,73.8,60.5,72.3,70.099999999999994,72.599999999999994,69.2,78.400000000000006,75.400000000000006,71.099999999999994,70,72.3,65.5,69.599999999999994,66.099999999999994,66.599999999999994,70.7,75.400000000000006,59.7,75.400000000000006,69.3,70.589411764705915,69.900000000000006,61.1,69.8,75.599999999999994,65.2,62.7,64.8,69.099999999999994,64.900000000000006,67.599999999999994,67.099999999999994,63.7,70.099999999999994,71.900000000000006,67.3,72.599999999999994,77.3,72.2,64.7,68.5,67.099999999999994,65.8,75.3,75.900000000000006,69.7,58.4,73,63.5,55,74.7,68.400000000000006,71.400000000000006,59.8,71,69.7,70.3,61.2,65.900000000000006,69.3,61.6,65.8,72.599999999999994,71.400000000000006,72.599999999999994,72.3,65.3,60.4,63.8,73.900000000000006,68.3,64.599999999999994,67,76.7,73.900000000000006,74.900000000000006,70.8,68.099999999999994,67.8,68.3,74.400000000000006,65,59.3,64.900000000000006,64.900000000000006,70.8,60.6,72.5,64.900000000000006,63.9,66.8,61.8,67.400000000000006,73.400000000000006,65.7,66.900000000000006,68.400000000000006,61.5,65.099999999999994,63.1,65.3,68.2,66.7,70.900000000000006,62.1,67.691666666666677,71.599999999999994,66.400000000000006,64.099999999999994,66,66.2,59.9,60.4,67.599999999999994,69.7,65.8,61.3,68.7,70.400000000000006,71.099999999999994,67.2,64.2,73.2,64.8,68.099999999999994,69.5,70.599999999999994,61.7,59.1,67.599999999999994,64.599999999999994,64.5,59.5,63.8,71.3,60,65.7,65.599999999999994,66.8,78.3,63.1,66.599999999999994,70.5,67.2,63.5,65,71.7,64.7,68.599999999999994,64.5,61.2,66.599999999999994,67.5,63.1,62.8,68.8,61.3,72.2,67.5,71.8,61.8,66.7,61,62.7,67.3,67.5,60.9,62.8,65.5,62.1,71,64.900000000000006,62.3,61.8,69.8,63.3,62,62.5,66.099999999999994,64.5,77.900000000000006,65.3,66.7,65.099999999999994,60.7,69.8,65.8,65.900000000000006,64.3,63.6,65.894047619047626,64.3,66,64.8,70.5,70.099999999999994,60.7,54.6,59.5,60.8,62.1,68.3,63.8,62.3,68.7,68.3,65.599999999999994,62.4,63.1,55.7,61.8,66.8,67.5,62,66.099999999999994,67.400000000000006,59.6,67.599999999999994,65.400000000000006,68,64.8,66.3,67.599999999999994,67.400000000000006,69.8,67,66.400000000000006,66.2,66.7,61.5,57.7,63,63.4,67.400000000000006,66.099999999999994,61.5,65.099999999999994,72.5,52.2,54,60.8,56.4,58.6,64.5,61.5,66,63.8,61.7,62.3,68.7,61.9,58.1,69.5,66.099999999999994,64.5,62.2,52,65.2,63,65.400000000000006,65.2,60.4,69.400000000000006,63.9,58.7,66.3,62.8,57.6,63.6,65.3,61.2,66.099999999999994,57.8,68.3,58.8,60.6,63.630588235294113,"Opponents Points Per Game",63.6,66.7,70.074999999999989]
[null,{"$f":"1-(PERCENTRANK($B30:$LF30,B30))","v":0.23799999999999999},1.3000000000000012E-2,0.17100000000000004,0.25,0.10199999999999998,0.374,0,0.34899999999999998,3.2000000000000028E-2,0.20899999999999996,2.6000000000000023E-2,6.3999999999999946E-2,0.124,0.83899999999999997,4.8000000000000043E-2,0.64,0.34499999999999997,6.6999999999999948E-2,9.1999999999999971E-2,0.78500000000000003,0.16500000000000004,8.5999999999999965E-2,1.0000000000000009E-2,0.47199999999999998,0.59200000000000008,0.18100000000000005,7.0000000000000062E-3,0.33899999999999997,0.60199999999999998,0.31399999999999995,0.31399999999999995,0.497,{"$f":"1-(PERCENTRANK($B30:$LF30,AH30))","v":0.41200000000000003},0.22799999999999998,0.45599999999999996,0.31399999999999995,0.83599999999999997,0.64600000000000002,0.36799999999999999,0.70599999999999996,0.11099999999999999,0.26900000000000002,0.42100000000000004,0.33899999999999997,0.31999999999999995,0.81099999999999994,0.74099999999999999,0.39900000000000002,0.29200000000000004,0.52300000000000002,0.22799999999999998,7.999999999999996E-2,0.497,0.38300000000000001,0.54800000000000004,3.5000000000000031E-2,0.51,0.22799999999999998,0.34499999999999997,4.0000000000000036E-3,7.999999999999996E-2,0.11099999999999999,0.14000000000000001,0.58000000000000007,{"$f":"1-(PERCENTRANK($B30:$LF30,BN30))","v":6.9999999999999951E-2},0.11099999999999999,0.93399999999999994,0.15600000000000003,0.26900000000000002,0.14000000000000001,0.32999999999999996,1.6000000000000014E-2,5.7000000000000051E-2,0.19999999999999996,0.27300000000000002,0.15600000000000003,0.64,0.31399999999999995,0.58000000000000007,0.54800000000000004,0.23199999999999998,5.7000000000000051E-2,0.95299999999999996,5.7000000000000051E-2,0.32599999999999996,0.31443529411764698,0.27600000000000002,0.90900000000000003,0.29200000000000004,4.8000000000000043E-2,0.65900000000000003,0.81699999999999995,0.70599999999999996,0.33899999999999997,0.69,0.43999999999999995,0.497,{"$f":"1-(PERCENTRANK($B30:$LF30,CU30))","v":0.76600000000000001},0.26900000000000002,0.17100000000000004,0.47799999999999998,0.14000000000000001,2.9000000000000026E-2,0.16200000000000003,0.71300000000000008,0.374,0.497,0.61799999999999999,6.1000000000000054E-2,4.2000000000000037E-2,0.30100000000000005,0.97499999999999998,0.121,0.77600000000000002,0.99099999999999999,8.2999999999999963E-2,0.38300000000000001,0.18999999999999995,0.95,0.20899999999999996,0.30100000000000005,0.25700000000000001,0.90600000000000003,0.60199999999999998,0.32599999999999996,0.88,0.61799999999999999,0.14000000000000001,0.18999999999999995,{"$f":"1-(PERCENTRANK($B30:$LF30,EA30))","v":0.14000000000000001},0.15600000000000003,0.65600000000000003,0.94,0.76300000000000001,0.10199999999999998,0.39900000000000002,0.71899999999999997,0.504,3.8000000000000034E-2,0.10199999999999998,7.999999999999996E-2,0.22799999999999998,0.41200000000000003,0.42100000000000004,0.39900000000000002,8.8999999999999968E-2,0.67500000000000004,0.96599999999999997,0.69,0.69,0.22799999999999998,0.93100000000000005,0.14600000000000002,0.69,0.75,0.52300000000000002,0.871,0.47199999999999998,0.11399999999999999,0.624,0.51,{"$f":"1-(PERCENTRANK($B30:$LF30,FG30))","v":0.38300000000000001},0.89300000000000002,0.66799999999999993,0.79800000000000004,0.65600000000000003,0.40200000000000002,0.53499999999999992,0.21299999999999997,0.84899999999999998,0.47163095238095254,{"$f":"1-(PERCENTRANK($B30:$LR30,FQ30))","v":0.17700000000000005},0.54,0.74099999999999999,0.58000000000000007,0.54899999999999993,0.94599999999999995,0.94,0.43000000000000005,0.29000000000000004,0.60399999999999998,0.89700000000000002,0.35399999999999998,0.24399999999999999,0.19299999999999995,0.47299999999999998,0.73799999999999999,0.11299999999999999,0.69900000000000007,0.40300000000000002,0.31100000000000005,0.22899999999999998,0.875,0.96699999999999997,0.43000000000000005,0.71100000000000008,0.72599999999999998,0.96099999999999997,0.76,0.18600000000000005,0.94299999999999995,0.61,0.61599999999999999,{"$f":"1-(PERCENTRANK($B30:$LR30,GW30))","v":0.51},1.9000000000000017E-2,0.79300000000000004,0.53400000000000003,0.24099999999999999,0.47299999999999998,0.77200000000000002,0.66799999999999993,0.17400000000000004,0.70500000000000007,0.36,0.72599999999999998,0.90300000000000002,0.53400000000000003,0.44599999999999995,0.79300000000000004,0.80800000000000005,0.34499999999999997,0.89700000000000002,0.15600000000000003,0.44599999999999995,0.16800000000000004,0.86899999999999999,0.52200000000000002,0.90900000000000003,0.81499999999999995,0.46699999999999997,0.44599999999999995,0.91200000000000003,0.80800000000000005,0.625,0.84799999999999998,{"$f":"1-(PERCENTRANK($B30:$LR30,IC30))","v":0.20199999999999996},0.68300000000000005,0.83299999999999996,0.86899999999999999,0.28100000000000003,0.78100000000000003,0.85399999999999998,0.81800000000000006,0.56800000000000006,0.72599999999999998,2.200000000000002E-2,0.64400000000000002,0.52200000000000002,0.66199999999999992,0.92400000000000004,0.28100000000000003,0.60399999999999998,0.58899999999999997,0.73499999999999999,0.76600000000000001,0.58680952380952323,{"$f":"1-(PERCENTRANK($B30:$MD30,IX30))","v":0.72099999999999997},0.56800000000000006,0.68599999999999994,0.23299999999999998,0.25,0.91200000000000003,0.99199999999999999,0.95,0.90600000000000003,0.83599999999999997,0.38,0.745,0.82099999999999995,0.34199999999999997,0.38,0.60299999999999998,0.80899999999999994,0.78,0.98599999999999999,0.85599999999999998,0.495,0.43300000000000005,0.84199999999999997,0.55600000000000005,0.44799999999999995,0.94499999999999995,0.41800000000000004,0.621,0.39500000000000002,0.68599999999999994,0.53,0.41800000000000004,{"$f":"1-(PERCENTRANK($B30:$MD30,KD30))","v":0.44799999999999995},0.27100000000000002,0.47699999999999998,0.52400000000000002,0.53600000000000003,0.50600000000000001,0.877,0.97699999999999998,0.78600000000000003,0.76200000000000001,0.44799999999999995,0.55600000000000005,0.877,0.65,0.13600000000000001,0.998,0.995,0.90600000000000003,0.98299999999999998,0.96499999999999997,0.71199999999999997,0.877,0.56800000000000006,0.745,0.86199999999999999,0.82099999999999995,0.34199999999999997,0.84499999999999997,0.97099999999999997,0.30000000000000004,0.55600000000000005,0.71199999999999997,{"$f":"1-(PERCENTRANK($B30:$MD30,LJ30))","v":0.82699999999999996},1,0.64200000000000002,0.78600000000000003,0.621,0.64200000000000002,0.92999999999999994,0.30300000000000005,0.73299999999999998,0.96199999999999997,0.53,0.79800000000000004,0.98,0.753,0.63300000000000001,0.89200000000000002,0.55600000000000005,0.97399999999999998,0.38,0.95899999999999996,0.91800000000000004,0.68648235294117654,null,0.25075000000000003,0.505,0.751]
["Opponent Field Goal Percentage",47.7,47.5,45.1,44.7,46.2,44.4,48.2,43.8,47.1,49.3,45.6,50,43.4,41.6,45.5,46.6,45.1,50.5,44.9,42.3,47.2,46.2,47.6,43.6,45.4,45.7,49.5,44.9,44.2,45.1,46.3,39.5,41.9,44.3,45.3,44.3,44.6,44.4,40.6,40.799999999999997,45.7,44.6,45.4,44.4,42.6,42,38.700000000000003,44.2,45.6,43.9,43.7,46,44.2,45.4,42.9,46.7,42.7,45.5,41.7,49,46.7,41.6,47.7,44.3,44.8,44.6,40.4,45.6,43.8,41.6,46.8,46.3,45.3,47.8,43.8,47,42.3,43.1,46.5,45.3,45.4,45.4,43.7,46.7,46.7,44.929411764705875,43.5,41.1,43.8,48.5,42.8,39.299999999999997,42.3,43,43.1,45.2,43.2,40.4,45.2,42.3,44,43.6,46.5,44.1,45.4,43.6,41.2,40.200000000000003,47.8,46.4,45.2,40.700000000000003,45.8,42.7,40.799999999999997,45.2,43.2,43.9,42.4,42.2,46.3,43,45.1,45.7,46.5,44.1,40.9,47,45,46.8,43.9,44.9,41.3,42.3,45,44,40.299999999999997,42.1,48,43.1,43.7,45.1,44.4,45.6,43.9,42.2,43.2,43,42.3,43.7,42.6,44.2,46.5,44.8,41.6,42.8,41.2,40.1,45.3,44.2,41.4,43.1,44.3,39.799999999999997,40.4,42.4,41.9,44.4,45,42.8,43.56904761904763,46.6,40.799999999999997,42.1,44.8,41.6,40,39.9,41.6,43.7,41,41.4,41.7,43.8,44.7,42.6,41.6,45.3,42.7,43.9,43.3,46.1,40.700000000000003,41.5,39.1,41.3,40.1,38.200000000000003,44.1,47.9,43,42.5,41.8,40.799999999999997,48.3,42.6,42.8,43.6,42.8,42.5,42.9,45.5,44.7,45.6,41.2,41,43.8,44.7,38.799999999999997,42.7,43,41.2,44.8,40.1,41.9,41.7,41.9,39.799999999999997,40.5,41.5,41.6,41,41.9,42.4,41.6,45.4,41.5,41.4,40.200000000000003,42.6,41,42.2,40.9,44.2,40.9,44.6,43.3,38.700000000000003,41.4,43.6,46.9,42.4,41,43.3,41.2,42.444047619047616,41.5,40.1,39.200000000000003,45.6,40.299999999999997,39,40.5,41.2,41.3,39.9,41.9,42.8,40.9,42.2,42.6,40.6,40.299999999999997,41.2,38.700000000000003,41.7,43.4,43.1,44,45.2,44.6,42.3,42.5,41.3,45.2,41.1,40.6,39.9,43.4,41.7,39.4,44.6,40.6,41.6,39.1,39.4,39.6,41.4,44.8,47,40.6,43.8,44.6,38.700000000000003,40.200000000000003,40.799999999999997,40.5,37.799999999999997,42.4,42.3,43.5,38.5,42.1,39.700000000000003,43.6,37.6,38.4,44.1,42.2,38.700000000000003,37.6,38,42.4,41.4,42.2,44.2,42.4,43.4,43.6,38.6,40.799999999999997,39.700000000000003,40.299999999999997,40.700000000000003,40.799999999999997,38.1,38.6,37.1,43.3,36.5,38.6,41.243529411764698,"Opponent Field Goal Percentage",41.2,43,44.8]
[null,{"$f":"1-(PERCENTRANK($B32:$LF32,B32))","v":4.2000000000000037E-2},4.8000000000000043E-2,0.24399999999999999,0.29500000000000004,0.124,0.33299999999999996,2.300000000000002E-2,0.42100000000000004,5.4000000000000048E-2,1.0000000000000009E-2,0.16200000000000003,4.0000000000000036E-3,0.47499999999999998,0.73199999999999998,0.17100000000000004,9.1999999999999971E-2,0.24399999999999999,0,0.26600000000000001,0.63700000000000001,5.1000000000000045E-2,0.124,4.500000000000004E-2,0.45599999999999996,0.19399999999999995,0.14300000000000002,7.0000000000000062E-3,0.26600000000000001,0.36399999999999999,0.24399999999999999,0.11799999999999999,0.94699999999999995,{"$f":"1-(PERCENTRANK($B32:$LF32,AH32))","v":0.68100000000000005},0.34499999999999997,0.20899999999999996,0.34499999999999997,0.31699999999999995,0.33299999999999996,0.86799999999999999,0.84499999999999997,0.14300000000000002,0.31699999999999995,0.19399999999999995,0.33299999999999996,0.58299999999999996,0.66199999999999992,0.98499999999999999,0.36399999999999999,0.16200000000000003,0.39900000000000002,0.43700000000000006,0.13,0.36399999999999999,0.19399999999999995,0.53200000000000003,8.5999999999999965E-2,0.56400000000000006,0.17100000000000004,0.7,1.3000000000000012E-2,8.5999999999999965E-2,0.73199999999999998,4.2000000000000037E-2,0.34499999999999997,{"$f":"1-(PERCENTRANK($B32:$LF32,BN32))","v":0.28200000000000003},0.31699999999999995,0.88700000000000001,0.16200000000000003,0.42100000000000004,0.73199999999999998,7.2999999999999954E-2,0.11799999999999999,0.20899999999999996,3.5000000000000031E-2,0.42100000000000004,6.3999999999999946E-2,0.63700000000000001,0.51,0.10499999999999998,0.20899999999999996,0.19399999999999995,0.19399999999999995,0.43700000000000006,8.5999999999999965E-2,8.5999999999999965E-2,0.30583529411764698,0.46599999999999997,0.80099999999999993,0.42100000000000004,1.6000000000000014E-2,0.55099999999999993,0.95599999999999996,0.63700000000000001,0.52600000000000002,0.51,0.22799999999999998,0.49399999999999999,{"$f":"1-(PERCENTRANK($B32:$LF32,CU32))","v":0.88700000000000001},0.22799999999999998,0.63700000000000001,0.38300000000000001,0.45599999999999996,0.10499999999999998,0.374,0.19399999999999995,0.45599999999999996,0.79500000000000004,0.90600000000000003,3.5000000000000031E-2,0.10799999999999998,0.22799999999999998,0.85199999999999998,0.13300000000000001,0.56400000000000006,0.84499999999999997,0.22799999999999998,0.49399999999999999,0.39900000000000002,0.61099999999999999,0.64900000000000002,0.11799999999999999,0.52600000000000002,0.24399999999999999,0.14300000000000002,0.10499999999999998,0.374,0.83,6.3999999999999946E-2,0.254,{"$f":"1-(PERCENTRANK($B32:$LF32,EA32))","v":7.2999999999999954E-2},0.39900000000000002,0.26600000000000001,0.77300000000000002,0.63700000000000001,0.254,0.38300000000000001,0.89600000000000002,0.65900000000000003,2.6000000000000023E-2,0.51,0.43700000000000006,0.24399999999999999,0.33299999999999996,0.16200000000000003,0.39900000000000002,0.64900000000000002,0.49399999999999999,0.52600000000000002,0.63700000000000001,0.43700000000000006,0.58299999999999996,0.36399999999999999,0.10499999999999998,0.28200000000000003,0.73199999999999998,0.55099999999999993,0.79500000000000004,0.91800000000000004,0.20899999999999996,0.36399999999999999,0.76,{"$f":"1-(PERCENTRANK($B32:$LF32,FG32))","v":0.51},0.34499999999999997,0.93700000000000006,0.88700000000000001,0.61099999999999999,0.68100000000000005,0.33299999999999996,0.254,0.55099999999999993,0.46186904761904751,{"$f":"1-(PERCENTRANK($B32:$LR32,FQ32))","v":8.8999999999999968E-2},0.84199999999999997,0.65900000000000003,0.27200000000000002,0.72899999999999998,0.91500000000000004,0.92400000000000004,0.72899999999999998,0.42700000000000005,0.81499999999999995,0.76,0.69900000000000007,0.41200000000000003,0.28400000000000003,0.57400000000000007,0.72899999999999998,0.20199999999999996,0.55499999999999994,0.39100000000000001,0.47899999999999998,0.122,0.84799999999999998,0.74099999999999999,0.95799999999999996,0.77200000000000002,0.91200000000000003,0.98799999999999999,0.36599999999999999,2.8000000000000025E-2,0.51900000000000002,0.58299999999999996,0.68300000000000005,{"$f":"1-(PERCENTRANK($B32:$LR32,GW32))","v":0.84199999999999997},1.9000000000000017E-2,0.57400000000000007,0.54299999999999993,0.44899999999999995,0.54299999999999993,0.58299999999999996,0.52500000000000002,0.16500000000000004,0.28400000000000003,0.15600000000000003,0.79300000000000004,0.81499999999999995,0.41200000000000003,0.28400000000000003,0.96399999999999997,0.55499999999999994,0.51900000000000002,0.79300000000000004,0.27200000000000002,0.91200000000000003,0.67999999999999994,0.69900000000000007,0.67999999999999994,0.92999999999999994,0.872,0.74099999999999999,0.72899999999999998,0.81499999999999995,0.67999999999999994,0.60699999999999998,0.72899999999999998,{"$f":"1-(PERCENTRANK($B32:$LR32,IC32))","v":0.18600000000000005},0.74099999999999999,0.76,0.9,0.57400000000000007,0.81499999999999995,0.65,0.82699999999999996,0.35399999999999998,0.82699999999999996,0.30500000000000005,0.47899999999999998,0.97899999999999998,0.76,0.44899999999999995,6.4999999999999947E-2,0.60699999999999998,0.81499999999999995,0.47899999999999998,0.79300000000000004,0.60160714285714234,{"$f":"1-(PERCENTRANK($B32:$MD32,IX32))","v":0.71799999999999997},0.89500000000000002,0.93599999999999994,0.15000000000000002,0.874,0.94499999999999995,0.85299999999999998,0.76800000000000002,0.748,0.90600000000000003,0.65900000000000003,0.52700000000000002,0.8,0.63,0.55600000000000005,0.84499999999999997,0.874,0.76800000000000002,0.96199999999999997,0.67700000000000005,0.45299999999999996,0.48899999999999999,0.36199999999999999,0.21199999999999997,0.29500000000000004,0.61199999999999999,0.56499999999999995,0.748,0.21199999999999997,0.77400000000000002,0.84499999999999997,0.90600000000000003,{"$f":"1-(PERCENTRANK($B32:$MD32,KD32))","v":0.45299999999999996},0.67700000000000005,0.92999999999999994,0.29500000000000004,0.84499999999999997,0.70599999999999996,0.94199999999999995,0.92999999999999994,0.92100000000000004,0.73599999999999999,0.26200000000000001,5.9000000000000052E-2,0.84499999999999997,0.39800000000000002,0.29500000000000004,0.96199999999999997,0.88300000000000001,0.82099999999999995,0.85299999999999998,0.98899999999999999,0.58899999999999997,0.61199999999999999,0.44199999999999995,0.97399999999999998,0.63900000000000001,0.91800000000000004,0.43300000000000005,0.995,0.97699999999999998,0.35299999999999998,0.63,0.96199999999999997,{"$f":"1-(PERCENTRANK($B32:$MD32,LJ32))","v":0.995},0.98599999999999999,0.58899999999999997,0.73599999999999999,0.63,0.34199999999999997,0.58899999999999997,0.45299999999999996,0.43300000000000005,0.97099999999999997,0.82099999999999995,0.91800000000000004,0.874,0.83,0.82099999999999995,0.98299999999999998,0.97099999999999997,0.998,0.46499999999999997,1,0.97099999999999997,0.70901176470588212,null,0.26200000000000001,0.502,0.76600000000000001]
["Opponent 3 Point Percentage",37.700000000000003,38.9,31.4,35.9,34.6,39.1,39.299999999999997,33.799999999999997,35.6,39.299999999999997,35.799999999999997,36.9,37,29.1,34.4,37,36.5,36.299999999999997,34.9,35.9,33.299999999999997,36.700000000000003,37.1,36,38.700000000000003,38.5,35.5,35.9,33.6,39.1,36.6,35.6,32.299999999999997,32.4,37.4,37.299999999999997,35.200000000000003,29,32.299999999999997,30.8,38.1,33.9,36.1,36.299999999999997,34.200000000000003,29.1,32.5,33.5,35,32,32.5,36.200000000000003,32.799999999999997,37.200000000000003,37.299999999999997,37.200000000000003,34.9,34.799999999999997,35.4,34.9,38.200000000000003,32.6,39.299999999999997,37.700000000000003,35,35,32.299999999999997,37.5,34.6,38.5,39.299999999999997,36.1,33.799999999999997,35.799999999999997,31.5,35.6,33.799999999999997,36.200000000000003,36.4,35,36.200000000000003,39.4,34.4,38.799999999999997,39.799999999999997,35.522352941176479,38.200000000000003,35.5,36.700000000000003,35.6,35.799999999999997,31.9,30.5,31.8,31.1,33.6,33.4,33.799999999999997,37.200000000000003,33.5,32.5,36.5,37.5,35.6,34.5,34.799999999999997,31.9,36.200000000000003,36.799999999999997,35.9,35.299999999999997,30.8,37.5,31.9,33.6,33.200000000000003,33.299999999999997,31.4,31.2,36,38.200000000000003,33.299999999999997,33.799999999999997,31.8,34.5,34.9,29,35.200000000000003,36.6,38.200000000000003,36.299999999999997,33.200000000000003,32.9,32,35.700000000000003,29.7,31.4,33.299999999999997,34.4,32.1,36,36.5,36.5,31.4,31.6,33.9,32,29.9,31.1,35.4,33.1,35.6,37.700000000000003,38.9,33.1,35.5,36.4,33.6,34.200000000000003,32.799999999999997,34.5,37.5,35,34.4,34.9,35.700000000000003,30.2,37.4,34.799999999999997,33.299999999999997,34.219047619047629,36.299999999999997,34.4,33.4,37.299999999999997,29.2,30.7,29.3,33.200000000000003,34.700000000000003,35.299999999999997,33,33.299999999999997,37.5,36.9,34.5,32.700000000000003,38.5,37.4,37.9,38.1,36.9,30.8,33.4,31.6,34.4,32.200000000000003,32.6,33.4,37.799999999999997,34.799999999999997,37,33.5,28.7,39.299999999999997,34.4,35.4,33.5,31.2,37.6,36.799999999999997,35.299999999999997,35.299999999999997,34.5,35.200000000000003,34.5,31.4,35.9,30.7,36.5,34.4,31.4,35.799999999999997,33.6,34.4,28.6,29.9,31.9,35.1,31.4,31.5,35.4,32.5,34.4,33.200000000000003,35.4,32.5,28.7,34,33.1,31.9,33.200000000000003,35.5,33.6,33,33,35.200000000000003,32.700000000000003,34.4,36.299999999999997,38,32.6,32,36.299999999999997,30.6,33.972619047619048,34.200000000000003,32.4,31.6,38.9,30.3,33.9,30.3,32,30.7,32.4,34.200000000000003,37.799999999999997,28.8,35.299999999999997,32.5,34.4,27.1,31.5,28.2,30.4,34.6,34.1,36.299999999999997,30.5,33.200000000000003,31.3,34.200000000000003,29,31.9,32.799999999999997,34.799999999999997,31.1,34.200000000000003,33.1,35.700000000000003,31.7,30.9,32.4,31.1,30,31.2,30.7,35.700000000000003,36.1,30.7,36,35.299999999999997,28.2,32.799999999999997,32.4,30.4,30.3,33.1,36.6,30.2,34.799999999999997,29.7,33.4,35.299999999999997,30.4,28.4,36.200000000000003,31.9,32.6,32.1,28.1,34.9,31.5,33.5,36,34.1,32.200000000000003,33.6,28.5,33.799999999999997,31.2,30.9,33.200000000000003,33.1,34.6,31.6,28.2,31.1,32.4,31.1,32.445882352941169,"Opponent 3 Point Percentage",32.024999999999999,34.200000000000003,36]
[null,{"$f":"1-(PERCENTRANK($B34:$LF34,B34))","v":9.1999999999999971E-2},3.5000000000000031E-2,0.84899999999999998,0.27900000000000003,0.45599999999999996,2.6000000000000023E-2,1.9000000000000017E-2,0.57000000000000006,0.32299999999999995,1.9000000000000017E-2,0.29200000000000004,0.16200000000000003,0.15200000000000002,0.96599999999999997,0.51300000000000001,0.15200000000000002,0.19999999999999996,0.22799999999999998,0.42500000000000004,0.27900000000000003,0.63700000000000001,0.17500000000000004,0.14300000000000002,0.26300000000000001,4.2000000000000037E-2,5.1000000000000045E-2,0.33899999999999997,0.27900000000000003,0.58899999999999997,2.6000000000000023E-2,0.18400000000000005,0.32299999999999995,{"$f":"1-(PERCENTRANK($B34:$LF34,AH34))","v":0.75700000000000001},0.747,0.121,0.13,0.39,0.97499999999999998,0.75700000000000001,0.88700000000000001,6.9999999999999951E-2,0.55400000000000005,0.25,0.22799999999999998,0.53499999999999992,0.96599999999999997,0.73199999999999998,0.60199999999999998,0.40900000000000003,0.77900000000000003,0.73199999999999998,0.24099999999999999,0.69700000000000006,0.14000000000000001,0.13,0.14000000000000001,0.42500000000000004,0.44399999999999995,0.35499999999999998,0.42500000000000004,6.3999999999999946E-2,0.71300000000000008,1.9000000000000017E-2,9.1999999999999971E-2,{"$f":"1-(PERCENTRANK($B34:$LF34,BN34))","v":0.40900000000000003},0.40900000000000003,0.75700000000000001,0.11099999999999999,0.45599999999999996,5.1000000000000045E-2,1.9000000000000017E-2,0.25,0.57000000000000006,0.29200000000000004,0.82600000000000007,0.32299999999999995,0.57000000000000006,0.24099999999999999,0.20599999999999996,0.40900000000000003,0.24099999999999999,4.0000000000000036E-3,0.51300000000000001,3.8000000000000034E-2,0,0.35634117647058822,6.3999999999999946E-2,0.33899999999999997,0.17500000000000004,0.32299999999999995,0.29200000000000004,0.79800000000000004,0.91200000000000003,0.80400000000000005,0.874,0.58899999999999997,0.61799999999999999,{"$f":"1-(PERCENTRANK($B34:$LF34,CU34))","v":0.57000000000000006},0.14000000000000001,0.60199999999999998,0.73199999999999998,0.19999999999999996,0.11099999999999999,0.32299999999999995,0.47499999999999998,0.44399999999999995,0.79800000000000004,0.24099999999999999,0.16800000000000004,0.27900000000000003,0.377,0.88700000000000001,0.11099999999999999,0.79800000000000004,0.58899999999999997,0.65600000000000003,0.63700000000000001,0.84899999999999998,0.86099999999999999,0.26300000000000001,6.3999999999999946E-2,0.63700000000000001,0.57000000000000006,0.80400000000000005,0.47499999999999998,0.42500000000000004,0.97499999999999998,0.39,0.18400000000000005,{"$f":"1-(PERCENTRANK($B34:$LF34,EA34))","v":6.3999999999999946E-2},0.22799999999999998,0.65600000000000003,0.68399999999999994,0.77900000000000003,0.30400000000000005,0.95299999999999996,0.84899999999999998,0.63700000000000001,0.51300000000000001,0.76300000000000001,0.26300000000000001,0.19999999999999996,0.19999999999999996,0.84899999999999998,0.81699999999999995,0.55400000000000005,0.77900000000000003,0.94699999999999995,0.874,0.35499999999999998,0.67100000000000004,0.32299999999999995,9.1999999999999971E-2,3.5000000000000031E-2,0.67100000000000004,0.33899999999999997,0.20599999999999996,0.58899999999999997,0.53499999999999992,0.69700000000000006,0.47499999999999998,{"$f":"1-(PERCENTRANK($B34:$LF34,FG34))","v":0.11099999999999999},0.40900000000000003,0.51300000000000001,0.42500000000000004,0.30400000000000005,0.93700000000000006,0.121,0.44399999999999995,0.63700000000000001,0.50267857142857142,{"$f":"1-(PERCENTRANK($B34:$LR34,FQ34))","v":0.21999999999999997},0.504,0.61299999999999999,0.125,0.95799999999999996,0.90300000000000002,0.95499999999999996,0.65,0.43999999999999995,0.36899999999999999,0.67399999999999993,0.63200000000000001,0.10699999999999998,0.15600000000000003,0.46699999999999997,0.69599999999999995,4.9000000000000044E-2,0.11599999999999999,7.3999999999999955E-2,6.7999999999999949E-2,0.15600000000000003,0.88800000000000001,0.61299999999999999,0.81800000000000006,0.504,0.75700000000000001,0.70799999999999996,0.61299999999999999,7.999999999999996E-2,0.43600000000000005,0.14700000000000002,0.59799999999999998,{"$f":"1-(PERCENTRANK($B34:$LR34,GW34))","v":0.98199999999999998},1.9000000000000017E-2,0.504,0.34799999999999998,0.59799999999999998,0.86299999999999999,9.1999999999999971E-2,0.16200000000000003,0.36899999999999999,0.36899999999999999,0.46699999999999997,0.38200000000000001,0.46699999999999997,0.85099999999999998,0.27500000000000002,0.90300000000000002,0.19299999999999995,0.504,0.85099999999999998,0.28700000000000003,0.58299999999999996,0.504,0.98499999999999999,0.94599999999999995,0.79899999999999993,0.38500000000000001,0.85099999999999998,0.83,0.34799999999999998,0.72599999999999998,0.504,0.65,{"$f":"1-(PERCENTRANK($B34:$LR34,IC34))","v":0.34799999999999998},0.72599999999999998,0.98199999999999998,0.53400000000000003,0.66500000000000004,0.79899999999999993,0.65,0.33299999999999996,0.58299999999999996,0.67399999999999993,0.67399999999999993,0.38200000000000001,0.69599999999999995,0.504,0.21999999999999997,7.0999999999999952E-2,0.70799999999999996,0.77800000000000002,0.21999999999999997,0.90600000000000003,0.52552380952380895,{"$f":"1-(PERCENTRANK($B34:$MD34,IX34))","v":0.50900000000000001},0.73,0.80600000000000005,3.3000000000000029E-2,0.92700000000000005,0.53,0.92700000000000005,0.76500000000000001,0.9,0.73,0.50900000000000001,7.6999999999999957E-2,0.97099999999999997,0.35599999999999998,0.71199999999999997,0.48899999999999999,1,0.81800000000000006,0.995,0.91800000000000004,0.43600000000000005,0.51500000000000001,0.21199999999999997,0.90900000000000003,0.63600000000000001,0.84199999999999997,0.50900000000000001,0.96799999999999997,0.78600000000000003,0.67700000000000005,0.42100000000000004,0.871,{"$f":"1-(PERCENTRANK($B34:$MD34,KD34))","v":0.50900000000000001},0.65300000000000002,0.28900000000000003,0.79500000000000004,0.877,0.73,0.871,0.93599999999999994,0.85299999999999998,0.9,0.28900000000000003,0.23599999999999999,0.9,0.25,0.35599999999999998,0.995,0.67700000000000005,0.73,0.91800000000000004,0.92700000000000005,0.65300000000000002,0.17100000000000004,0.93300000000000005,0.42100000000000004,0.94799999999999995,0.59799999999999998,0.35599999999999998,0.91800000000000004,0.98599999999999999,0.22699999999999998,0.78600000000000003,0.69500000000000006,{"$f":"1-(PERCENTRANK($B34:$MD34,LJ34))","v":0.75},0.998,0.40300000000000002,0.81800000000000006,0.58299999999999996,0.25,0.51500000000000001,0.745,0.56800000000000006,0.98299999999999998,0.54800000000000004,0.85299999999999998,0.877,0.63600000000000001,0.65300000000000002,0.43600000000000005,0.80600000000000005,0.995,0.871,0.73,0.871,0.6794823529411762,null,0.253,0.50800000000000001,0.75924999999999998]
["Opponents Rebounds Per Game",33.799999999999997,39.200000000000003,38.6,36.799999999999997,36.4,32.200000000000003,39.1,36.4,37.299999999999997,33.799999999999997,38,36.1,36.700000000000003,35,37,31.5,36.799999999999997,34.299999999999997,40.200000000000003,32.700000000000003,34.4,36.5,39.299999999999997,37.1,31.7,35.1,41.5,31.8,35.1,37.6,34,38.6,35.9,35.9,35.799999999999997,33.700000000000003,30.7,37.5,36.5,37.5,33.799999999999997,35.799999999999997,33.6,36.200000000000003,37.1,35.200000000000003,39.6,35.299999999999997,34.5,34,34.9,36.799999999999997,32.700000000000003,33.799999999999997,36.700000000000003,37.200000000000003,36.4,33.1,37.4,40.1,32.6,40,34.299999999999997,33.1,38.5,38.5,33.700000000000003,35,35,37.9,34.1,36.200000000000003,38.799999999999997,34.200000000000003,35.200000000000003,34,33.4,35.799999999999997,34,33.6,37.299999999999997,29.1,35.6,38.200000000000003,34,35.698823529411762,32.9,32.4,36.9,34.700000000000003,29.8,35.4,32.200000000000003,37.299999999999997,32.299999999999997,29.6,34.5,36.1,35.700000000000003,39.700000000000003,34.1,34.6,36.799999999999997,33.9,31.6,35.9,32.799999999999997,34.4,38.5,33.799999999999997,36.4,34.1,35.4,33.700000000000003,28.1,38.799999999999997,36.799999999999997,36.5,33.1,38.200000000000003,32.1,40.700000000000003,32.5,33.200000000000003,30.8,29.6,35.1,33.9,36.799999999999997,35.200000000000003,34.4,35.200000000000003,32.799999999999997,37.1,36.9,33.5,34.9,35.299999999999997,39.9,34.200000000000003,36.5,34.9,35.299999999999997,32.799999999999997,36.6,34.5,34.9,31.2,34.6,34,33.1,30.5,35.4,33.1,34.4,31.5,32.299999999999997,35.299999999999997,31.7,32.799999999999997,32.200000000000003,31.6,28.5,32,31.7,36.700000000000003,38.4,34,34.700000000000003,31.1,34.254761904761892,34.200000000000003,32.700000000000003,35.4,31.2,34.6,34.299999999999997,32.799999999999997,37.1,36.4,34.9,31.5,35.700000000000003,31.1,31.4,31.9,33,35.1,31.9,32.299999999999997,37.299999999999997,32.1,33.4,29.6,38.1,34.799999999999997,32.9,35.299999999999997,32.6,34.6,32,34.200000000000003,33.200000000000003,34.700000000000003,34.200000000000003,31.6,34.1,38,34.5,31.3,33,34.4,30.9,31.7,32,32.799999999999997,36.200000000000003,31.9,32.9,30.6,33.5,32.1,33.5,34.5,35.299999999999997,33.4,35.299999999999997,34,33.6,37.9,39.299999999999997,31.5,34.799999999999997,35.1,31.3,38.6,33.9,33.9,33.6,34.6,30,33.1,30.1,29.5,32.799999999999997,36,33.1,33.299999999999997,32.9,30.6,33.5,31.8,36.9,31.8,33.6,33.584523809523816,31.5,35,34.5,36.299999999999997,38.4,29.3,29.9,31.8,35.6,32.4,33.1,31,34.9,32.6,31.8,35.1,33.700000000000003,36.299999999999997,29.4,32.9,33.200000000000003,31.9,32.1,32.4,32.299999999999997,34.9,33.4,33.6,32.5,33.5,32.9,34.299999999999997,32.799999999999997,35.200000000000003,34.4,31.8,34.299999999999997,35.1,32.299999999999997,30.7,32.799999999999997,33.799999999999997,34.9,28,34.6,34.200000000000003,34.1,29,28.3,30.5,31.4,31.7,32.5,29.5,31.9,33.9,31.4,32.4,30.3,33.299999999999997,32.9,30.2,33.200000000000003,33.299999999999997,36.299999999999997,31.5,33,30.3,30.7,31.4,31.7,34,32.200000000000003,30.5,34.5,31.2,29.6,31.6,35.6,31.2,34.4,29.5,33.799999999999997,31.9,36.299999999999997,32.687058823529412,"Opponents Rebounds Per Game",32.299999999999997,34,35.6]
["Overall Defensive Skill Set % Tile Ranking",{"$f":"AVERAGE(B35,B33,B31,B29,B27,B25)","v":0.15300000000000002},{"$f":"AVERAGE(C35,C33,C31,C29,C27,C25)","v":0.35633333333333334},0.36649999999999999,0.42450000000000004,0.16566666666666666,0.28066666666666668,0.11433333333333334,0.37133333333333329,0.20616666666666669,0.17233333333333334,0.38083333333333336,0.11766666666666668,0.33383333333333337,0.71899999999999997,0.33749999999999997,0.29150000000000004,0.32433333333333331,0.156,0.5668333333333333,0.373,0.24700000000000003,0.27066666666666667,0.29533333333333334,0.41666666666666669,0.31333333333333341,0.12766666666666668,0.43416666666666665,0.22516666666666663,0.52100000000000002,0.18899999999999997,0.23383333333333331,0.6825,0.54549999999999998,0.45866666666666661,0.22766666666666666,0.40966666666666668,0.27733333333333332,0.61483333333333334,0.57250000000000001,0.78699999999999992,0.10349999999999999,0.28900000000000003,0.29533333333333328,0.38766666666666666,0.5718333333333333,0.52400000000000002,0.60250000000000004,0.26033333333333336,0.18266666666666667,0.5528333333333334,0.45049999999999996,0.22316666666666665,0.4446666666666666,0.21099999999999999,0.41983333333333334,8.433333333333333E-2,0.31816666666666671,0.27166666666666667,0.54433333333333322,0.37883333333333336,0.21016666666666664,0.60833333333333339,0.16300000000000001,0.40716666666666668,0.48366666666666663,{"$f":"AVERAGE(BO35,BO33,BO31,BO29,BO27,BO25)","v":0.21316666666666664},0.60783333333333334,0.35716666666666669,0.35649999999999998,0.4463333333333333,0.12183333333333334,0.33366666666666672,0.26900000000000002,0.17416666666666666,0.52799999999999991,0.37983333333333341,0.50683333333333336,0.24533333333333332,0.32766666666666666,0.43866666666666659,0.29600000000000004,0.16516666666666668,0.3838333333333333,0.34949999999999998,0.31900000000000001,0.35139803921568619,{"$f":"AVERAGE(CJ35,CJ33,CJ31,CJ29,CJ27,CJ25)","v":0.34299999999999997},0.52383333333333337,0.29233333333333333,0.41766666666666669,0.40616666666666662,0.62449999999999994,0.67216666666666658,0.66816666666666658,0.51783333333333326,0.28733333333333333,0.45999999999999996,0.751,0.44350000000000001,0.43050000000000005,0.53749999999999998,0.49316666666666659,0.32483333333333331,0.3755,0.28916666666666668,0.28916666666666668,0.4461666666666666,0.55766666666666664,0.20766666666666669,0.17516666666666669,0.45200000000000001,0.65466666666666662,0.32600000000000001,0.63716666666666666,0.68183333333333318,0.43933333333333335,0.53366666666666662,0.54599999999999993,0.52266666666666661,0.58700000000000008,0.25316666666666671,0.70533333333333326,0.37283333333333335,0.39650000000000002,0.39966666666666661,0.41783333333333328,0.75316666666666665,0.30966666666666665,0.38250000000000001,0.1245,0.42250000000000004,0.45799999999999996,0.71099999999999997,0.6845,0.35200000000000004,0.54266666666666663,0.78350000000000009,0.54283333333333339,0.41066666666666668,0.57083333333333341,0.36333333333333334,0.29683333333333334,0.44083333333333335,0.41183333333333333,0.59916666666666663,0.49666666666666676,0.68266666666666664,0.72899999999999998,0.70950000000000013,0.5668333333333333,0.46299999999999991,{"$f":"AVERAGE(EW35,EW33,EW31,EW29,EW27,EW25)","v":0.37966666666666665},0.33749999999999997,0.45083333333333336,0.55800000000000016,0.33666666666666661,0.47483333333333327,0.67449999999999999,0.32466666666666666,0.56966666666666665,0.62649999999999995,0.37866666666666665,0.44833333333333331,0.70516666666666661,0.64466666666666672,0.52850000000000008,0.56950000000000001,0.42349999999999999,0.34466666666666668,0.45533333333333337,0.48212896825396812,{"$f":"AVERAGE(FQ35,FQ33,FQ31,FQ29,FQ27,FQ25)","v":0.38666666666666666},0.59100000000000008,0.51716666666666666,0.31766666666666671,0.64233333333333331,0.64483333333333337,0.60166666666666668,0.63100000000000001,0.40450000000000003,0.69416666666666671,0.60016666666666663,0.61033333333333328,0.37650000000000006,0.29283333333333333,0.46483333333333338,0.47766666666666663,0.45366666666666666,0.43183333333333335,0.48649999999999999,0.47866666666666663,0.29699999999999999,0.51516666666666666,0.5655,0.6738333333333334,0.64533333333333331,0.81566666666666665,0.89433333333333342,0.57166666666666666,0.19666666666666666,0.59350000000000003,0.54416666666666669,0.66500000000000015,0.79266666666666674,0.17133333333333334,0.38266666666666671,0.6845,0.53866666666666663,0.52133333333333332,0.59050000000000014,0.38216666666666671,0.442,0.3618333333333334,0.57466666666666666,0.48583333333333334,0.6968333333333333,0.53400000000000003,0.44866666666666671,0.77033333333333343,0.55366666666666664,0.52400000000000002,0.70316666666666672,0.41116666666666668,0.6738333333333334,0.48733333333333334,0.60916666666666663,0.64733333333333332,0.91033333333333333,0.45550000000000002,0.60866666666666669,0.68549999999999989,0.56216666666666659,0.59583333333333333,0.64366666666666672,0.64266666666666661,0.38716666666666671,{"$f":"AVERAGE(ID35,ID33,ID31,ID29,ID27,ID25)","v":0.67},0.63466666666666671,0.64116666666666677,0.51833333333333331,0.6915,0.56966666666666665,0.6206666666666667,0.46300000000000002,0.67883333333333329,0.47049999999999992,0.41466666666666668,0.73683333333333323,0.622,0.52649999999999997,0.26233333333333331,0.48466666666666675,0.65666666666666673,0.63249999999999995,0.76016666666666666,0.55494841269841277,{"$f":"AVERAGE(IX35,IX33,IX31,IX29,IX27,IX25)","v":0.67683333333333329},0.76966666666666672,0.78100000000000003,0.33049999999999996,0.81799999999999995,0.58433333333333326,0.63633333333333331,0.68416666666666659,0.83766666666666667,0.65783333333333338,0.41033333333333338,0.41283333333333333,0.74949999999999994,0.60199999999999998,0.66133333333333333,0.71866666666666656,0.67883333333333329,0.755,0.67599999999999982,0.78566666666666662,0.51133333333333331,0.50883333333333336,0.31916666666666665,0.62633333333333341,0.43449999999999994,0.74133333333333329,0.51466666666666661,0.751,0.41466666666666668,0.68766666666666676,0.63449999999999995,0.68083333333333329,0.43383333333333329,0.65,0.59666666666666657,0.52700000000000002,0.82033333333333347,0.60533333333333328,0.80199999999999994,0.68400000000000005,0.78133333333333344,0.73616666666666675,0.35216666666666668,0.28016666666666667,0.6236666666666667,0.45733333333333337,0.36533333333333334,0.65883333333333338,0.66233333333333333,0.5744999999999999,0.67266666666666663,0.83766666666666667,0.57950000000000002,0.60083333333333344,0.54716666666666669,0.72850000000000004,0.74416666666666664,0.61016666666666663,0.23966666666666669,0.91283333333333327,0.86199999999999999,0.29400000000000004,0.60883333333333334,0.77499999999999991,0.89816666666666667,{"$f":"AVERAGE(LK35,LK33,LK31,LK29,LK27,LK25)","v":0.6951666666666666},0.57116666666666671,0.7044999999999999,0.5741666666666666,0.43733333333333335,0.37899999999999995,0.55483333333333329,0.53433333333333333,0.83099999999999996,0.77716666666666667,0.7593333333333333,0.74849999999999994,0.79800000000000004,0.71316666666666662,0.80983333333333318,0.82500000000000007,0.91049999999999998,0.60883333333333334,0.85333333333333339,{"$f":"AVERAGE(MD35,MD33,MD31,MD29,MD27,MD25)","v":0.90050000000000008},0.64187254901960777,"Overall Defensive Skill Set % Tile Ranking",0.36199999999999999,0.50966666666666671,0.63541666666666674]
[]
["Choose a Team","Syracuse","Kentucky","Duke","Michigan St.","North Carolina","Kansas","Marquette","Baylor","Ohio St.","Wichita St.","UNLV","Georgetown","Southern Miss.","Temple","Michigan","Missouri","Indiana","Gonzaga","Florida","Wisconsin","Louisville","Memphis","Vanderbilt","Creighton","Alabama","Florida St.","Colorado St.","San Diego St.","Murray St.","Connecticut","Iowa St.","St. Mary's (CA)","Long Beach St.","New Mexico","Saint Louis","California","Harvard","Virginia","Iona","Purdue","Notre Dame","Oral Roberts","Northwestern","Seton Hall","Kansas St.","South Fla.","Middle Tenn.","Miami (FL)","BYU","West Virginia","Saint Joseph's","Washington","Oregon","Xavier","Texas","Nevada","South Dakota St.","Akron","Belmont","VCU","Dayton","Marshall","UNI","Davidson","Mississippi St.","UCF","Drexel","LSU","Arizona","Ole Miss","New Mexico St.","North Carolina St.","Ohio","Illinois","Weber St.","Colorado","Cincinnati","Cleveland St.","Wyoming","Bucknell","Massachusetts","Ark.-Pine Bluff","George Mason","Texas-Arlington","Minnesota",null,"Wagner","Loyola Maryland","La Salle","Valparaiso","TCU","Denver","Tennessee","Buffalo","Penn","LIU Brooklyn","Yale","Pittsburgh","Tulsa","Princeton","St. Bonaventure","Maryland","Montana","Virginia Tech","Lehigh","Duquesne","Stanford","Kent St.","Georgia","UAB","Col. of Charleston","Oklahoma St.","Missouri St.","Old Dominion","Loyola Marymount","Milwaukee","Villanova","UC Santa Barbara","UNC Asheville","Butler","Oklahoma","Robert Morris","Mercer","Tennessee St.","Richmond","Fairfield","Illinois St.","S.C. Upstate","Nebraska","Iowa","Indiana St.","UCLA","Drake","St. John's (NY)","Lamar","UTEP","Oakland","Norfolk St.","Rutgers","Green Bay","Clemson","Evansville","Bowling Green","Georgia St.","Manhattan","Auburn","Delaware","Stony Brook","American","San Francisco","Mississippi Val.","Detroit","Penn St.","Oregon St.","Utah St.","Idaho","Tennessee Tech","Cal St. Fullerton","Providence","Vermont","Rice","Wake Forest","Charlotte","Texas A&M","Air Force","Holy Cross","Boise St.","UALR","Quinnipiac","Charleston So.",null,"Wofford","North Florida","George Washington","Cornell","Youngstown St.","Georgia Tech","Coastal Caro.","Morehead St.","North Dakota St.","South Ala.","Northeastern","Portland St.","La.-Lafayette","Columbia","Washington St.","Boston U.","South Carolina","Austin Peay","Western Ill.","Western Mich.","East Tenn. St.","McNeese St.","Savannah St.","East Carolina","Hawaii","Louisiana Tech","Ga. Southern","Fla. Atlantic","San Diego","Rider","Campbell","DePaul","UTSA","North Texas","St. Francis (NY)","Niagara","Delaware St.","Tulane","Fresno St.","Houston","Lafayette","Eastern Wash.","IUPUI","Utah Valley","Cal Poly","CSU Bakersfield","Eastern Ky.","Wright St.","Northwestern St.","Albany (NY)","Fordham","SMU","UNC Wilmington","Western Ky.","Lipscomb","Stephen F. Austin","Jacksonville St.","Marist","Eastern Mich.","Central Conn. St.","Portland","Monmouth","Siena","Texas Tech","Boston College","Miami (OH)","Sacred Heart","UNC Greensboro","Fla. Gulf Coast","FIU","Elon","Western Caro.","Texas Southern","Toledo","Southern Utah","Furman","Arkansas","N.C. Central","UC Riverside","Arizona St.","Rhode Island","James Madison","Ball St.","Southeast Mo. St.",null,"Southern Ill.","Troy","Southern California","Northern Colo.","Bradley","Hofstra","Bethune-Cookman","Samford","Pepperdine","Jacksonville","Appalachian St.","UMKC","Coppin St.","Stetson","Utah","UC Irvine","High Point","Montana St.","Sam Houston St.","San Jose St.","Texas St.","Winthrop","Idaho St.","N.C. A&T","IPFW","VMI","Maine","Liberty","Pacific","Nicholls St.","Central Mich.","Eastern Ill.","Mt. St. Mary's","Santa Clara","Howard","Gardner-Webb","William & Mary","Tex.-Pan American","Southern U.","New Hampshire","Morgan St.","Saint Peter's","Ill.-Chicago","Army","Colgate","Prairie View","Chattanooga","Alabama St.","Loyola Chicago","Towson","Hartford","Md.-East. Shore","NJIT","Hampton","Saint Francis (PA)","Brown","Jackson St.","Sacramento St.","Central Ark.","La.-Monroe","Arkansas St.","A&M-Corpus Chris","Houston Baptist","Cal St. Northridge","Citadel","Dartmouth","Florida A&M","UT Martin","Radford","Navy","Canisius","Southeastern La.","Fairleigh Dickinson","Kennesaw St.","Chicago St.","Northern Ariz.","UMBC","Alcorn St.","Longwood","Northern Ill.","UC Davis","Alabama A&M","Grambling","South Carolina St.","Binghamton"]

{"sheet":"P2012","index":3,"n_rows":40,"n_cols":79,"rows_kept":40,"cut":false,"hidden":true,"merged":[[8,1,8,17],[8,19,8,35],[8,37,8,53],[8,55,8,71]]}
["2012 NCAA March Madness \"Eye Chart\""]
["Performance Management \"Eye Chart\"™                                                                                            NCAA March Madness 2012  338 Teams","Western Ky.","Mississippi Val.","Vermont","Norfolk St.","Detroit","Lamar","UNC Asheville","Lehigh","LIU Brooklyn","St. Bonaventure","Loyola Maryland","Montana","Davidson","Colorado","New Mexico St.","Belmont","West Virginia","Ave. Bottom Quartile Team","South Fla.","Virginia","Texas","Kansas St.","North Carolina St.","Ohio","BYU","Purdue","South Dakota St.","Cincinnati","Iona","Notre Dame","VCU","California","Xavier","Alabama","Harvard","Ave. lower-Middle Quartile Team","Long Beach St.","Iowa St.","Connecticut","Saint Louis","Colorado St.","St. Mary's (CA)","Florida","New Mexico","San Diego St.","Vanderbilt","Gonzaga","Creighton","Wisconsin","Murray St.","Southern Miss.","Temple","UNLV","Ave. Upper-Middle Quartile Team","Florida St.","Indiana","Memphis","Georgetown","Louisville","Wichita St.","Michigan","Missouri","Marquette","Baylor","Ohio St.","Kansas","Duke","Michigan St.","North Carolina","Syracuse","Kentucky","Ave. Top Quartile Team","Performance Management \"Eye Chart\"™                                                                                            NCAA March Madness 2012  338 Teams"]
["Games Played",33,33,34,34,35,34,33,33,33,31,32,31,32,34,35,34,32,{"$f":"SUM(B3:R3)","v":563},33,31,33,31,34,34,33,33,34,34,32,33,34,33,33,32,30,{"$f":"SUM(T3:AJ3)","v":557},33,32,33,32,31,32,33,33,33,34,31,33,33,31,33,31,34,{"$f":"SUM(AL3:BB3)","v":552},33,33,34,31,35,32,33,34,32,34,34,33,33,34,34,33,34,{"$f":"SUM(BD3:BT3)","v":566},"Games Played"]
["Winning %",{"$f":"(15/33)*100","v":45.454545454545453},{"$f":"(21/33)*100","v":63.636363636363633},{"$f":"(23/34)*100","v":67.64705882352942},{"$f":"(25/34)*100","v":73.529411764705884},{"$f":"(22/35)*100","v":62.857142857142854},{"$f":"(23/34)*100","v":67.64705882352942},{"$f":"(24/33)*100","v":72.727272727272734},{"$f":"(27/33)*100","v":81.818181818181827},{"$f":"(25/33)*100","v":75.757575757575751},{"$f":"(20/31)*100","v":64.516129032258064},{"$f":"(24/32)*100","v":75},{"$f":"(25/31)*100","v":80.645161290322577},{"$f":"(25/32)*100","v":78.125},{"$f":"(23/34)*100","v":67.64705882352942},{"$f":"(26/35)*100","v":74.285714285714292},{"$f":"(27/34)*100","v":79.411764705882348},{"$f":"(19/32)*100","v":59.375},{"$f":"AVERAGE(B4:R4)","v":70.00473175297374},{"$f":"(20/33)*100","v":60.606060606060609},{"$f":"(22/31)*100","v":70.967741935483872},{"$f":"(20/33)*100","v":60.606060606060609},{"$f":"(21/31)*100","v":67.741935483870961},{"$f":"(22/34)*100","v":64.705882352941174},{"$f":"(27/34)*100","v":79.411764705882348},{"$f":"(25/33)*100","v":75.757575757575751},{"$f":"(21/33)*100","v":63.636363636363633},{"$f":"(27/34)*100","v":79.411764705882348},{"$f":"(24/34)*100","v":70.588235294117652},{"$f":"(25/32)*100","v":78.125},{"$f":"(22/33)*100","v":66.666666666666657},{"$f":"(28/34)*100","v":82.35294117647058},{"$f":"(24/33)*100","v":72.727272727272734},{"$f":"(21/33)*100","v":63.636363636363633},{"$f":"(21/32)*100","v":65.625},{"$f":"(26/30)*100","v":86.666666666666671},{"$f":"AVERAGE(T4:AJ4)","v":71.131370350451718},{"$f":"(25/33)*100","v":75.757575757575751},{"$f":"(22/32)*100","v":68.75},{"$f":"(20/33)*100","v":60.606060606060609},{"$f":"(25/32)*100","v":78.125},{"$f":"(20/31)*100","v":64.516129032258064},{"$f":"(27/32)*100","v":84.375},{"$f":"(23/33)*100","v":69.696969696969703},{"$f":"(27/33)*100","v":81.818181818181827},{"$f":"(26/33)*100","v":78.787878787878782},{"$f":"(24/34)*100","v":70.588235294117652},{"$f":"(25/31)*100","v":80.645161290322577},{"$f":"(28/33)*100","v":84.848484848484844},{"$f":"(24/33)*100","v":72.727272727272734},{"$f":"(30/31)*100","v":96.774193548387103},{"$f":"(25/33)*100","v":75.757575757575751},{"$f":"(24/31)*100","v":77.41935483870968},{"$f":"(26/34)*100","v":76.470588235294116},{"$f":"AVERAGE(AL4:BB4)","v":76.333156602299368},{"$f":"(24/33)*100","v":72.727272727272734},{"$f":"(25/33)*100","v":75.757575757575751},{"$f":"(26/34)*100","v":76.470588235294116},{"$f":"(23/31)*100","v":74.193548387096769},{"$f":"(26/35)*100","v":74.285714285714292},{"$f":"(27/32)*100","v":84.375},{"$f":"(24/33)*100","v":72.727272727272734},{"$f":"(30/34)*100","v":88.235294117647058},{"$f":"(25/32)*100","v":78.125},{"$f":"(27/34)*100","v":79.411764705882348},{"$f":"(27/34)*100","v":79.411764705882348},{"$f":"(27/33)*100","v":81.818181818181827},{"$f":"(27/33)*100","v":81.818181818181827},{"$f":"(27/34)*100","v":79.411764705882348},{"$f":"(29/34)*100","v":85.294117647058826},{"$f":"(31/33)*100","v":93.939393939393938},{"$f":"(32/34)*100","v":94.117647058823522},{"$f":"AVERAGE(BD4:BT4)","v":80.712946037480023},"Winning %",null,null,{"$f":"_xlfn.QUARTILE.INC($B4:$BT4,1)","v":68.245967741935488},{"$f":"_xlfn.QUARTILE.INC($B4:$BT4,2)","v":75.757575757575751},{"$f":"_xlfn.QUARTILE.INC($B4:$BT4,3)","v":79.411764705882348}]
["Scoring Margin",-3.9,-0.8,6.7,2,4.2,7.7,8.6,11,3.9,6.3,3.2,8.4,10.4,6.1,10.4,14.4,5.4,{"$f":"AVERAGE(B5:R5)","v":6.1176470588235299},2.5,10.5,7.4,7.9,5,9.3000000000000007,12.8,6.6,10.6,8.1,10.9,6.5,8.6999999999999993,11.2,4.0999999999999996,7.8,11,{"$f":"AVERAGE(T5:AJ5)","v":8.2882352941176478},9.3000000000000007,7.3,4.8,12.4,2,13.1,12.5,14,8.6,7.8,10.3,10.199999999999999,12,13.1,7.8,6.2,12,{"$f":"AVERAGE(AL5:BB5)","v":9.6117647058823525},7.8,12.1,10.199999999999999,10.9,8.4,15.5,5.9,14.5,11.1,10.9,17.100000000000001,13.8,10.6,14.7,15.8,15.2,19,{"$f":"AVERAGE(BD5:BT5)","v":12.558823529411764},"Scoring Margin",null,null,{"$f":"_xlfn.QUARTILE.INC($B5:$BT5,1)","v":6.55},{"$f":"_xlfn.QUARTILE.INC($B5:$BT5,2)","v":9.3000000000000007},{"$f":"_xlfn.QUARTILE.INC($B5:$BT5,3)","v":11.6}]
["Rebound Margin",-1.4,0.5,3.6,1.8,2.1,5.6,1.3,2.1,2.9,5,3.8,-1,7.1,4.5999999999999996,8.1,2.6,6,3.2176470588235295,3.3,3.6,3.3,5.4,4.7,0.1,4.7,-0.8,2.2999999999999998,0.9,1.1000000000000001,-0.2,-0.5,4.3,2.8,2.2999999999999998,4.5999999999999996,2.4647058823529413,2.6,4.5,4,1.5,1,7.2,3.2,6.7,4.9000000000000004,1.6,6.9,5.5,2.9,2.1,4.5999999999999996,0.7,4.2,3.770588235294118,4.3,4.0999999999999996,1.2,5.6,2.5,6.5,-0.6,1,-0.4,5,6.9,6.1,3.3,9.6,11.4,-0.8,7.3,4.2941176470588234,"Rebound Margin",null,null,1.55,3.3,4.95]
["Strength of Schedule",140,311,272,308,171,216,209,290,246,112,116,202,172,71,114,193,17,185.88235294117646,28,85,18,55,26,163,101,27,161,65,145,39,154,86,35,30,182,82.352941176470594,123,40,3,89,21,103,24,81,58,6,78,102,14,157,47,54,38,61.058823529411768,4,32,19,13,8,56,11,69,16,9,7,10,2,1,5,22,25,18.176470588235293,"Strength of Schedule",null,null,21.5,61.058823529411768,142.5]
["Ratings Percentage Index",189,143,135,128,125,106,103,91,81,79,77,73,65,62,59,58,56,95.882352941176464,53,52,50,49,48,47,46,45,43,42,41,40,39,38,37,36,35,43.588235294117645,34,33,32,31,30,29,28,27,26,25,24,23,22,21,20,19,18,26,17,16,15,14,13,12,11,10,9,8,7,6,5,4,3,2,1,9,"Ratings Percentage Index",null,null,18.5,35,54.5]
["Team Quartile Performance","Bottom Quartile Performance",null,null,null,null,null,null,null,null,null,null,null,null,null,null,null,null,null,"Lower-Middle Quartile Performance",null,null,null,null,null,null,null,null,null,null,null,null,null,null,null,null,null,"Upper-Middle Quartile Performance",null,null,null,null,null,null,null,null,null,null,null,null,null,null,null,null,null,"Top Quartile Performance",null,null,null,null,null,null,null,null,null,null,null,null,null,null,null,null,null,"Player Quartile Performance",null,null,{"$error":"#NUM!"},{"$error":"#NUM!"},{"$error":"#NUM!"}]
["Points Per Game",64.5,68.7,68,68.7,72.3,74.3,80.8,75.900000000000006,81.8,69.599999999999994,67.599999999999994,70.2,77.900000000000006,68.2,78.8,82.1,71.8,73.011764705882356,60.1,62.7,73.7,71,73.7,71.599999999999994,79,71.7,78.599999999999994,68.900000000000006,83.4,68,68.3,72,71.7,65.900000000000006,65,70.899999999999991,73.8,73.3,68.599999999999994,68.8,70.8,74.599999999999994,77.7,72.599999999999994,70.900000000000006,73.900000000000006,73.2,79.7,64,74.8,71.599999999999994,75.599999999999994,78.400000000000006,73.076470588235296,69.599999999999994,77.599999999999994,74.7,69.599999999999994,70.7,78.3,66.3,79.7,76.400000000000006,74.400000000000006,74.7,75,79,72.5,81.900000000000006,75.8,77.8,74.941176470588232,"Points Per Game",null,null,69.599999999999994,73.011764705882356,76.150000000000006]
[null,{"$f":"PERCENTRANK($B10:$LZ10, B10)","v":0.04},{"$f":"PERCENTRANK($B10:$BT10, C10)","v":0.185},{"$f":"PERCENTRANK($B10:$LZ10, D10)","v":0.108},{"$f":"PERCENTRANK($B10:$LZ10, E10)","v":0.17499999999999999},{"$f":"PERCENTRANK($B10:$LZ10, F10)","v":0.44500000000000001},{"$f":"PERCENTRANK($B10:$LZ10, G10)","v":0.60799999999999998},{"$f":"PERCENTRANK($B10:$BT10, H10)","v":0.94199999999999995},{"$f":"PERCENTRANK($B10:$LZ10, I10)","v":0.74299999999999999},{"$f":"PERCENTRANK($B10:$BT10, J10)","v":0.95699999999999996},{"$f":"PERCENTRANK($B10:$LZ10, K10)","v":0.22900000000000001},{"$f":"PERCENTRANK($B10:$LZ10, L10)","v":9.4E-2},{"$f":"PERCENTRANK($B10:$BT10, M10)","v":0.28499999999999998},{"$f":"PERCENTRANK($B10:$BT10, N10)","v":0.81399999999999995},{"$f":"PERCENTRANK($B10:$LZ10, O10)","v":0.13500000000000001},{"$f":"PERCENTRANK($B10:$LZ10, P10)","v":0.878},{"$f":"PERCENTRANK($B10:$LZ10, Q10)","v":0.98599999999999999},{"$f":"PERCENTRANK($B10:$BT10, R10)","v":0.42799999999999999},0.47364705882352948,{"$f":"PERCENTRANK($B10:$BT10, T10)","v":0},{"$f":"PERCENTRANK($B10:$BT10, U10)","v":1.4E-2},{"$f":"PERCENTRANK($B10:$BT10, V10)","v":0.55700000000000005},{"$f":"PERCENTRANK($B10:$BT10, W10)","v":0.35699999999999998},{"$f":"PERCENTRANK($B10:$LZ10, X10)","v":0.55400000000000005},{"$f":"PERCENTRANK($B10:$LZ10, Y10)","v":0.36399999999999999},{"$f":"PERCENTRANK($B10:$BT10, Z10)","v":0.88500000000000001},{"$f":"PERCENTRANK($B10:$BT10, AA10)","v":0.4},{"$f":"PERCENTRANK($B10:$LZ10, AB10)","v":0.86399999999999999},{"$f":"PERCENTRANK($B10:$BT10, AC10)","v":0.22800000000000001},{"$f":"PERCENTRANK($B10:$BT10, AD10)","v":1},{"$f":"PERCENTRANK($B10:$BT10, AE10)","v":0.114},{"$f":"PERCENTRANK($B10:$LZ10, AF10)","v":0.14799999999999999},{"$f":"PERCENTRANK($B10:$BT10, AG10)","v":0.442},{"$f":"PERCENTRANK($B10:$BT10, AH10)","v":0.4},{"$f":"PERCENTRANK($B10:$BT10, AI10)","v":7.0999999999999994E-2},{"$f":"PERCENTRANK($B10:$BT10, AJ10)","v":5.7000000000000002E-2},0.37970588235294117,{"$f":"PERCENTRANK($B10:$BT10, AL10)","v":0.58499999999999996},0.54200000000000004,0.17100000000000001,0.214,0.314,0.64200000000000002,0.78500000000000003,0.48499999999999999,0.34200000000000003,0.6,0.52800000000000002,0.91400000000000003,2.8000000000000001E-2,0.68500000000000005,0.371,0.71399999999999997,0.84199999999999997,0.51541176470588235,{"$f":"PERCENTRANK($B10:$BT10, BD10)","v":0.24199999999999999},0.77100000000000002,0.65700000000000003,0.24199999999999999,0.3,0.82799999999999996,8.5000000000000006E-2,0.91400000000000003,0.75700000000000001,0.628,0.65700000000000003,0.7,0.88500000000000001,0.47099999999999997,0.97099999999999997,0.72799999999999998,0.8,0.62564705882352933,null,null,null,0.23549999999999999,0.48499999999999999,0.75]
["Field Goal Percentage",39.4,40,44.6,44,45.2,43.3,48.2,44.6,47.4,45.8,42.2,46.4,44.5,44.3,47.7,48.7,44.7,44.764705882352949,44,46.1,44.2,43.7,46,43.1,46.8,43.5,46.8,42,50.2,43.7,40.799999999999997,48.1,45.6,45.7,46.3,45.094117647058823,47.4,45.2,45.2,45.3,47.5,47.4,46.5,46,45.4,46.4,46.9,50.8,42.6,47.8,41.6,47.4,46.8,46.2470588235294,45.1,49,49,46.2,43.2,49,45.6,49.7,46.4,47.2,48.3,48.3,46.5,47.6,46.2,47.1,48.8,47.247058823529407,"Field Goal Percentage",null,null,44.55,46.1,47.4]
[null,{"$f":"PERCENTRANK($B12:$LZ12, B12)","v":0},{"$f":"PERCENTRANK($B12:$BT12, C12)","v":1.4E-2},{"$f":"PERCENTRANK($B12:$LZ12, D12)","v":0.25600000000000001},{"$f":"PERCENTRANK($B12:$LZ12, E12)","v":0.17499999999999999},{"$f":"PERCENTRANK($B12:$LZ12, F12)","v":0.33700000000000002},{"$f":"PERCENTRANK($B12:$LZ12, G12)","v":0.121},{"$f":"PERCENTRANK($B12:$BT12, H12)","v":0.85699999999999998},{"$f":"PERCENTRANK($B12:$LZ12, I12)","v":0.25600000000000001},{"$f":"PERCENTRANK($B12:$BT12, J12)","v":0.72799999999999998},{"$f":"PERCENTRANK($B12:$LZ12, K12)","v":0.44500000000000001},{"$f":"PERCENTRANK($B12:$LZ12, L12)","v":6.7000000000000004E-2},{"$f":"PERCENTRANK($B12:$BT12, M12)","v":0.57099999999999995},{"$f":"PERCENTRANK($B12:$BT12, N12)","v":0.24199999999999999},{"$f":"PERCENTRANK($B12:$LZ12, O12)","v":0.216},{"$f":"PERCENTRANK($B12:$LZ12, P12)","v":0.82399999999999995},{"$f":"PERCENTRANK($B12:$LZ12, Q12)","v":0.90500000000000003},{"$f":"PERCENTRANK($B12:$BT12, R12)","v":0.28499999999999998},0.37052941176470588,{"$f":"PERCENTRANK($B12:$BT12, T12)","v":0.185},{"$f":"PERCENTRANK($B12:$BT12, U12)","v":0.5},{"$f":"PERCENTRANK($B12:$BT12, V12)","v":0.214},{"$f":"PERCENTRANK($B12:$BT12, W12)","v":0.157},{"$f":"PERCENTRANK($B12:$LZ12, X12)","v":0.45900000000000002},{"$f":"PERCENTRANK($B12:$LZ12, Y12)","v":9.4E-2},{"$f":"PERCENTRANK($B12:$BT12, Z12)","v":0.64200000000000002},{"$f":"PERCENTRANK($B12:$BT12, AA12)","v":0.14199999999999999},{"$f":"PERCENTRANK($B12:$LZ12, AB12)","v":0.63500000000000001},{"$f":"PERCENTRANK($B12:$BT12, AC12)","v":5.7000000000000002E-2},{"$f":"PERCENTRANK($B12:$BT12, AD12)","v":0.98499999999999999},{"$f":"PERCENTRANK($B12:$BT12, AE12)","v":0.157},{"$f":"PERCENTRANK($B12:$LZ12, AF12)","v":2.7E-2},{"$f":"PERCENTRANK($B12:$BT12, AG12)","v":0.84199999999999997},{"$f":"PERCENTRANK($B12:$BT12, AH12)","v":0.41399999999999998},{"$f":"PERCENTRANK($B12:$BT12, AI12)","v":0.442},{"$f":"PERCENTRANK($B12:$BT12, AJ12)","v":0.55700000000000005},0.38288235294117651,{"$f":"PERCENTRANK($B12:$BT12, AL12)","v":0.72799999999999998},0.34200000000000003,0.34200000000000003,0.38500000000000001,0.78500000000000003,0.72799999999999998,0.61399999999999999,0.47099999999999997,0.4,0.57099999999999995,0.68500000000000005,1,8.5000000000000006E-2,0.82799999999999996,4.2000000000000003E-2,0.72799999999999998,0.64200000000000002,0.55152941176470582,{"$f":"PERCENTRANK($B12:$BT12, BD12)","v":0.32800000000000001},0.92800000000000005,0.92800000000000005,0.51400000000000001,0.114,0.92800000000000005,0.41399999999999998,0.97099999999999997,0.57099999999999995,0.71399999999999997,0.871,0.871,0.61399999999999999,0.8,0.51400000000000001,0.7,0.91400000000000003,0.6878823529411765,null,null,null,0.249,0.5,0.72799999999999998]
["3 Point Percentage",29.9,33.1,34.700000000000003,30.6,30.3,34,36.1,35.299999999999997,37.299999999999997,33.700000000000003,33,36.9,34.1,35.1,33,37.700000000000003,30.7,33.852941176470594,31.3,33.799999999999997,33.799999999999997,33,35.5,33.799999999999997,34.4,36.6,39.5,35.799999999999997,39.4,33.200000000000003,33.200000000000003,37.1,35.9,28.5,34.700000000000003,34.676470588235297,35.799999999999997,38.299999999999997,32.700000000000003,36.299999999999997,41,34.700000000000003,39.4,38.4,33.200000000000003,39.799999999999997,37.5,42.8,35.799999999999997,41.5,36.299999999999997,40.5,37.200000000000003,37.71764705882353,33,42.6,36.799999999999997,35.299999999999997,32.200000000000003,37.200000000000003,34.700000000000003,38.4,34.6,39,33.1,35.200000000000003,38.700000000000003,35.200000000000003,34.799999999999997,34.200000000000003,37.6,36.035294117647062,"3 Point Percentage",null,null,33.75,35.200000000000003,37.4]
[null,1.7000000000000001E-2,0.23799999999999999,0.47,4.9000000000000002E-2,null,null,0.67,0.55400000000000005,0.83799999999999997,0.30499999999999999,0.217,0.79600000000000004,0.38500000000000001,0.52900000000000003,null,0.86599999999999999,5.6000000000000001E-2,0.42785714285714282,null,0.32900000000000001,0.32900000000000001,0.217,0.57799999999999996,0.32900000000000001,0.435,0.747,0.95,0.624,0.94299999999999995,0.249,0.249,null,0.64500000000000002,null,0.47,0.50671428571428556,0.624,0.89400000000000002,0.192,0.68400000000000005,0.98199999999999998,0.47,0.94299999999999995,0.90500000000000003,0.249,0.95699999999999996,0.84499999999999997,0.996,0.624,0.98899999999999999,0.68400000000000005,0.96399999999999997,0.82399999999999995,0.75447058823529412,0.217,0.99199999999999999,0.77100000000000002,0.55400000000000005,0.14699999999999999,0.82399999999999995,0.47,0.90500000000000003,0.45600000000000002,0.93300000000000005,null,0.54300000000000004,0.91900000000000004,0.54300000000000004,0.498,0.40699999999999997,0.85599999999999998,0.6271874999999999,null,null,null,0.371,0.56600000000000006,0.84775]
["Free Throw Percentage",70.099999999999994,65.400000000000006,74.099999999999994,65,72.8,71.7,76,78.400000000000006,73,76.900000000000006,71.099999999999994,71.3,76.599999999999994,69.599999999999994,66.3,73.900000000000006,66.099999999999994,71.664705882352933,70.5,72.400000000000006,73.099999999999994,65.7,72.5,68.2,71.099999999999994,64.8,72.599999999999994,64.099999999999994,71.8,71.7,70.099999999999994,75.099999999999994,69,71,74.2,70.464705882352945,66.3,67.400000000000006,67.099999999999994,70.5,76.7,72.599999999999994,70.3,69.5,69.400000000000006,70.599999999999994,71.7,72.900000000000006,73.599999999999994,73.3,74.900000000000006,71.2,67.599999999999994,70.917647058823519,69.2,75.5,71.099999999999994,70.7,68.099999999999994,75.2,70.8,77,72.2,74.599999999999994,69.7,69.3,69.5,70.099999999999994,66.8,69.7,72.400000000000006,71.288235294117669,"Free Throw Percentage",null,null,69.45,71.099999999999994,72.95]
[null,{"$f":"PERCENTRANK($B16:$LZ16, B16)","v":0.32400000000000001},{"$f":"PERCENTRANK($B16:$BT16, C16)","v":4.2000000000000003E-2},{"$f":"PERCENTRANK($B16:$LZ16, D16)","v":0.83699999999999997},{"$f":"PERCENTRANK($B16:$LZ16, E16)","v":2.7E-2},{"$f":"PERCENTRANK($B16:$LZ16, F16)","v":0.72899999999999998},{"$f":"PERCENTRANK($B16:$LZ16, G16)","v":0.59399999999999997},{"$f":"PERCENTRANK($B16:$BT16, H16)","v":0.92800000000000005},{"$f":"PERCENTRANK($B16:$LZ16, I16)","v":1},{"$f":"PERCENTRANK($B16:$BT16, J16)","v":0.75700000000000001},{"$f":"PERCENTRANK($B16:$LZ16, K16)","v":0.97199999999999998},{"$f":"PERCENTRANK($B16:$LZ16, L16)","v":0.48599999999999999},{"$f":"PERCENTRANK($B16:$BT16, M16)","v":0.55700000000000005},{"$f":"PERCENTRANK($B16:$BT16, N16)","v":0.94199999999999995},{"$f":"PERCENTRANK($B16:$LZ16, O16)","v":0.28299999999999997},{"$f":"PERCENTRANK($B16:$LZ16, P16)","v":8.1000000000000003E-2},{"$f":"PERCENTRANK($B16:$LZ16, Q16)","v":0.82399999999999995},{"$f":"PERCENTRANK($B16:$BT16, R16)","v":7.0999999999999994E-2},0.55611764705882338,{"$f":"PERCENTRANK($B16:$BT16, T16)","v":0.4},{"$f":"PERCENTRANK($B16:$BT16, U16)","v":0.65700000000000003},{"$f":"PERCENTRANK($B16:$BT16, V16)","v":0.77100000000000002},{"$f":"PERCENTRANK($B16:$BT16, W16)","v":5.7000000000000002E-2},{"$f":"PERCENTRANK($B16:$LZ16, X16)","v":0.68899999999999995},{"$f":"PERCENTRANK($B16:$LZ16, Y16)","v":0.17499999999999999},{"$f":"PERCENTRANK($B16:$BT16, Z16)","v":0.5},{"$f":"PERCENTRANK($B16:$BT16, AA16)","v":1.4E-2},{"$f":"PERCENTRANK($B16:$LZ16, AB16)","v":0.70199999999999996},{"$f":"PERCENTRANK($B16:$BT16, AC16)","v":0},{"$f":"PERCENTRANK($B16:$BT16, AD16)","v":0.628},{"$f":"PERCENTRANK($B16:$BT16, AE16)","v":0.58499999999999996},{"$f":"PERCENTRANK($B16:$LZ16, AF16)","v":0.32400000000000001},{"$f":"PERCENTRANK($B16:$BT16, AG16)","v":0.88500000000000001},{"$f":"PERCENTRANK($B16:$BT16, AH16)","v":0.2},{"$f":"PERCENTRANK($B16:$BT16, AI16)","v":0.48499999999999999},{"$f":"PERCENTRANK($B16:$BT16, AJ16)","v":0.84199999999999997},0.4655294117647058,{"$f":"PERCENTRANK($B16:$BT16, AL16)","v":8.5000000000000006E-2},0.14199999999999999,0.128,0.4,0.95699999999999996,0.7,0.371,0.25700000000000001,0.24199999999999999,0.42799999999999999,0.58499999999999996,0.74199999999999999,0.8,0.78500000000000003,0.871,0.54200000000000004,0.157,0.48188235294117648,{"$f":"PERCENTRANK($B16:$BT16, BD16)","v":0.214},0.91400000000000003,0.5,0.442,0.17100000000000001,0.9,0.45700000000000002,0.98499999999999999,0.64200000000000002,0.85699999999999998,0.3,0.22800000000000001,0.25700000000000001,0.32800000000000001,0.114,0.3,0.65700000000000003,0.48623529411764704,null,null,null,0.2495,0.48599999999999999,0.74950000000000006]
["Assists Per Game",11.2,13.5,13.4,11.9,13,13.3,16.5,13.3,14.9,13.7,11.8,14,13.6,12.3,13.8,17.8,14.9,13.700000000000003,12.2,12.4,12.5,14.2,16.3,13.3,17.3,13.4,14.4,13.1,19.5,14.7,12.4,16.100000000000001,14.1,12.7,12.7,14.194117647058821,14,14.4,13.4,13.6,12.4,16,15.2,16.3,12.5,13,13.3,18,11.7,13,11.3,15.4,18.3,14.223529411764709,11.8,13.8,14.1,13.8,14.1,15,13.2,16.100000000000001,17.3,15.1,15,15.8,12.8,15.7,17.600000000000001,16.100000000000001,13.4,14.747058823529413,"Assists Per Game",null,null,13,13.8,15.149999999999999]
[null,{"$f":"PERCENTRANK($B18:$LZ18, B18)","v":0},{"$f":"PERCENTRANK($B18:$BT18, C18)","v":0.41399999999999998},{"$f":"PERCENTRANK($B18:$LZ18, D18)","v":0.35099999999999998},{"$f":"PERCENTRANK($B18:$LZ18, E18)","v":6.7000000000000004E-2},{"$f":"PERCENTRANK($B18:$LZ18, F18)","v":0.216},{"$f":"PERCENTRANK($B18:$LZ18, G18)","v":0.29699999999999999},{"$f":"PERCENTRANK($B18:$BT18, H18)","v":0.9},{"$f":"PERCENTRANK($B18:$LZ18, I18)","v":0.29699999999999999},{"$f":"PERCENTRANK($B18:$BT18, J18)","v":0.68500000000000005},{"$f":"PERCENTRANK($B18:$LZ18, K18)","v":0.44500000000000001},{"$f":"PERCENTRANK($B18:$LZ18, L18)","v":0.04},{"$f":"PERCENTRANK($B18:$BT18, M18)","v":0.52800000000000002},{"$f":"PERCENTRANK($B18:$BT18, N18)","v":0.42799999999999999},{"$f":"PERCENTRANK($B18:$LZ18, O18)","v":9.4E-2},{"$f":"PERCENTRANK($B18:$LZ18, P18)","v":0.47199999999999998},{"$f":"PERCENTRANK($B18:$LZ18, Q18)","v":0.95899999999999996},{"$f":"PERCENTRANK($B18:$BT18, R18)","v":0.68500000000000005},0.40458823529411764,{"$f":"PERCENTRANK($B18:$BT18, T18)","v":8.5000000000000006E-2},{"$f":"PERCENTRANK($B18:$BT18, U18)","v":0.114},{"$f":"PERCENTRANK($B18:$BT18, V18)","v":0.157},{"$f":"PERCENTRANK($B18:$BT18, W18)","v":0.61399999999999999},{"$f":"PERCENTRANK($B18:$LZ18, X18)","v":0.878},{"$f":"PERCENTRANK($B18:$LZ18, Y18)","v":0.29699999999999999},{"$f":"PERCENTRANK($B18:$BT18, Z18)","v":0.91400000000000003},{"$f":"PERCENTRANK($B18:$BT18, AA18)","v":0.35699999999999998},{"$f":"PERCENTRANK($B18:$LZ18, AB18)","v":0.63500000000000001},{"$f":"PERCENTRANK($B18:$BT18, AC18)","v":0.27100000000000002},{"$f":"PERCENTRANK($B18:$BT18, AD18)","v":1},{"$f":"PERCENTRANK($B18:$BT18, AE18)","v":0.67100000000000004},{"$f":"PERCENTRANK($B18:$LZ18, AF18)","v":0.108},{"$f":"PERCENTRANK($B18:$BT18, AG18)","v":0.82799999999999996},{"$f":"PERCENTRANK($B18:$BT18, AH18)","v":0.55700000000000005},{"$f":"PERCENTRANK($B18:$BT18, AI18)","v":0.185},{"$f":"PERCENTRANK($B18:$BT18, AJ18)","v":0.185},0.46211764705882352,{"$f":"PERCENTRANK($B18:$BT18, AL18)","v":0.52800000000000002},0.64200000000000002,0.35699999999999998,0.42799999999999999,0.114,0.81399999999999995,0.75700000000000001,0.871,0.157,0.22800000000000001,0.3,0.97099999999999997,2.8000000000000001E-2,0.22800000000000001,1.4E-2,0.77100000000000002,0.98499999999999999,0.48194117647058821,{"$f":"PERCENTRANK($B18:$BT18, BD18)","v":4.2000000000000003E-2},0.48499999999999999,0.55700000000000005,0.48499999999999999,0.55700000000000005,0.71399999999999997,0.28499999999999998,0.82799999999999996,0.91400000000000003,0.74199999999999999,0.71399999999999997,0.8,0.214,0.78500000000000003,0.94199999999999995,0.82799999999999996,0.35699999999999998,0.60288235294117642,null,null,null,0.22800000000000001,0.47199999999999998,0.74950000000000006]
["Turn Overs Per Game",15.3,15.2,12.3,15.7,12.5,12.7,13.8,11.4,16.7,14.5,13.6,12.9,12,13.2,14.9,12.6,13.2,13.676470588235293,13.6,11.3,12.8,14.7,12.9,13.3,13.1,8.6,10.5,10.8,12.5,10,11.6,11.8,13.4,13.1,12.2,12.129411764705882,13.3,12.5,13.1,11.1,12.9,11.7,11.4,14.1,12.8,13.7,13.7,12.5,9,14.1,11.6,12.2,13.7,12.552941176470584,16.5,13.1,12.9,12.6,14.8,12.1,10.6,10.5,12.7,14.2,11.8,13.5,12.4,13.3,12,10.5,11.7,12.658823529411766,"Turn Overs Per Game",null,null,11.9,12.8,13.6]
[null,{"$f":"PERCENTRANK($B20:$LZ20, B20)","v":0.95899999999999996},{"$f":"PERCENTRANK($B20:$BT20, C20)","v":0.94199999999999995},{"$f":"PERCENTRANK($B20:$LZ20, D20)","v":0.33700000000000002},{"$f":"PERCENTRANK($B20:$LZ20, E20)","v":0.97199999999999998},{"$f":"PERCENTRANK($B20:$LZ20, F20)","v":0.36399999999999999},{"$f":"PERCENTRANK($B20:$LZ20, G20)","v":0.47199999999999998},{"$f":"PERCENTRANK($B20:$BT20, H20)","v":0.82799999999999996},{"$f":"PERCENTRANK($B20:$LZ20, I20)","v":0.13500000000000001},{"$f":"PERCENTRANK($B20:$BT20, J20)","v":1},{"$f":"PERCENTRANK($B20:$LZ20, K20)","v":0.89100000000000001},{"$f":"PERCENTRANK($B20:$LZ20, L20)","v":0.74299999999999999},{"$f":"PERCENTRANK($B20:$BT20, M20)","v":0.52800000000000002},{"$f":"PERCENTRANK($B20:$BT20, N20)","v":0.25700000000000001},{"$f":"PERCENTRANK($B20:$LZ20, O20)","v":0.64800000000000002},{"$f":"PERCENTRANK($B20:$LZ20, P20)","v":0.93200000000000005},{"$f":"PERCENTRANK($B20:$LZ20, Q20)","v":0.432},{"$f":"PERCENTRANK($B20:$BT20, R20)","v":0.64200000000000002},0.65188235294117636,{"$f":"PERCENTRANK($B20:$BT20, T20)","v":0.74199999999999999},{"$f":"PERCENTRANK($B20:$BT20, U20)","v":0.128},{"$f":"PERCENTRANK($B20:$BT20, V20)","v":0.5},{"$f":"PERCENTRANK($B20:$BT20, W20)","v":0.9},{"$f":"PERCENTRANK($B20:$LZ20, X20)","v":0.54},{"$f":"PERCENTRANK($B20:$LZ20, Y20)","v":0.67500000000000004},{"$f":"PERCENTRANK($B20:$BT20, Z20)","v":0.58499999999999996},{"$f":"PERCENTRANK($B20:$BT20, AA20)","v":0},{"$f":"PERCENTRANK($B20:$LZ20, AB20)","v":0.04},{"$f":"PERCENTRANK($B20:$BT20, AC20)","v":0.1},{"$f":"PERCENTRANK($B20:$BT20, AD20)","v":0.371},{"$f":"PERCENTRANK($B20:$BT20, AE20)","v":2.8000000000000001E-2},{"$f":"PERCENTRANK($B20:$LZ20, AF20)","v":0.16200000000000001},{"$f":"PERCENTRANK($B20:$BT20, AG20)","v":0.22800000000000001},{"$f":"PERCENTRANK($B20:$BT20, AH20)","v":0.71399999999999997},{"$f":"PERCENTRANK($B20:$BT20, AI20)","v":0.58499999999999996},{"$f":"PERCENTRANK($B20:$BT20, AJ20)","v":0.314},0.38894117647058818,{"$f":"PERCENTRANK($B20:$BT20, AL20)","v":0.67100000000000004},0.371,0.58499999999999996,0.114,0.52800000000000002,0.2,0.14199999999999999,0.84199999999999997,0.5,0.78500000000000003,0.78500000000000003,0.371,1.4E-2,0.84199999999999997,0.17100000000000001,0.314,0.78500000000000003,0.47176470588235292,{"$f":"PERCENTRANK($B20:$BT20, BD20)","v":0.98499999999999999},0.58499999999999996,0.52800000000000002,0.442,0.91400000000000003,0.28499999999999998,8.5000000000000006E-2,4.2000000000000003E-2,0.47099999999999997,0.871,0.22800000000000001,0.72799999999999998,0.35699999999999998,0.67100000000000004,0.25700000000000001,4.2000000000000003E-2,0.2,0.45241176470588235,null,null,null,0.24249999999999999,0.5,0.73499999999999999]
[null,{"$f":"AVERAGE(B24,B21,B19,B17,B15,B13,B11)","v":0.30714285714285711},{"$f":"AVERAGE(C24,C21,C19,C17,C15,C13,C11)","v":0.38757142857142851},0.39485714285714285,0.29228571428571426,0.45883333333333337,0.50616666666666665,0.79,0.47842857142857137,0.80385714285714283,0.53700000000000003,0.3625714285714286,0.47414285714285714,0.55599999999999994,0.28942857142857142,0.6931666666666666,0.78942857142857137,0.45042857142857151,0.50419467787114847,0.26683333333333331,0.24885714285714286,0.49042857142857149,0.46585714285714286,0.63057142857142856,0.39585714285714285,0.61785714285714288,0.30457142857142855,0.57357142857142851,0.31400000000000006,0.74042857142857144,0.27885714285714286,0.25728571428571428,0.55999999999999994,0.45514285714285713,0.33733333333333332,0.35028571428571426,0.42869047619047623,0.53342857142857147,0.45557142857142857,0.36357142857142855,0.33899999999999997,0.52757142857142869,0.58100000000000007,0.59514285714285708,0.61085714285714299,0.30271428571428577,0.53485714285714292,0.58457142857142852,0.72499999999999987,0.24100000000000002,0.67057142857142871,0.44071428571428573,0.60314285714285709,0.68799999999999994,0.51745378151260502,0.38042857142857139,0.7044285714285714,0.57457142857142862,0.45600000000000002,0.43814285714285706,0.67642857142857138,0.2604285714285714,0.67314285714285715,0.63514285714285712,0.78399999999999992,0.56516666666666671,{"$f":"AVERAGE(BO24,BO21,BO19,BO17,BO15,BO13,BO11)","v":0.61071428571428577},0.55828571428571439,0.60857142857142865,0.61371428571428577,0.54885714285714282,0.65242857142857147,0.57296778711484586,null,null,null,0.38399999999999995,0.51745378151260502,0.61078571428571438]
["Offensive Rebounds Per Game",12.5,13.2,11.1,11.6,11.9,14.1,11.1,11,11.9,11.3,13.3,9.1,12.6,9.9,14.6,11.5,15,12.1,10.5,8.1,13.4,14.2,12.1,12.7,11,11.3,10.5,13.5,10.8,10.3,12.4,10,10.8,10.8,8.5,11.229411764705885,11.4,10.8,12.3,10.3,8.1999999999999993,11.4,11.5,11.2,10.7,10.4,11,9.5,9.6999999999999993,10.9,13.9,10.5,11.6,10.9,11.8,10.8,9.5,11.4,13.1,10.8,8.5,9.1999999999999993,11.8,12.2,11.7,11.1,11.9,11.9,16.600000000000001,12.7,12.4,11.611764705882353,"Offensive Rebounds Per Game",null,null,10.75,11.3,12.25]
[null,{"$f":"PERCENTRANK($B23:$LZ23, B23)","v":0.81},0.878,0.40500000000000003,0.58099999999999996,0.66200000000000003,0.94499999999999995,0.40500000000000003,0.36399999999999999,0.66200000000000003,0.47199999999999998,0.89100000000000001,5.3999999999999999E-2,0.82399999999999995,0.121,0.97199999999999998,0.55400000000000005,0.98599999999999999,0.62270588235294122,{"$f":"PERCENTRANK($B23:$LZ23, T23)","v":0.189},0,0.90500000000000003,0.95899999999999996,0.71599999999999997,0.83699999999999997,0.36399999999999999,0.47199999999999998,0.189,0.91800000000000004,0.25600000000000001,0.14799999999999999,0.78300000000000003,0.13500000000000001,0.25600000000000001,0.25600000000000001,2.7E-2,0.43588235294117655,{"$f":"PERCENTRANK($B23:$LZ23, AL23)","v":0.51300000000000001},0.25600000000000001,0.77,0.14799999999999999,1.2999999999999999E-2,0.51300000000000001,0.55400000000000005,0.44500000000000001,0.22900000000000001,0.17499999999999999,0.36399999999999999,8.1000000000000003E-2,0.108,0.33700000000000002,0.93200000000000005,0.189,0.58099999999999996,0.36517647058823532,{"$f":"PERCENTRANK($B23:$LZ23, BD23)","v":0.63500000000000001},0.25600000000000001,8.1000000000000003E-2,0.51300000000000001,0.86399999999999999,0.25600000000000001,2.7E-2,6.7000000000000004E-2,0.63500000000000001,0.74299999999999999,0.621,0.40500000000000003,0.66200000000000003,0.66200000000000003,1,0.83699999999999997,0.78300000000000003,0.53217647058823536,null,null,null,0.24249999999999999,0.47199999999999998,0.75649999999999995]
["Overall Offensive Skill Set % Tile Ranking",{"$f":"PERCENTRANK($B22:$LZ22,B22)","v":0.13500000000000001},{"$f":"PERCENTRANK($B22:$BT22,C22)","v":0.25700000000000001},{"$f":"PERCENTRANK($B22:$LZ22,D22)","v":0.27},{"$f":"PERCENTRANK($B22:$LZ22,E22)","v":9.4E-2},{"$f":"PERCENTRANK($B22:$LZ22,F22)","v":0.39100000000000001},{"$f":"PERCENTRANK($B22:$LZ22,G22)","v":0.47199999999999998},{"$f":"PERCENTRANK($B22:$BT22,H22)","v":0.98499999999999999},{"$f":"PERCENTRANK($B22:$LZ22,I22)","v":0.432},{"$f":"PERCENTRANK($B22:$BT22,J22)","v":1},{"$f":"PERCENTRANK($B22:$LZ22,K22)","v":0.55400000000000005},{"$f":"PERCENTRANK($B22:$LZ22,L22)","v":0.20200000000000001},{"$f":"PERCENTRANK($B22:$BT22,M22)","v":0.42799999999999999},{"$f":"PERCENTRANK($B22:$BT22,N22)","v":0.58499999999999996},{"$f":"PERCENTRANK($B22:$LZ22,O22)","v":8.1000000000000003E-2},{"$f":"PERCENTRANK($B22:$LZ22,P22)","v":0.90500000000000003},{"$f":"PERCENTRANK($B22:$LZ22,Q22)","v":0.97199999999999998},{"$f":"PERCENTRANK($B22:$BT22,R22)","v":0.34200000000000003},0.47676470588235298,{"$f":"PERCENTRANK($B22:$BT22,T22)","v":5.7000000000000002E-2},{"$f":"PERCENTRANK($B22:$BT22,U22)","v":1.4E-2},{"$f":"PERCENTRANK($B22:$BT22,V22)","v":0.45700000000000002},{"$f":"PERCENTRANK($B22:$BT22,W22)","v":0.41399999999999998},{"$f":"PERCENTRANK($B22:$LZ22,X22)","v":0.81},{"$f":"PERCENTRANK($B22:$LZ22,Y22)","v":0.28299999999999997},{"$f":"PERCENTRANK($B22:$BT22,Z22)","v":0.78500000000000003},{"$f":"PERCENTRANK($B22:$BT22,AA22)","v":0.128},{"$f":"PERCENTRANK($B22:$LZ22,AB22)","v":0.64800000000000002},{"$f":"PERCENTRANK($B22:$BT22,AC22)","v":0.157},{"$f":"PERCENTRANK($B22:$BT22,AD22)","v":0.94199999999999995},{"$f":"PERCENTRANK($B22:$BT22,AE22)","v":7.0999999999999994E-2},{"$f":"PERCENTRANK($B22:$LZ22,AF22)","v":2.7E-2},{"$f":"PERCENTRANK($B22:$BT22,AG22)","v":0.61399999999999999},{"$f":"PERCENTRANK($B22:$BT22,AH22)","v":0.35699999999999998},{"$f":"PERCENTRANK($B22:$BT22,AI22)","v":0.17100000000000001},{"$f":"PERCENTRANK($B22:$BT22,AJ22)","v":0.2},0.36088235294117649,{"$f":"PERCENTRANK($B22:$BT22,AL22)","v":0.52800000000000002},0.371,0.22800000000000001,0.185,0.51400000000000001,0.67100000000000004,0.7,0.75700000000000001,0.114,0.54200000000000004,0.68500000000000005,0.92800000000000005,0,0.84199999999999997,0.32800000000000001,0.71399999999999997,0.88500000000000001,0.52894117647058814,{"$f":"PERCENTRANK($B22:$BT22,BD22)","v":0.24199999999999999},0.91400000000000003,0.65700000000000003,0.38500000000000001,0.314,0.871,4.2000000000000003E-2,0.85699999999999998,0.81399999999999995,0.95699999999999996,0.628,0.74199999999999999,0.6,0.72799999999999998,0.77100000000000002,0.57099999999999995,0.82799999999999996,0.64241176470588235,"Overall Offensive Skill Set % Tile Ranking",null,null,0.2495,0.51400000000000001,0.74950000000000006]
["Rebounds Per Game",35.4,37.700000000000003,35.1,36.4,34.4,39.6,34.799999999999997,36,38.9,35,35.6,32.700000000000003,38.9,37,39.9,36,37.9,36.547058823529412,34,32.700000000000003,36.200000000000003,38.1,37.299999999999997,35,39,33.299999999999997,34.700000000000003,36.6,35.200000000000003,34.4,34.4,34.799999999999997,37.1,35.1,32.799999999999997,35.335294117647052,35.1,36.4,38,32.9,31.3,36.700000000000003,36.200000000000003,38.4,37.299999999999997,34.799999999999997,37.1,35.700000000000003,34.4,33.6,36.799999999999997,34.6,38.700000000000003,35.764705882352949,37.6,34.799999999999997,34.5,36.1,38.799999999999997,37.700000000000003,31.1,32.4,35.200000000000003,36.5,36.4,37.299999999999997,37,39.1,45.9,35.5,39.200000000000003,36.77058823529412,"Defensive Rebounds Per Game",null,null,34.799999999999997,36,37.299999999999997]
[null,{"$f":"PERCENTRANK($B26:$LZ26,B26)","v":0.40500000000000003},{"$f":"PERCENTRANK($B26:$BT26,C26)","v":0.78500000000000003},{"$f":"PERCENTRANK($B26:$LZ26,D26)","v":0.32400000000000001},{"$f":"PERCENTRANK($B26:$LZ26,E26)","v":0.55400000000000005},{"$f":"PERCENTRANK($B26:$LZ26,F26)","v":0.13500000000000001},{"$f":"PERCENTRANK($B26:$LZ26,G26)","v":0.97199999999999998},{"$f":"PERCENTRANK($B26:$BT26,H26)","v":0.24199999999999999},{"$f":"PERCENTRANK($B26:$LZ26,I26)","v":0.47199999999999998},{"$f":"PERCENTRANK($B26:$BT26,J26)","v":0.9},{"$f":"PERCENTRANK($B26:$LZ26,K26)","v":0.29699999999999999},{"$f":"PERCENTRANK($B26:$LZ26,L26)","v":0.432},{"$f":"PERCENTRANK($B26:$BT26,M26)","v":4.2000000000000003E-2},{"$f":"PERCENTRANK($B26:$BT26,N26)","v":0.9},{"$f":"PERCENTRANK($B26:$LZ26,O26)","v":0.67500000000000004},{"$f":"PERCENTRANK($B26:$LZ26,P26)","v":0.98599999999999999},{"$f":"PERCENTRANK($B26:$LZ26,Q26)","v":0.47199999999999998},{"$f":"PERCENTRANK($B26:$BT26,R26)","v":0.81399999999999995},0.5533529411764706,{"$f":"PERCENTRANK($B26:$BT26,T26)","v":0.128},{"$f":"PERCENTRANK($B26:$BT26,U26)","v":4.2000000000000003E-2},{"$f":"PERCENTRANK($B26:$BT26,V26)","v":0.52800000000000002},{"$f":"PERCENTRANK($B26:$BT26,W26)","v":0.84199999999999997},{"$f":"PERCENTRANK($B26:$LZ26,X26)","v":0.72899999999999998},{"$f":"PERCENTRANK($B26:$LZ26,Y26)","v":0.29699999999999999},{"$f":"PERCENTRANK($B26:$BT26,Z26)","v":0.92800000000000005},{"$f":"PERCENTRANK($B26:$BT26,AA26)","v":0.1},{"$f":"PERCENTRANK($B26:$LZ26,AB26)","v":0.216},{"$f":"PERCENTRANK($B26:$BT26,AC26)","v":0.628},{"$f":"PERCENTRANK($B26:$BT26,AD26)","v":0.371},{"$f":"PERCENTRANK($B26:$BT26,AE26)","v":0.14199999999999999},{"$f":"PERCENTRANK($B26:$LZ26,AF26)","v":0.13500000000000001},{"$f":"PERCENTRANK($B26:$BT26,AG26)","v":0.24199999999999999},{"$f":"PERCENTRANK($B26:$BT26,AH26)","v":0.7},{"$f":"PERCENTRANK($B26:$BT26,AI26)","v":0.32800000000000001},{"$f":"PERCENTRANK($B26:$BT26,AJ26)","v":7.0999999999999994E-2},0.37805882352941184,{"$f":"PERCENTRANK($B26:$BT26,AL26)","v":0.32800000000000001},0.55700000000000005,0.82799999999999996,8.5000000000000006E-2,1.4E-2,0.64200000000000002,0.52800000000000002,0.85699999999999998,0.72799999999999998,0.24199999999999999,0.7,0.45700000000000002,0.14199999999999999,0.114,0.65700000000000003,0.214,0.871,0.46847058823529414,{"$f":"PERCENTRANK($B26:$BT26,BD26)","v":0.77100000000000002},0.24199999999999999,0.2,0.51400000000000001,0.88500000000000001,0.78500000000000003,0,2.8000000000000001E-2,0.371,0.6,0.55700000000000005,0.72799999999999998,0.67100000000000004,0.94199999999999995,1,0.42799999999999999,0.95699999999999996,0.56935294117647073,null,null,null,0.24199999999999999,0.47199999999999998,0.72849999999999993]
["Steals Per Game",6,8.6,6.3,7.4,7.3,8.6,8.4,7.6,6.2,6.1,8.1,7.4,5.6,5.5,6.9,7.7,6.4,7.0647058823529409,5.7,6.5,6.9,6.1,7,9.3000000000000007,8.5,6.8,6.6,7.8,7.2,5.0999999999999996,10.6,4.9000000000000004,6.4,7.7,6,7.0058823529411773,7.3,5.9,6.1,7.3,5.3,7.2,6.7,7.4,5.8,6,6.7,5,5.3,8.4,5.7,6.8,8.6,6.5588235294117645,8,6.6,7.9,6.4,9.3000000000000007,6.3,4.9000000000000004,8.5,8.9,8,7.4,7.4,6.2,7.6,7,9.9,6.5,7.4588235294117657,"Steals Per Game",null,null,6.15,6.9,7.7]
[null,{"$f":"PERCENTRANK($B28:$LZ28,B28)","v":0.16200000000000001},{"$f":"PERCENTRANK($B28:$BT28,C28)","v":0.9},{"$f":"PERCENTRANK($B28:$LZ28,D28)","v":0.28299999999999997},{"$f":"PERCENTRANK($B28:$LZ28,E28)","v":0.63500000000000001},{"$f":"PERCENTRANK($B28:$LZ28,F28)","v":0.59399999999999997},{"$f":"PERCENTRANK($B28:$LZ28,G28)","v":0.90500000000000003},{"$f":"PERCENTRANK($B28:$BT28,H28)","v":0.84199999999999997},{"$f":"PERCENTRANK($B28:$LZ28,I28)","v":0.71599999999999997},{"$f":"PERCENTRANK($B28:$BT28,J28)","v":0.25700000000000001},{"$f":"PERCENTRANK($B28:$LZ28,K28)","v":0.20200000000000001},{"$f":"PERCENTRANK($B28:$LZ28,L28)","v":0.83699999999999997},{"$f":"PERCENTRANK($B28:$BT28,M28)","v":0.64200000000000002},{"$f":"PERCENTRANK($B28:$BT28,N28)","v":0.1},{"$f":"PERCENTRANK($B28:$LZ28,O28)","v":8.1000000000000003E-2},{"$f":"PERCENTRANK($B28:$LZ28,P28)","v":0.47199999999999998},{"$f":"PERCENTRANK($B28:$LZ28,Q28)","v":0.74299999999999999},{"$f":"PERCENTRANK($B28:$BT28,R28)","v":0.314},0.51088235294117645,{"$f":"PERCENTRANK($B28:$BT28,T28)","v":0.114},{"$f":"PERCENTRANK($B28:$BT28,U28)","v":0.35699999999999998},{"$f":"PERCENTRANK($B28:$BT28,V28)","v":0.48499999999999999},{"$f":"PERCENTRANK($B28:$BT28,W28)","v":0.214},{"$f":"PERCENTRANK($B28:$LZ28,X28)","v":0.51300000000000001},{"$f":"PERCENTRANK($B28:$LZ28,Y28)","v":0.95899999999999996},{"$f":"PERCENTRANK($B28:$BT28,Z28)","v":0.871},{"$f":"PERCENTRANK($B28:$BT28,AA28)","v":0.45700000000000002},{"$f":"PERCENTRANK($B28:$LZ28,AB28)","v":0.39100000000000001},{"$f":"PERCENTRANK($B28:$BT28,AC28)","v":0.77100000000000002},{"$f":"PERCENTRANK($B28:$BT28,AD28)","v":0.57099999999999995},{"$f":"PERCENTRANK($B28:$BT28,AE28)","v":4.2000000000000003E-2},{"$f":"PERCENTRANK($B28:$LZ28,AF28)","v":1},{"$f":"PERCENTRANK($B28:$BT28,AG28)","v":0},{"$f":"PERCENTRANK($B28:$BT28,AH28)","v":0.314},{"$f":"PERCENTRANK($B28:$BT28,AI28)","v":0.74199999999999999},{"$f":"PERCENTRANK($B28:$BT28,AJ28)","v":0.17100000000000001},0.46894117647058819,{"$f":"PERCENTRANK($B28:$BT28,AL28)","v":0.6},0.157,0.214,0.6,5.7000000000000002E-2,0.57099999999999995,0.42799999999999999,0.64200000000000002,0.14199999999999999,0.17100000000000001,0.42799999999999999,2.8000000000000001E-2,5.7000000000000002E-2,0.84199999999999997,0.114,0.45700000000000002,0.9,0.37694117647058822,{"$f":"PERCENTRANK($B28:$BT28,BD28)","v":0.8},0.4,0.78500000000000003,0.314,0.95699999999999996,0.28499999999999998,0,0.871,0.94199999999999995,0.8,0.64200000000000002,0.64200000000000002,0.25700000000000001,0.71399999999999997,0.51400000000000001,0.98499999999999999,0.35699999999999998,0.60382352941176465,null,null,null,0.23549999999999999,0.47199999999999998,0.74249999999999994]
["Blocks Per Game",3.9,2.4,2.5,4.9000000000000004,4.7,4.0999999999999996,2.7,3,3.3,4.3,4.3,3.6,3.3,3.3,4.0999999999999996,2.1,2.5,3.4705882352941173,3.8,2.9,3.9,4.8,4.3,3,4.3,3.6,1.9,4.5999999999999996,2.2000000000000002,3.6,3.7,3.1,3.7,4.5,4.8,3.6882352941176477,2.6,2.8,6.5,3,1.9,3.3,3.4,3.4,2.5,4.4000000000000004,3.4,2.2999999999999998,3.7,4.2,3.2,4.2,4.8,3.5058823529411764,6.1,3.5,5.8,4.9000000000000004,4.9000000000000004,3.9,2.1,2.8,3.6,5,2.8,5.8,4,4.2,6.1,7.2,9.1,4.8117647058823518,"Blocks Per Game",null,null,3,3.6882352941176477,4.3499999999999996]
[null,{"$f":"PERCENTRANK($B30:$LZ30,B30)","v":0.56699999999999995},{"$f":"PERCENTRANK($B30:$BT30,C30)","v":8.5000000000000006E-2},{"$f":"PERCENTRANK($B30:$LZ30,D30)","v":9.4E-2},{"$f":"PERCENTRANK($B30:$LZ30,E30)","v":0.86399999999999999},{"$f":"PERCENTRANK($B30:$LZ30,F30)","v":0.79700000000000004},{"$f":"PERCENTRANK($B30:$LZ30,G30)","v":0.621},{"$f":"PERCENTRANK($B30:$BT30,H30)","v":0.157},{"$f":"PERCENTRANK($B30:$LZ30,I30)","v":0.216},{"$f":"PERCENTRANK($B30:$BT30,J30)","v":0.3},{"$f":"PERCENTRANK($B30:$LZ30,K30)","v":0.68899999999999995},{"$f":"PERCENTRANK($B30:$LZ30,L30)","v":0.68899999999999995},{"$f":"PERCENTRANK($B30:$BT30,M30)","v":0.442},{"$f":"PERCENTRANK($B30:$BT30,N30)","v":0.3},{"$f":"PERCENTRANK($B30:$LZ30,O30)","v":0.29699999999999999},{"$f":"PERCENTRANK($B30:$LZ30,P30)","v":0.621},{"$f":"PERCENTRANK($B30:$LZ30,Q30)","v":2.7E-2},{"$f":"PERCENTRANK($B30:$BT30,R30)","v":0.1},0.40388235294117641,{"$f":"PERCENTRANK($B30:$BT30,T30)","v":0.55700000000000005},{"$f":"PERCENTRANK($B30:$BT30,U30)","v":0.214},{"$f":"PERCENTRANK($B30:$BT30,V30)","v":0.57099999999999995},{"$f":"PERCENTRANK($B30:$BT30,W30)","v":0.81399999999999995},{"$f":"PERCENTRANK($B30:$LZ30,X30)","v":0.68899999999999995},{"$f":"PERCENTRANK($B30:$LZ30,Y30)","v":0.216},{"$f":"PERCENTRANK($B30:$BT30,Z30)","v":0.7},{"$f":"PERCENTRANK($B30:$BT30,AA30)","v":0.442},{"$f":"PERCENTRANK($B30:$LZ30,AB30)","v":0},{"$f":"PERCENTRANK($B30:$BT30,AC30)","v":0.78500000000000003},{"$f":"PERCENTRANK($B30:$BT30,AD30)","v":5.7000000000000002E-2},{"$f":"PERCENTRANK($B30:$BT30,AE30)","v":0.442},{"$f":"PERCENTRANK($B30:$LZ30,AF30)","v":0.51300000000000001},{"$f":"PERCENTRANK($B30:$BT30,AG30)","v":0.27100000000000002},{"$f":"PERCENTRANK($B30:$BT30,AH30)","v":0.51400000000000001},{"$f":"PERCENTRANK($B30:$BT30,AI30)","v":0.77100000000000002},{"$f":"PERCENTRANK($B30:$BT30,AJ30)","v":0.81399999999999995},0.49235294117647066,{"$f":"PERCENTRANK($B30:$BT30,AL30)","v":0.14199999999999999},0.17100000000000001,0.97099999999999997,0.22800000000000001,0,0.3,0.35699999999999998,0.35699999999999998,0.1,0.75700000000000001,0.35699999999999998,7.0999999999999994E-2,0.51400000000000001,0.65700000000000003,0.28499999999999998,0.65700000000000003,0.81399999999999995,0.39635294117647063,{"$f":"PERCENTRANK($B30:$BT30,BD30)","v":0.94199999999999995},0.41399999999999998,0.91400000000000003,0.85699999999999998,0.85699999999999998,0.57099999999999995,2.8000000000000001E-2,0.17100000000000001,0.442,0.9,0.17100000000000001,0.91400000000000003,0.61399999999999999,0.65700000000000003,0.94199999999999995,0.98499999999999999,1,0.66935294117647059,null,null,null,0.222,0.49235294117647066,0.72849999999999993]
["Opponents Points Per Game",68.400000000000006,69.5,61.3,66.8,68.099999999999994,66.599999999999994,72.2,64.900000000000006,77.900000000000006,63.3,64.3,61.8,67.5,62.1,68.3,67.599999999999994,66.400000000000006,66.882352941176464,57.7,52.2,66.3,63,68.7,62.3,66.2,65.099999999999994,68,60.8,72.5,61.5,59.6,60.8,67.599999999999994,58.1,54,62.611764705882358,64.5,66,63.8,56.4,68.7,61.5,65.2,58.6,62.3,66.099999999999994,63,69.5,52,61.7,63.9,69.400000000000006,66.3,63.464705882352945,61.9,65.400000000000006,64.5,58.7,62.2,62.8,60.4,65.2,65.3,63.6,57.6,61.2,68.3,57.8,66.099999999999994,60.6,58.8,62.3764705882353,"Opponents Points Per Game",null,null,61.4,63.9,66.699999999999989]
[null,{"$f":"1-(PERCENTRANK($B32:$LZ32,B32))","v":0.10899999999999999},{"$f":"1-(PERCENTRANK($B32:$BT32,C32))","v":5.8000000000000052E-2},{"$f":"1-(PERCENTRANK($B32:$LZ32,D32))","v":0.77100000000000002},{"$f":"1-(PERCENTRANK($B32:$LZ32,E32))","v":0.22999999999999998},{"$f":"1-(PERCENTRANK($B32:$LZ32,F32))","v":0.14900000000000002},{"$f":"1-(PERCENTRANK($B32:$LZ32,G32))","v":0.25700000000000001},{"$f":"1-(PERCENTRANK($B32:$BT32,H32))","v":2.9000000000000026E-2},{"$f":"1-(PERCENTRANK($B32:$LZ32,I32))","v":0.43300000000000005},{"$f":"1-(PERCENTRANK($B32:$BT32,J32))","v":0},{"$f":"1-(PERCENTRANK($B32:$LZ32,K32))","v":0.55499999999999994},{"$f":"1-(PERCENTRANK($B32:$LZ32,L32))","v":0.47299999999999998},{"$f":"1-(PERCENTRANK($B32:$BT32,M32))","v":0.7},{"$f":"1-(PERCENTRANK($B32:$BT32,N32))","v":0.21499999999999997},{"$f":"1-(PERCENTRANK($B32:$LZ32,O32))","v":0.67599999999999993},{"$f":"1-(PERCENTRANK($B32:$LZ32,P32))","v":0.13600000000000001},{"$f":"1-(PERCENTRANK($B32:$LZ32,Q32))","v":0.18999999999999995},{"$f":"1-(PERCENTRANK($B32:$BT32,R32))","v":0.27200000000000002},0.309,{"$f":"1-(PERCENTRANK($B32:$BT32,T32))","v":0.92900000000000005},{"$f":"1-(PERCENTRANK($B32:$BT32,U32))","v":0.98599999999999999},{"$f":"1-(PERCENTRANK($B32:$BT32,V32))","v":0.30000000000000004},{"$f":"1-(PERCENTRANK($B32:$BT32,W32))","v":0.58600000000000008},{"$f":"1-(PERCENTRANK($B32:$LZ32,X32))","v":9.4999999999999973E-2},{"$f":"1-(PERCENTRANK($B32:$LZ32,Y32))","v":0.64900000000000002},{"$f":"1-(PERCENTRANK($B32:$BT32,Z32))","v":0.31499999999999995},{"$f":"1-(PERCENTRANK($B32:$BT32,AA32))","v":0.42900000000000005},{"$f":"1-(PERCENTRANK($B32:$LZ32,AB32))","v":0.16300000000000003},{"$f":"1-(PERCENTRANK($B32:$BT32,AC32))","v":0.8},{"$f":"1-(PERCENTRANK($B32:$BT32,AD32))","v":1.5000000000000013E-2},{"$f":"1-(PERCENTRANK($B32:$BT32,AE32))","v":0.74299999999999999},{"$f":"1-(PERCENTRANK($B32:$LZ32,AF32))","v":0.85199999999999998},{"$f":"1-(PERCENTRANK($B32:$BT32,AG32))","v":0.8},{"$f":"1-(PERCENTRANK($B32:$BT32,AH32))","v":0.19999999999999996},{"$f":"1-(PERCENTRANK($B32:$BT32,AI32))","v":0.9},{"$f":"1-(PERCENTRANK($B32:$BT32,AJ32))","v":0.97199999999999998},0.57258823529411762,{"$f":"1-(PERCENTRANK($B32:$BT32,AL32))","v":0.47199999999999998},0.35799999999999998,0.51500000000000001,0.95799999999999996,9.9999999999999978E-2,0.74299999999999999,0.41500000000000004,0.88600000000000001,0.64300000000000002,0.34299999999999997,0.58600000000000008,5.8000000000000052E-2,1,0.71500000000000008,0.5,7.1999999999999953E-2,0.30000000000000004,0.50964705882352934,{"$f":"1-(PERCENTRANK($B32:$BT32,BD32))","v":0.68599999999999994},0.372,0.47199999999999998,0.872,0.65799999999999992,0.6,0.82899999999999996,0.41500000000000004,0.38600000000000001,0.52900000000000003,0.94299999999999995,0.77200000000000002,0.14300000000000002,0.91500000000000004,0.34299999999999997,0.81499999999999995,0.85799999999999998,0.62399999999999989,null,null,null,0.26450000000000001,0.5,0.75700000000000001]
["Opponent Field Goal Percentage",43.2,43.3,41.4,40.799999999999997,43.9,42.8,44.8,41.5,44.6,41,43.3,40.200000000000003,43.1,39.9,42.6,42.5,44.6,42.558823529411768,39.4,38.700000000000003,40.6,39.6,42.2,40.9,40.6,43.8,45.2,41.3,44.6,40.6,42.3,40.799999999999997,39.9,38.4,40.200000000000003,41.123529411764707,42.4,43.5,38.5,40.5,43.6,42.3,42.4,37.799999999999997,39.700000000000003,42.2,41.4,44.1,38,42.1,43.6,43.4,40.799999999999997,41.547058823529412,37.6,42.2,38.700000000000003,38.6,37.6,39.700000000000003,42.4,44.2,40.799999999999997,40.700000000000003,40.299999999999997,38.1,43.3,37.1,38.6,38.6,36.5,39.705882352941181,"Opponent Field Goal Percentage",null,null,39.799999999999997,41.3,42.95]
[null,{"$f":"1-(PERCENTRANK($B34:$LZ34,B34))","v":0.21699999999999997},{"$f":"1-(PERCENTRANK($B34:$BT34,C34))","v":0.21499999999999997},{"$f":"1-(PERCENTRANK($B34:$LZ34,D34))","v":0.47299999999999998},{"$f":"1-(PERCENTRANK($B34:$LZ34,E34))","v":0.59499999999999997},{"$f":"1-(PERCENTRANK($B34:$LZ34,F34))","v":9.4999999999999973E-2},{"$f":"1-(PERCENTRANK($B34:$LZ34,G34))","v":0.25700000000000001},{"$f":"1-(PERCENTRANK($B34:$BT34,H34))","v":1.5000000000000013E-2},{"$f":"1-(PERCENTRANK($B34:$LZ34,I34))","v":0.44599999999999995},{"$f":"1-(PERCENTRANK($B34:$BT34,J34))","v":5.8000000000000052E-2},{"$f":"1-(PERCENTRANK($B34:$LZ34,K34))","v":0.52800000000000002},{"$f":"1-(PERCENTRANK($B34:$LZ34,L34))","v":0.20299999999999996},{"$f":"1-(PERCENTRANK($B34:$BT34,M34))","v":0.71500000000000008},{"$f":"1-(PERCENTRANK($B34:$BT34,N34))","v":0.24299999999999999},{"$f":"1-(PERCENTRANK($B34:$LZ34,O34))","v":0.73},{"$f":"1-(PERCENTRANK($B34:$LZ34,P34))","v":0.27100000000000002},{"$f":"1-(PERCENTRANK($B34:$LZ34,Q34))","v":0.29800000000000004},{"$f":"1-(PERCENTRANK($B34:$BT34,R34))","v":5.8000000000000052E-2},0.31864705882352934,{"$f":"1-(PERCENTRANK($B34:$BT34,T34))","v":0.8},{"$f":"1-(PERCENTRANK($B34:$BT34,U34))","v":0.82899999999999996},{"$f":"1-(PERCENTRANK($B34:$BT34,V34))","v":0.65799999999999992},{"$f":"1-(PERCENTRANK($B34:$BT34,W34))","v":0.78600000000000003},{"$f":"1-(PERCENTRANK($B34:$LZ34,X34))","v":0.40600000000000003},{"$f":"1-(PERCENTRANK($B34:$LZ34,Y34))","v":0.54099999999999993},{"$f":"1-(PERCENTRANK($B34:$BT34,Z34))","v":0.65799999999999992},{"$f":"1-(PERCENTRANK($B34:$BT34,AA34))","v":0.11499999999999999},{"$f":"1-(PERCENTRANK($B34:$LZ34,AB34))","v":0},{"$f":"1-(PERCENTRANK($B34:$BT34,AC34))","v":0.5},{"$f":"1-(PERCENTRANK($B34:$BT34,AD34))","v":5.8000000000000052E-2},{"$f":"1-(PERCENTRANK($B34:$BT34,AE34))","v":0.65799999999999992},{"$f":"1-(PERCENTRANK($B34:$LZ34,AF34))","v":0.36499999999999999},{"$f":"1-(PERCENTRANK($B34:$BT34,AG34))","v":0.6},{"$f":"1-(PERCENTRANK($B34:$BT34,AH34))","v":0.74299999999999999},{"$f":"1-(PERCENTRANK($B34:$BT34,AI34))","v":0.9},{"$f":"1-(PERCENTRANK($B34:$BT34,AJ34))","v":0.71500000000000008},0.54894117647058815,{"$f":"1-(PERCENTRANK($B34:$BT34,AL34))","v":0.34299999999999997},0.15800000000000003,0.88600000000000001,0.67199999999999993,0.14300000000000002,0.372,0.34299999999999997,0.94299999999999995,0.77200000000000002,0.41500000000000004,0.48599999999999999,8.5999999999999965E-2,0.92900000000000005,0.42900000000000005,0.14300000000000002,0.17200000000000004,0.6,0.46423529411764702,{"$f":"1-(PERCENTRANK($B34:$BT34,BD34))","v":0.97199999999999998},0.41500000000000004,0.82899999999999996,0.872,0.97199999999999998,0.77200000000000002,0.34299999999999997,7.1999999999999953E-2,0.6,0.61499999999999999,0.68599999999999994,0.91500000000000004,0.21499999999999997,0.98599999999999999,0.872,0.872,1,0.70635294117647063,null,null,null,0.25,0.5,0.75750000000000006]
["Opponent 3 Point Percentage",33.299999999999997,38.1,33,28.7,37.9,35.4,35.799999999999997,32.5,33,31.9,36.299999999999997,34,34.1,32.4,32.5,34.200000000000003,31.7,33.811764705882354,30,28.2,34.799999999999997,31.2,35.299999999999997,28.8,30.9,36,31.9,30.7,35.299999999999997,30.7,31.3,32.4,31.1,28.4,32.799999999999997,31.752941176470586,33.1,30.2,34.799999999999997,30.4,35.299999999999997,36.6,34.9,30.3,33.4,31.9,31.5,36.200000000000003,28.1,29.7,33.6,32.200000000000003,33.799999999999997,32.705882352941174,30.4,33.5,32.6,28.5,32.1,31.2,34.1,36,33.1,33.200000000000003,30.9,34.6,31.1,28.2,31.6,31.1,32.4,32.035294117647062,"Opponent 3 Point Percentage",null,null,31.1,32.5,34.1]
[null,{"$f":"1-(PERCENTRANK($B36:$LZ36,B36))","v":0.35199999999999998},{"$f":"1-(PERCENTRANK($B36:$BT36,C36))","v":0},{"$f":"1-(PERCENTRANK($B36:$LZ36,D36))","v":0.41900000000000004},{"$f":"1-(PERCENTRANK($B36:$LZ36,E36))","v":0.93300000000000005},{"$f":"1-(PERCENTRANK($B36:$LZ36,F36))","v":1.4000000000000012E-2},{"$f":"1-(PERCENTRANK($B36:$LZ36,G36))","v":0.10899999999999999},{"$f":"1-(PERCENTRANK($B36:$BT36,H36))","v":9.9999999999999978E-2},{"$f":"1-(PERCENTRANK($B36:$LZ36,I36))","v":0.5},{"$f":"1-(PERCENTRANK($B36:$BT36,J36))","v":0.42900000000000005},{"$f":"1-(PERCENTRANK($B36:$LZ36,K36))","v":0.622},{"$f":"1-(PERCENTRANK($B36:$LZ36,L36))","v":4.1000000000000036E-2},{"$f":"1-(PERCENTRANK($B36:$BT36,M36))","v":0.27200000000000002},{"$f":"1-(PERCENTRANK($B36:$BT36,N36))","v":0.25800000000000001},{"$f":"1-(PERCENTRANK($B36:$LZ36,O36))","v":0.54099999999999993},{"$f":"1-(PERCENTRANK($B36:$LZ36,P36))","v":0.5},{"$f":"1-(PERCENTRANK($B36:$LZ36,Q36))","v":0.21699999999999997},{"$f":"1-(PERCENTRANK($B36:$BT36,R36))","v":0.64300000000000002},0.35,{"$f":"1-(PERCENTRANK($B36:$BT36,T36))","v":0.88600000000000001},{"$f":"1-(PERCENTRANK($B36:$BT36,U36))","v":0.98599999999999999},{"$f":"1-(PERCENTRANK($B36:$BT36,V36))","v":0.19999999999999996},{"$f":"1-(PERCENTRANK($B36:$BT36,W36))","v":0.71500000000000008},{"$f":"1-(PERCENTRANK($B36:$LZ36,X36))","v":0.14900000000000002},{"$f":"1-(PERCENTRANK($B36:$LZ36,Y36))","v":0.91900000000000004},{"$f":"1-(PERCENTRANK($B36:$BT36,Z36))","v":0.78600000000000003},{"$f":"1-(PERCENTRANK($B36:$BT36,AA36))","v":8.5999999999999965E-2},{"$f":"1-(PERCENTRANK($B36:$LZ36,AB36))","v":0.622},{"$f":"1-(PERCENTRANK($B36:$BT36,AC36))","v":0.81499999999999995},{"$f":"1-(PERCENTRANK($B36:$BT36,AD36))","v":0.15800000000000003},{"$f":"1-(PERCENTRANK($B36:$BT36,AE36))","v":0.81499999999999995},{"$f":"1-(PERCENTRANK($B36:$LZ36,AF36))","v":0.69},{"$f":"1-(PERCENTRANK($B36:$BT36,AG36))","v":0.54299999999999993},{"$f":"1-(PERCENTRANK($B36:$BT36,AH36))","v":0.75800000000000001},{"$f":"1-(PERCENTRANK($B36:$BT36,AI36))","v":0.95799999999999996},{"$f":"1-(PERCENTRANK($B36:$BT36,AJ36))","v":0.44299999999999995},0.61935294117647055,{"$f":"1-(PERCENTRANK($B36:$BT36,AL36))","v":0.4},0.872,0.19999999999999996,0.84299999999999997,0.15800000000000003,2.9000000000000026E-2,0.17200000000000004,0.85799999999999998,0.34299999999999997,0.61499999999999999,0.67199999999999993,5.8000000000000052E-2,1,0.9,0.31499999999999995,0.55800000000000005,0.30000000000000004,0.48782352941176477,{"$f":"1-(PERCENTRANK($B36:$BT36,BD36))","v":0.84299999999999997},0.32899999999999996,0.47199999999999998,0.94299999999999995,0.57200000000000006,0.71500000000000008,0.25800000000000001,8.5999999999999965E-2,0.4,0.372,0.78600000000000003,0.21499999999999997,0.75800000000000001,0.98599999999999999,0.65799999999999992,0.75800000000000001,0.54299999999999993,0.57023529411764695,null,null,null,0.25800000000000001,0.5,0.75800000000000001]
["Opponents Rebounds Per Game",36.799999999999997,37.299999999999997,31.5,34.700000000000003,32.299999999999997,34.1,33.5,33.9,36,30,31.8,33.6,31.9,32.4,31.8,33.4,31.8,33.341176470588231,30.7,29,32.9,32.799999999999997,32.6,34.9,34.299999999999997,34.200000000000003,32.5,35.6,34.1,34.6,34.9,30.5,34.299999999999997,32.9,28.3,32.888235294117649,32.5,31.9,33.9,31.4,30.3,29.5,33,31.7,32.4,33.200000000000003,30.3,30.2,31.5,31.4,32.200000000000003,34,34.5,31.994117647058822,33.299999999999997,30.7,33.299999999999997,30.5,36.299999999999997,31.2,31.7,31.4,35.6,31.6,29.6,31.2,33.799999999999997,29.5,34.4,36.299999999999997,31.9,32.488235294117644,"Opponents Rebounds Per Game",null,null,31.45,32.5,34.049999999999997]
["Overall Defensive Skill Set % Tile Ranking",{"$f":"AVERAGE(B37,B35,B33,B31,B29,B27)","v":0.30199999999999999},0.34050000000000002,0.39399999999999996,0.63516666666666666,0.29733333333333334,0.52016666666666667,0.23083333333333333,0.46383333333333332,0.32400000000000001,0.48216666666666663,0.4458333333333333,0.46883333333333327,0.33600000000000002,0.5,0.49766666666666665,0.32450000000000001,0.36683333333333334,0.40762745098039216,{"$f":"AVERAGE(T37,T35,T33,T31,T29,T27)","v":0.56900000000000006},0.56899999999999995,0.45700000000000002,0.65950000000000009,0.43016666666666664,0.59683333333333344,0.70966666666666667,0.27150000000000002,0.23200000000000001,0.71650000000000003,0.20499999999999999,0.47366666666666662,0.59249999999999992,0.40933333333333333,0.53816666666666668,0.76650000000000007,0.53100000000000003,0.51337254901960794,{"$f":"AVERAGE(AL37,AL35,AL33,AL31,AL29,AL27)","v":0.3808333333333333},0.37883333333333336,0.60233333333333328,0.56433333333333335,7.8666666666666676E-2,0.44283333333333336,0.3738333333333333,0.75716666666666654,0.45466666666666661,0.42383333333333328,0.53816666666666668,0.12633333333333335,0.6070000000000001,0.60950000000000004,0.33566666666666672,0.35500000000000004,0.63083333333333336,0.45057843137254899,{"$f":"AVERAGE(BD37,BD35,BD33,BD31,BD29,BD27)","v":0.83566666666666656},0.36200000000000004,0.61199999999999999,0.72866666666666668,0.8168333333333333,0.6213333333333334,0.24299999999999999,0.27383333333333332,0.52349999999999997,0.63600000000000001,0.63083333333333325,0.69766666666666666,0.44300000000000006,0.8666666666666667,0.72149999999999992,0.8071666666666667,0.78583333333333327,0.62385294117647061,"Overall Defensive Skill Set % Tile Ranking",null,null,0.37033333333333329,0.48216666666666663,0.6166666666666667]
["Choose a Team","Alabama","Baylor","Belmont","BYU","California","Cincinnati","Colorado","Colorado St.","Connecticut","Creighton","Davidson","Detroit","Duke","Florida","Florida St.","Georgetown","Gonzaga","Harvard","Indiana","Iona","Iowa St.","Kansas","Kansas St.","Kentucky","Lamar","Lehigh","LIU Brooklyn","Long Beach St.","Louisville","Loyola Maryland","Marquette","Memphis","Michigan","Michigan St.","Mississippi Val.","Missouri","Montana","Murray St.","New Mexico","New Mexico St.","Norfolk St.","North Carolina","North Carolina St.","Notre Dame","Ohio","Ohio St.","Purdue","Saint Louis","San Diego St.","South Dakota St.","South Fla.","Southern Miss.","St. Bonaventure","St. Mary's (CA)","Syracuse","Temple","Texas","UNC Asheville","UNLV","Vanderbilt","VCU","Vermont","Virginia","West Virginia","Western Ky.","Wichita St.","Wisconsin","Xavier"]

{"sheet":"Bracket","index":4,"n_rows":63,"n_cols":28,"rows_kept":63,"cut":false,"hidden":false,"merged":[]}
[null,"(1)","Kentucky",null,null,null,null,null,null,null,null,null,null,null,"Syracuse","(1)"]
[null,null,"Compare",null,null,null,null,null,null,null,null,null,null,null,"Compare"]
[null,"(16)","Western Ky.",null,null,null,null,null,null,null,null,null,null,null,"UNC Asheville","(16)",null,{"$f":"D2","v":0},null,null,null,null,null,null,null,null,null,{"$f":"N2","v":0}]
[null,null,null,"Compare",null,null,null,null,null,null,null,null,null,"Compare",null,null,null,{"$f":"D6","v":0},{"$f":"E4","v":0},null,null,null,null,null,null,null,{"$f":"M4","v":0},{"$f":"N6","v":0}]
[null,"(8)","Iowa St.",null,null,null,null,null,null,null,null,null,null,null,"Kansas St.","(8)",null,null,{"$f":"E12","v":0},null,null,null,null,null,null,null,{"$f":"M12","v":0}]
[null,null,"Compare",null,null,null,null,null,null,null,null,null,null,null,"Compare",null,null,{"$f":"D10","v":0},null,{"$f":"F8","v":0},null,null,null,null,null,{"$f":"L8","v":0},null,{"$f":"N10","v":0}]
[null,"(9)","Connecticut",null,null,null,null,null,null,null,null,null,null,null,"Southern Miss.","(9)",null,{"$f":"D14","v":0},null,{"$f":"F24","v":0},null,null,null,null,null,{"$f":"L24","v":0},null,{"$f":"N14","v":0}]
[null,null,null,null,"Compare",null,null,null,null,null,null,null,"Compare"]
[null,"(5)","Wichita St.",null,null,null,null,null,null,null,null,null,null,null,"Vanderbilt","(5)",null,{"$f":"D18","v":0},null,null,null,null,null,null,null,null,null,{"$f":"N18","v":0}]
[null,null,"Compare",null,null,null,null,null,null,null,null,null,null,null,"Compare",null,null,{"$f":"D22","v":0},{"$f":"E20","v":0},null,null,null,null,null,null,null,{"$f":"M20","v":0},{"$f":"N22","v":0}]
[null,"(12)","VCU",null,null,null,null,null,null,null,null,null,null,null,"Harvard","(12)",null,null,{"$f":"E28","v":0},null,null,null,null,null,null,null,{"$f":"M28","v":0}]
[null,null,null,"Compare",null,null,null,null,null,null,null,null,null,"Compare",null,null,null,{"$f":"D26","v":0},null,null,{"$f":"G16","v":0},null,{"$f":"J26","v":0},null,{"$f":"K16","v":0},null,null,{"$f":"N26","v":0}]
[null,"(4)","Indiana",null,null,null,null,null,null,null,null,null,null,null,"Wisconsin","(4)",null,{"$f":"D30","v":0},null,null,{"$f":"G48","v":0},null,{"$f":"H36","v":0},null,{"$f":"K48","v":0},null,null,{"$f":"N30","v":0}]
[null,null,"Compare",null,null,null,null,null,null,null,null,null,null,null,"Compare"]
[null,"(13)","New Mexico St.",null,null,null,null,null,null,null,null,null,null,null,"Montana","(13)",null,{"$f":"D34","v":0},null,null,null,null,null,null,null,null,null,{"$f":"N34","v":0}]
[null,null,null,null,null,"Compare",null,null,null,null,null,"Compare",null,null,null,null,null,{"$f":"D38","v":0},{"$f":"E36","v":0},null,null,null,null,null,null,null,{"$f":"M36","v":0},{"$f":"N38","v":0}]
[null,"(6)","UNLV",null,null,null,null,null,null,null,null,null,null,null,"Cincinnati","(6)",null,null,{"$f":"E44","v":0},null,null,null,null,null,null,null,{"$f":"M44","v":0}]
[null,null,"Compare",null,null,null,null,null,null,null,null,null,null,null,"Compare",null,null,{"$f":"D42","v":0},null,null,null,null,null,null,null,null,null,{"$f":"N42","v":0}]
[null,"(11)","Colorado",null,null,null,null,null,null,null,null,null,null,null,"Texas","(11)",null,{"$f":"D46","v":0},null,{"$f":"F40","v":0},null,null,null,null,null,null,null,{"$f":"N46","v":0}]
[null,null,null,"Compare",null,null,null,null,null,null,null,null,null,"Compare",null,null,null,null,null,{"$f":"F56","v":0},null,null,null,null,null,{"$f":"L40","v":0}]
[null,"(3)","Baylor",null,null,null,null,null,null,null,null,null,null,null,"Florida St.","(3)",null,{"$f":"D50","v":0},null,null,null,null,null,null,null,{"$f":"L56","v":0},null,{"$f":"N50","v":0}]
[null,null,"Compare",null,null,null,null,null,null,null,null,null,null,null,"Compare",null,null,{"$f":"D54","v":0},{"$f":"E52","v":0},null,null,null,null,null,null,null,{"$f":"M52","v":0},{"$f":"N54","v":0}]
[null,"(14)","South Dakota St.",null,null,null,null,null,null,null,null,null,null,null,"St. Bonaventure","(14)",null,null,{"$f":"E60","v":0},null,null,null,null,null,null,null,{"$f":"M60","v":0}]
[null,null,null,null,"Compare",null,null,null,null,null,null,null,"Compare",null,null,null,null,{"$f":"D58","v":0},null,null,null,null,null,null,null,null,null,{"$f":"N58","v":0}]
[null,"(7)","Notre Dame",null,null,null,null,null,null,null,null,null,null,null,"Gonzaga","(7)",null,{"$f":"D62","v":0},null,null,null,null,null,null,null,null,null,{"$f":"N62","v":0}]
[null,null,"Compare",null,null,null,null,null,null,null,"Compare",null,null,null,"Compare"]
[null,"(10)","Xavier",null,null,null,null,null,null,null,null,null,null,null,"West Virginia","(10)"]
[null,null,null,"Compare",null,null,null,null,null,null,null,null,null,"Compare"]
[null,"(2)","Duke",null,null,null,null,null,null,null,null,null,null,null,"Ohio St.","(2)"]
[null,null,"Compare",null,null,null,null,null,null,null,null,null,null,null,"Compare"]
[null,"(15)","Lehigh",null,null,null,null,null,"Compare",null,null,null,null,null,"Loyola Maryland","(15)"]
[]
[null,"(1)","Michigan St.",null,null,null,null,null,null,null,null,null,null,null,"North Carolina","(1)"]
[null,null,"Compare",null,null,null,null,null,null,null,null,null,null,null,"Compare"]
[null,"(16)","LIU Brooklyn",null,null,null,null,null,null,null,null,null,null,null,"Lamar/Vermont ","(16)"]
[null,null,null,"Compare",null,null,"Compare",null,null,null,null,null,null,"Compare"]
[null,"(8)","Memphis",null,null,null,null,null,null,null,null,null,null,null,"Creighton","(8)"]
[null,null,"Compare",null,null,null,null,null,null,null,null,null,null,null,"Compare"]
[null,"(9)","Saint Louis",null,null,null,null,null,null,null,null,null,null,null,"Alabama","(9)"]
[null,null,null,null,"Compare",null,null,null,null,null,null,null,"Compare"]
[null,"(5)","New Mexico",null,null,null,null,null,null,null,null,null,null,null,"Temple","(5)"]
[null,null,"Compare",null,null,null,null,null,null,null,null,null,null,null,"Compare"]
[null,"(12)","Long Beach St.",null,null,null,null,null,null,null,null,null,null,null,"Cal/S. Florida ","(12)"]
[null,null,null,"Compare",null,null,null,null,null,null,null,null,null,"Compare"]
[null,"(4)","Louisville",null,null,null,null,null,null,null,null,null,null,null,"Michigan","(4)"]
[null,null,"Compare",null,null,null,null,null,null,null,null,null,null,null,"Compare"]
[null,"(13)","Davidson",null,null,null,null,null,null,null,null,null,null,null,"Ohio","(13)"]
[null,null,null,null,null,"Compare",null,null,null,null,null,"Compare"]
[null,"(6)","Murray St.",null,null,null,null,null,null,null,null,null,null,null,"San Diego St.","(6)"]
[null,null,"Compare",null,null,null,null,null,null,null,null,null,null,null,"Compare"]
[null,"(11)","Colorado St.",null,null,null,null,null,null,null,null,null,null,null,"North Carolina St.","(11)"]
[null,null,null,"Compare",null,null,null,null,null,null,null,null,null,"Compare"]
[null,"(3)","Marquette",null,null,null,null,null,null,null,null,null,null,null,"Georgetown","(3)"]
[null,null,"Compare",null,null,null,null,null,null,null,null,null,null,null,"Compare"]
[null,"(14)","BYU",null,null,null,null,null,null,null,null,null,null,null,"Belmont","(14)"]
[null,null,null,null,"Compare",null,null,null,null,null,null,null,"Compare"]
[null,"(7)","Florida",null,null,null,null,null,null,null,null,null,null,null,"St. Mary's (CA)","(7)"]
[null,null,"Compare",null,null,null,null,null,null,null,null,null,null,null,"Compare"]
[null,"(10)","Virginia",null,null,null,null,null,null,null,null,null,null,null,"Purdue","(10)"]
[null,null,null,"Compare",null,null,null,null,null,null,null,null,null,"Compare"]
[null,"(2)","Missouri",null,null,null,null,null,null,null,null,null,null,null,"Kansas","(2)"]
[null,null,"Compare",null,null,null,null,null,null,null,null,null,null,null,"Compare"]
[null,"(15)","Norfolk St.",null,null,null,null,null,null,null,null,null,null,null,"Detroit","(15)"]

{"sheet":"Select a Team PMEC","index":5,"n_rows":39,"n_cols":13,"rows_kept":39,"cut":false,"hidden":false,"merged":[[0,0,0,8]]}
[]
["Performance Management \"Eye Chart\"™                                                                                            NCAA March Madness 2012  68 Teams","Kansas","Syracuse","Michigan St.","Kentucky","Avg. Bottom Quartile Team","Avg. Lower-Middle Quartile Team","Avg. Upper-Middle Quartile Team","Avg. Top Quartile Team"]
["Games Played",{"$f":"HLOOKUP(B$2,'P2012'!$B$2:$BT$38,2,FALSE)","v":33},{"$f":"HLOOKUP(C$2,'P2012'!$B$2:$BT$38,2,FALSE)","v":33},{"$f":"HLOOKUP(D$2,'P2012'!$B$2:$BT$38,2,FALSE)","v":34},{"$f":"HLOOKUP(E$2,'P2012'!$B$2:$BT$38,2,FALSE)","v":34},{"$f":"'NCAA Tournament Teams Eye Chart'!S3","v":563},{"$f":"'NCAA Tournament Teams Eye Chart'!AK3","v":557},{"$f":"'NCAA Tournament Teams Eye Chart'!BC3","v":552},{"$f":"'NCAA Tournament Teams Eye Chart'!BU3","v":566}]
["Winning %",{"$f":"HLOOKUP(B$2,'P2012'!$2:$39,3,FALSE)","v":81.818181818181827},{"$f":"HLOOKUP(C$2,'P2012'!$2:$39,3,FALSE)","v":93.939393939393938},{"$f":"HLOOKUP(D$2,'P2012'!$2:$39,3,FALSE)","v":79.411764705882348},{"$f":"HLOOKUP(E$2,'P2012'!$2:$39,3,FALSE)","v":94.117647058823522},66.935294117647047,71.882352941176478,76.905882352941163,81.847058823529409,null,67.900000000000006,75.900000000000006,79.650000000000006]
["Scoring Margin",{"$f":"HLOOKUP(B$2,'P2012'!$2:$39,4,FALSE)","v":13.8},{"$f":"HLOOKUP(C$2,'P2012'!$2:$39,4,FALSE)","v":15.2},{"$f":"HLOOKUP(D$2,'P2012'!$2:$39,4,FALSE)","v":14.7},{"$f":"HLOOKUP(E$2,'P2012'!$2:$39,4,FALSE)","v":19},6.1176470588235299,8.2882352941176478,9.6117647058823525,12.558823529411764,null,6.55,9.3000000000000007,11.6]
["Rebound Margin",{"$f":"HLOOKUP(B$2,'P2012'!$2:$39,5,FALSE)","v":6.1},{"$f":"HLOOKUP(C$2,'P2012'!$2:$39,5,FALSE)","v":-0.8},{"$f":"HLOOKUP(D$2,'P2012'!$2:$39,5,FALSE)","v":9.6},{"$f":"HLOOKUP(E$2,'P2012'!$2:$39,5,FALSE)","v":7.3},3.2176470588235295,2.4647058823529413,3.770588235294118,4.2941176470588234,null,1.55,3.3,4.95]
["Strength of Schedule",{"$f":"HLOOKUP(B$2,'P2012'!$2:$39,6,FALSE)","v":10},{"$f":"HLOOKUP(C$2,'P2012'!$2:$39,6,FALSE)","v":22},{"$f":"HLOOKUP(D$2,'P2012'!$2:$39,6,FALSE)","v":1},{"$f":"HLOOKUP(E$2,'P2012'!$2:$39,6,FALSE)","v":25},185.88235294117646,82.352941176470594,61.058823529411768,18.176470588235293,null,21.5,61.058823529411768,142.5]
["Ratings Percentage Index",{"$f":"HLOOKUP(B$2,'P2012'!$2:$39,7,FALSE)","v":6},{"$f":"HLOOKUP(C$2,'P2012'!$2:$39,7,FALSE)","v":2},{"$f":"HLOOKUP(D$2,'P2012'!$2:$39,7,FALSE)","v":4},{"$f":"HLOOKUP(E$2,'P2012'!$2:$39,7,FALSE)","v":1},95.882352941176464,43.588235294117645,26,9,null,18.5,35,54.5]
["Team Quartile Performance",null,null,null,null,null,null,null,null,null,{"$error":"#NUM!"},{"$error":"#NUM!"},{"$error":"#NUM!"}]
["Points Per Game",{"$f":"HLOOKUP(B$2,'P2012'!$2:$39,9,FALSE)","v":75},{"$f":"HLOOKUP(C$2,'P2012'!$2:$39,9,FALSE)","v":75.8},{"$f":"HLOOKUP(D$2,'P2012'!$2:$39,9,FALSE)","v":72.5},{"$f":"HLOOKUP(E$2,'P2012'!$2:$39,9,FALSE)","v":77.8},73.011764705882356,70.899999999999991,73.076470588235296,74.941176470588232,null,69.599999999999994,73.011764705882356,76.150000000000006]
[null,null,null,null,null,0.47364705882352948,0.37970588235294117,0.51541176470588235,0.62564705882352933,null,0.23549999999999999,0.48499999999999999,0.75]
["Field Goal Percentage",{"$f":"HLOOKUP(B$2,'P2012'!$2:$39,11,FALSE)","v":48.3},{"$f":"HLOOKUP(C$2,'P2012'!$2:$39,11,FALSE)","v":47.1},{"$f":"HLOOKUP(D$2,'P2012'!$2:$39,11,FALSE)","v":47.6},{"$f":"HLOOKUP(E$2,'P2012'!$2:$39,11,FALSE)","v":48.8},44.764705882352949,45.094117647058823,46.2470588235294,47.247058823529407,null,44.55,46.1,47.4]
[null,null,null,null,null,0.37052941176470588,0.38288235294117651,0.55152941176470582,0.6878823529411765,null,0.249,0.5,0.72799999999999998]
["3 Point Percentage",{"$f":"HLOOKUP(B$2,'P2012'!$2:$39,13,FALSE)","v":35.200000000000003},{"$f":"HLOOKUP(C$2,'P2012'!$2:$39,13,FALSE)","v":34.200000000000003},{"$f":"HLOOKUP(D$2,'P2012'!$2:$39,13,FALSE)","v":35.200000000000003},{"$f":"HLOOKUP(E$2,'P2012'!$2:$39,13,FALSE)","v":37.6},33.852941176470594,34.676470588235297,37.71764705882353,36.035294117647062,null,33.75,35.200000000000003,37.4]
[null,null,null,null,null,0.42785714285714282,0.50671428571428556,0.75447058823529412,0.6271874999999999,null,0.371,0.56600000000000006,0.84775]
["Free Throw Percentage",{"$f":"HLOOKUP(B$2,'P2012'!$2:$39,15,FALSE)","v":69.3},{"$f":"HLOOKUP(C$2,'P2012'!$2:$39,15,FALSE)","v":69.7},{"$f":"HLOOKUP(D$2,'P2012'!$2:$39,15,FALSE)","v":70.099999999999994},{"$f":"HLOOKUP(E$2,'P2012'!$2:$39,15,FALSE)","v":72.400000000000006},71.664705882352933,70.464705882352945,70.917647058823519,71.288235294117669,null,69.45,71.099999999999994,72.95]
[null,null,null,null,null,0.55611764705882338,0.4655294117647058,0.48188235294117648,0.48623529411764704,null,0.2495,0.48599999999999999,0.74950000000000006]
["Assists Per Game",{"$f":"HLOOKUP(B$2,'P2012'!$2:$39,17,FALSE)","v":15.8},{"$f":"HLOOKUP(C$2,'P2012'!$2:$39,17,FALSE)","v":16.100000000000001},{"$f":"HLOOKUP(D$2,'P2012'!$2:$39,17,FALSE)","v":15.7},{"$f":"HLOOKUP(E$2,'P2012'!$2:$39,17,FALSE)","v":13.4},13.700000000000003,14.194117647058821,14.223529411764709,14.747058823529413,null,13,13.8,15.149999999999999]
[null,null,null,null,null,0.40458823529411764,0.46211764705882352,0.48194117647058821,0.60288235294117642,null,0.22800000000000001,0.47199999999999998,0.74950000000000006]
["Turn Overs Per Game",{"$f":"HLOOKUP(B$2,'P2012'!$2:$39,19,FALSE)","v":13.5},{"$f":"HLOOKUP(C$2,'P2012'!$2:$39,19,FALSE)","v":10.5},{"$f":"HLOOKUP(D$2,'P2012'!$2:$39,19,FALSE)","v":13.3},{"$f":"HLOOKUP(E$2,'P2012'!$2:$39,19,FALSE)","v":11.7},13.676470588235293,12.129411764705882,12.552941176470584,12.658823529411766,null,11.9,12.8,13.6]
[null,null,null,null,null,0.65188235294117636,0.38894117647058818,0.47176470588235292,0.45241176470588235,null,0.24249999999999999,0.5,0.73499999999999999]
[null,null,null,null,null,0.50419467787114847,0.42869047619047623,0.51745378151260502,0.57296778711484586,null,0.38399999999999995,0.51745378151260502,0.61078571428571438]
["Offensive Rebounds Per Game",{"$f":"HLOOKUP(B$2,'P2012'!$2:$39,22,FALSE)","v":11.1},{"$f":"HLOOKUP(C$2,'P2012'!$2:$39,22,FALSE)","v":12.7},{"$f":"HLOOKUP(D$2,'P2012'!$2:$39,22,FALSE)","v":11.9},{"$f":"HLOOKUP(E$2,'P2012'!$2:$39,22,FALSE)","v":12.4},12.1,11.229411764705885,10.9,11.611764705882353,null,10.75,11.3,12.25]
[null,null,null,null,null,0.62270588235294122,0.43588235294117655,0.36517647058823532,0.53217647058823536,null,0.24249999999999999,0.47199999999999998,0.75649999999999995]
["Overall Offensive Skill Set % Tile Ranking",{"$f":"HLOOKUP(B$2,'P2012'!$2:$39,24,FALSE)","v":0.74199999999999999},{"$f":"HLOOKUP(C$2,'P2012'!$2:$39,24,FALSE)","v":0.57099999999999995},{"$f":"HLOOKUP(D$2,'P2012'!$2:$39,24,FALSE)","v":0.72799999999999998},{"$f":"HLOOKUP(E$2,'P2012'!$2:$39,24,FALSE)","v":0.82799999999999996},0.47676470588235298,0.36088235294117649,0.52894117647058814,0.64241176470588235,null,0.2495,0.51400000000000001,0.74950000000000006]
["Rebounds Per Game",{"$f":"HLOOKUP(B$2,'P2012'!$2:$39,25,FALSE)","v":37.299999999999997},{"$f":"HLOOKUP(C$2,'P2012'!$2:$39,25,FALSE)","v":35.5},{"$f":"HLOOKUP(D$2,'P2012'!$2:$39,25,FALSE)","v":39.1},{"$f":"HLOOKUP(E$2,'P2012'!$2:$39,25,FALSE)","v":39.200000000000003},36.547058823529412,35.335294117647052,35.764705882352949,36.77058823529412,null,34.799999999999997,36,37.299999999999997]
[null,null,null,null,null,0.5533529411764706,0.37805882352941184,0.46847058823529414,0.56935294117647073,null,0.24199999999999999,0.47199999999999998,0.72849999999999993]
["Steals Per Game",{"$f":"HLOOKUP(B$2,'P2012'!$2:$39,27,FALSE)","v":7.4},{"$f":"HLOOKUP(C$2,'P2012'!$2:$39,27,FALSE)","v":9.9},{"$f":"HLOOKUP(D$2,'P2012'!$2:$39,27,FALSE)","v":7.6},{"$f":"HLOOKUP(E$2,'P2012'!$2:$39,27,FALSE)","v":6.5},7.0647058823529409,7.0058823529411773,6.5588235294117645,7.4588235294117657,null,6.15,6.9,7.7]
[null,null,null,null,null,0.51088235294117645,0.46894117647058819,0.37694117647058822,0.60382352941176465,null,0.23549999999999999,0.47199999999999998,0.74249999999999994]
["Blocks Per Game",{"$f":"HLOOKUP(B$2,'P2012'!$2:$39,29,FALSE)","v":5.8},{"$f":"HLOOKUP(C$2,'P2012'!$2:$39,29,FALSE)","v":7.2},{"$f":"HLOOKUP(D$2,'P2012'!$2:$39,29,FALSE)","v":4.2},{"$f":"HLOOKUP(E$2,'P2012'!$2:$39,29,FALSE)","v":9.1},3.4705882352941173,3.6882352941176477,3.5058823529411764,4.8117647058823518,null,3,3.6882352941176477,4.3499999999999996]
[null,{"$f":"HLOOKUP(B$2,'P2010'!$2:$38,7,FALSE)","v":6},{"$f":"HLOOKUP(C$2,'P2010'!$2:$38,7,FALSE)","v":1},{"$f":"HLOOKUP(D$2,'P2010'!$2:$38,7,FALSE)","v":4},{"$f":"HLOOKUP(E$2,'P2010'!$2:$38,7,FALSE)","v":2},0.40388235294117641,0.49235294117647066,0.39635294117647063,0.66935294117647059,null,0.222,0.49235294117647066,0.72849999999999993]
["Opponents Points Per Game",{"$f":"HLOOKUP(B$2,'P2012'!$2:$39,31,FALSE)","v":61.2},{"$f":"HLOOKUP(C$2,'P2012'!$2:$39,31,FALSE)","v":60.6},{"$f":"HLOOKUP(D$2,'P2012'!$2:$39,31,FALSE)","v":57.8},{"$f":"HLOOKUP(E$2,'P2012'!$2:$39,31,FALSE)","v":58.8},66.882352941176464,62.611764705882358,63.464705882352945,62.3764705882353,null,61.4,63.9,66.699999999999989]
[null,{"$f":"HLOOKUP(B$2,'P2010'!$2:$38,9,FALSE)","v":75},{"$f":"HLOOKUP(C$2,'P2010'!$2:$38,9,FALSE)","v":75.8},{"$f":"HLOOKUP(D$2,'P2010'!$2:$38,9,FALSE)","v":72.5},{"$f":"HLOOKUP(E$2,'P2010'!$2:$38,9,FALSE)","v":77.8},0.309,0.57258823529411762,0.50964705882352934,0.62399999999999989,null,0.26450000000000001,0.5,0.75700000000000001]
["Opponent Field Goal Percentage",{"$f":"HLOOKUP(B$2,'P2012'!$2:$39,33,FALSE)","v":38.1},{"$f":"HLOOKUP(C$2,'P2012'!$2:$39,33,FALSE)","v":38.6},{"$f":"HLOOKUP(D$2,'P2012'!$2:$39,33,FALSE)","v":37.1},{"$f":"HLOOKUP(E$2,'P2012'!$2:$39,33,FALSE)","v":36.5},42.558823529411768,41.123529411764707,41.547058823529412,39.705882352941181,null,39.799999999999997,41.3,42.95]
[null,{"$f":"HLOOKUP(B$2,'P2010'!$2:$38,11,FALSE)","v":48.3},{"$f":"HLOOKUP(C$2,'P2010'!$2:$38,11,FALSE)","v":47.1},{"$f":"HLOOKUP(D$2,'P2010'!$2:$38,11,FALSE)","v":47.6},{"$f":"HLOOKUP(E$2,'P2010'!$2:$38,11,FALSE)","v":48.8},0.31864705882352934,0.54894117647058815,0.46423529411764702,0.70635294117647063,null,0.25,0.5,0.75750000000000006]
["Opponent 3 Point Percentage",{"$f":"HLOOKUP(B$2,'P2012'!$2:$39,35,FALSE)","v":34.6},{"$f":"HLOOKUP(C$2,'P2012'!$2:$39,35,FALSE)","v":31.1},{"$f":"HLOOKUP(D$2,'P2012'!$2:$39,35,FALSE)","v":28.2},{"$f":"HLOOKUP(E$2,'P2012'!$2:$39,35,FALSE)","v":32.4},33.811764705882354,31.752941176470586,32.705882352941174,32.035294117647062,null,31.1,32.5,34.1]
[null,{"$f":"HLOOKUP(B$2,'P2010'!$2:$38,13,FALSE)","v":35.200000000000003},{"$f":"HLOOKUP(C$2,'P2010'!$2:$38,13,FALSE)","v":34.200000000000003},{"$f":"HLOOKUP(D$2,'P2010'!$2:$38,13,FALSE)","v":35.200000000000003},{"$f":"HLOOKUP(E$2,'P2010'!$2:$38,13,FALSE)","v":37.6},0.35,0.61935294117647055,0.48782352941176477,0.57023529411764695,null,0.25800000000000001,0.5,0.75800000000000001]
["Opponents Rebounds Per Game",{"$f":"HLOOKUP(B$2,'P2012'!$2:$39,37,FALSE)","v":31.2},{"$f":"HLOOKUP(C$2,'P2012'!$2:$39,37,FALSE)","v":36.299999999999997},{"$f":"HLOOKUP(D$2,'P2012'!$2:$39,37,FALSE)","v":29.5},{"$f":"HLOOKUP(E$2,'P2012'!$2:$39,37,FALSE)","v":31.9},33.341176470588231,32.888235294117649,31.994117647058822,32.488235294117644,null,31.45,32.5,34.049999999999997]
["Overall Defensive Skill Set % Tile Ranking",{"$f":"HLOOKUP(B$2,'P2012'!$2:$39,38,FALSE)","v":0.69766666666666666},{"$f":"HLOOKUP(C$2,'P2012'!$2:$39,38,FALSE)","v":0.8071666666666667},{"$f":"HLOOKUP(D$2,'P2012'!$2:$39,38,FALSE)","v":0.8666666666666667},{"$f":"HLOOKUP(E$2,'P2012'!$2:$39,38,FALSE)","v":0.78583333333333327},0.40762745098039216,0.51337254901960794,0.45057843137254899,0.62385294117647061,null,0.37033333333333329,0.48216666666666663,0.6166666666666667]